Workbook

Sheet 총 계
B3: 항만운영 통계현황(5월)
B5: [평택·당진항 총계] | K5: (단위 : 척, 톤)
B6: 구분 | D6: 처리실적 | J6: 증감 | L6: 비고
D7: 25년도 실적 | F7: '25.5월 누계 | H7: '26.5월 누계
D8: 선박입출항 | E8: 화물입출항 | F8: 선박입출항(a) | G8: 화물입출항 (b) | H8: 선박입출항 ( c) | I8: 화물입출항 (d) | J8: 선박입출항 (a/c) | K8: 화물입출항 (b/d)
B9: 총계 | D9: 19605 | E9: 114971346 | F9: =SUM('부두별-세부구분'!F10,'부두별-세부구분'!F37,'부두별-세부구분'!F52,'부두별-세부구분'!F67,'부두별-세부구분'!F86,'부두별-세부구분'!F100) -> 7635 | G9: =SUM('부두별-세부구분'!G10,'부두별-세부구분'!G37,'부두별-세부구분'!G52,'부두별-세부구분'!G67,'부두별-세부구분'!G86,'부두별-세부구분'!G100) -> 48089373 | H9: =SUM('부두별-세부구분'!H10,'부두별-세부구분'!H37,'부두별-세부구분'!H52,'부두별-세부구분'!H67,'부두별-세부구분'!H86,'부두별-세부구분'!H100) -> 7635 | I9: =SUM('부두별-세부구분'!I10,'부두별-세부구분'!I37,'부두별-세부구분'!I52,'부두별-세부구분'!I67,'부두별-세부구분'!I86,'부두별-세부구분'!I100) -> 48439105 | J9: =(H9/F9*100)-100 -> 0 | K9: =(I9/G9*100)-100 -> 0.72725423
B11: [국가운영 부두] | K11: (단위 : 척, 톤)
B12: 구분 | D12: 처리실적 | J12: 증감 | L12: 비고
D13: =$D$7 -> 25년도 실적 | F13: =$F$7 -> '25.5월 누계 | H13: =$H$7 -> '26.5월 누계
D14: 선박입출항 | E14: 화물입출항 | F14: 선박입출항 (a) | G14: 화물입출항 (b) | H14: 선박입출항 ( c) | I14: 화물입출항 (d) | J14: 선박입출항 (a/c) | K14: 화물입출항 (b/d)
B15: 합계 | D15: =SUM('부두별-세부구분'!O11,'부두별-세부구분'!O12,'부두별-세부구분'!O13,'부두별-세부구분'!O14,'부두별-세부구분'!O15,'부두별-세부구분'!O16,'부두별-세부구분'!O19,'부두별-세부구분'!O20,'부두별-세부구분'!O21,'부두별-세부구분'!O22,'부두별-세부구분'!O23,'부두별-세부구분'!O24,'부두별-세부구분'!O25,'부두별-세부구분'!O26,'부두별-세부구분'!O30,'부두별-세부구분'!O31,'부두별-세부구분'!O41,'부두별-세부구분'!O42,'부두별-세부구분'!O43,'부두별-세부구분'!O44,'부두별-세부구분'!O45,'부두별-세부구분'!O46,'부두별-세부구분'!O53,'부두별-세부구분'!O59,'부두별-세부구분'!O60,'부두별-세부구분'!O76,'부두별-세부구분'!O77,'부두별-세부구분'!O78,'부두별-세부구분'!O87) -> 12606 | E15: =SUM('부두별-세부구분'!P11,'부두별-세부구분'!P12,'부두별-세부구분'!P13,'부두별-세부구분'!P14,'부두별-세부구분'!P15,'부두별-세부구분'!P16,'부두별-세부구분'!P19,'부두별-세부구분'!P20,'부두별-세부구분'!P21,'부두별-세부구분'!P22,'부두별-세부구분'!P23,'부두별-세부구분'!P24,'부두별-세부구분'!P25,'부두별-세부구분'!P26,'부두별-세부구분'!P30,'부두별-세부구분'!P31,'부두별-세부구분'!P41,'부두별-세부구분'!P42,'부두별-세부구분'!P43,'부두별-세부구분'!P44,'부두별-세부구분'!P45,'부두별-세부구분'!P46,'부두별-세부구분'!P53,'부두별-세부구분'!P59,'부두별-세부구분'!P60,'부두별-세부구분'!P76,'부두별-세부구분'!P77,'부두별-세부구분'!P78,'부두별-세부구분'!P87) -> 46400944 | F15: =SUM('부두별-운영주체구분'!F11,'부두별-운영주체구분'!F33,'부두별-운영주체구분'!F45,'부두별-운영주체구분'!F57,'부두별-운영주체구분'!F73) -> 4718 | G15: =SUM('부두별-운영주체구분'!G11,'부두별-운영주체구분'!G33,'부두별-운영주체구분'!G45,'부두별-운영주체구분'!G57,'부두별-운영주체구분'!G73) -> 20721935 | H15: =SUM('부두별-운영주체구분'!H11,'부두별-운영주체구분'!H33,'부두별-운영주체구분'!H45,'부두별-운영주체구분'!H57,'부두별-운영주체구분'!H73) -> 4811 | I15: =SUM('부두별-운영주체구분'!I11,'부두별-운영주체구분'!I33,'부두별-운영주체구분'!I45,'부두별-운영주체구분'!I57,'부두별-운영주체구분'!I73) -> 16993477 | J15: =(H15/F15*100)-100 -> 1.9711742 | K15: =(I15/G15*100)-100 -> -17.992808
B16: 비중(국가운영부두/총계) | F16: =(F15/F9)*100*1/100 -> 0.61794368 | G16: =(G15/G9)*100*1/100 -> 0.43090466 | H16: =(H15/H9)*100*1/100 -> 0.63012443 | I16: =(I15/I9)*100*1/100 -> 0.35082145
B18: [민간운영 부두] | K18: (단위 : 척, 톤)
B19: 구분 | D19: 처리실적 | J19: 증감 | L19: 비고
D20: =$D$7 -> 25년도 실적 | F20: =$F$7 -> '25.5월 누계 | H20: =$H$7 -> '26.5월 누계
D21: 선박입출항 | E21: 화물입출항 | F21: 선박입출항 (a) | G21: 화물입출항 (b) | H21: 선박입출항 ( c) | I21: 화물입출항 (d) | J21: 선박입출항 (a/c) | K21: 화물입출항 (b/d)
B22: 합계 | D22: =SUM('부두별-세부구분'!O17,'부두별-세부구분'!O18,'부두별-세부구분'!O27,'부두별-세부구분'!O28,'부두별-세부구분'!O29,'부두별-세부구분'!O38,'부두별-세부구분'!O39,'부두별-세부구분'!O40,'부두별-세부구분'!O54,'부두별-세부구분'!O55,'부두별-세부구분'!O56,'부두별-세부구분'!O57,'부두별-세부구분'!O58,'부두별-세부구분'!O61,'부두별-세부구분'!O68,'부두별-세부구분'!O69,'부두별-세부구분'!O70,'부두별-세부구분'!O71,'부두별-세부구분'!O72,'부두별-세부구분'!O73,'부두별-세부구분'!O74,'부두별-세부구분'!O75,'부두별-세부구분'!O79,'부두별-세부구분'!O80,'부두별-세부구분'!O90,'부두별-세부구분'!O91,'부두별-세부구분'!O92,'부두별-세부구분'!O93,'부두별-세부구분'!O94,'부두별-세부구분'!O88,'부두별-세부구분'!O89,'부두별-세부구분'!O101,'부두별-세부구분'!O102,'부두별-세부구분'!O103,'부두별-세부구분'!O104,'부두별-세부구분'!O105,'부두별-세부구분'!O106,'부두별-세부구분'!O107) -> 6999 | E22: =SUM('부두별-세부구분'!P17,'부두별-세부구분'!P18,'부두별-세부구분'!P27,'부두별-세부구분'!P28,'부두별-세부구분'!P29,'부두별-세부구분'!P38,'부두별-세부구분'!P39,'부두별-세부구분'!P40,'부두별-세부구분'!P54,'부두별-세부구분'!P55,'부두별-세부구분'!P56,'부두별-세부구분'!P57,'부두별-세부구분'!P58,'부두별-세부구분'!P61,'부두별-세부구분'!P68,'부두별-세부구분'!P69,'부두별-세부구분'!P70,'부두별-세부구분'!P71,'부두별-세부구분'!P72,'부두별-세부구분'!P73,'부두별-세부구분'!P74,'부두별-세부구분'!P75,'부두별-세부구분'!P79,'부두별-세부구분'!P80,'부두별-세부구분'!P90,'부두별-세부구분'!P91,'부두별-세부구분'!P92,'부두별-세부구분'!P93,'부두별-세부구분'!P94,'부두별-세부구분'!P88,'부두별-세부구분'!P89,'부두별-세부구분'!P101,'부두별-세부구분'!P102,'부두별-세부구분'!P103,'부두별-세부구분'!P104,'부두별-세부구분'!P105,'부두별-세부구분'!P106,'부두별-세부구분'!P107) -> 68570402 | F22: =SUM('부두별-운영주체구분'!R11,'부두별-운영주체구분'!R33,'부두별-운영주체구분'!R45,'부두별-운영주체구분'!R57,'부두별-운영주체구분'!R73,'부두별-운영주체구분'!R86) -> 2917 | G22: =SUM('부두별-운영주체구분'!S11,'부두별-운영주체구분'!S33,'부두별-운영주체구분'!S45,'부두별-운영주체구분'!S57,'부두별-운영주체구분'!S73,'부두별-운영주체구분'!S86) -> 27367438 | H22: =SUM('부두별-운영주체구분'!T11,'부두별-운영주체구분'!T33,'부두별-운영주체구분'!T45,'부두별-운영주체구분'!T57,'부두별-운영주체구분'!T73,'부두별-운영주체구분'!T86) -> 2824 | I22: =SUM('부두별-운영주체구분'!U11,'부두별-운영주체구분'!U33,'부두별-운영주체구분'!U45,'부두별-운영주체구분'!U57,'부두별-운영주체구분'!U73,'부두별-운영주체구분'!U86) -> 31445628 | J22: =(H22/F22*100)-100 -> -3.1882071 | K22: =(I22/G22*100)-100 -> 14.901614
B23: 비중(민간운영부두/총계) | F23: =(F22/F9)*100*1/100 -> 0.38205632 | G23: =(G22/G9)*100*1/100 -> 0.56909534 | H23: =(H22/H9)*100*1/100 -> 0.36987557 | I23: =(I22/I9)*100*1/100 -> 0.64917855
B26: [화물별 입출항 실적-재게] | K26: (단위 : 톤)
B27: 구분 | D27: 계 | E27: 농수산물 | F27: 철재류 | G27: 차량 | H27: 기계제품 | I27: 모래 | J27: 기타 | K27: 액체화물 | L27: 비고
B28: '25년도 | D28: =SUM(E28:K28) -> 48008227 | E28: =품목별!F8 -> 2649169 | F28: =품목별!F19 -> 19202346 | G28: =품목별!F37 -> 6933714 | H28: =품목별!F33 -> 294598 | I28: =품목별!F16 -> 758899 | J28: =품목별!F39 -> 5335651 | K28: =품목별!F27 -> 12833850
B29: '26년도 | D29: =SUM(E29:K29) -> 48439105 | E29: =품목별!G8 -> 2720097 | F29: =품목별!G19 -> 18608262 | G29: =품목별!G37 -> 7464357 | H29: =품목별!G33 -> 417217 | I29: =품목별!G16 -> 859364 | J29: =품목별!G39 -> 5206611 | K29: =품목별!G27 -> 13163197
B30: 증감량 | D30: =D29-D28 -> 430878 | E30: =E29-E28 -> 70928 | F30: =F29-F28 -> -594084 | G30: =G29-G28 -> 530643 | H30: =H29-H28 -> 122619 | I30: =I29-I28 -> 100465 | J30: =J29-J28 -> -129040 | K30: =K29-K28 -> 329347
B31: 증감율 | D31: =(D29/D28*100)-100 -> 0.89750867 | E31: =(E29/E28*100)-100 -> 2.6773679 | F31: =(F29/F28*100)-100 -> -3.0938095 | G31: =(G29/G28*100)-100 -> 7.6530846 | H31: =(H29/H28*100)-100 -> 41.622482 | I31: =(I29/I28*100)-100 -> 13.238257 | J31: =(J29/J28*100)-100 -> -2.418449 | K31: =(K29/K28*100)-100 -> 2.5662369

Sheet 부두별-세부구분
B3: 세부부두별 현황
B6: ○ 동부두 | K6: (단위 : 척, 톤)
B7: 선석명칭 | C7: 접안능력(DWT) | D7: 처리화물 | E7: 운영자 | F7: 처리실적 | J7: 증감 | L7: 비고 | O7: '25누계 | Q7: =I10+I37+I52+I67+I86+I100 -> 48439105
F8: ='총 계'!F7:G7 -> '25.5월 누계 | H8: ='총 계'!H7:I7 -> '26.5월 누계 | O8: 선박 | P8: 화물
F9: 선박입출항 (a) | G9: 화물입출항 (b) | H9: 선박입출항 ( c) | I9: 화물입출항 (d) | J9: 선박입출항 (a/c) | K9: 화물입출항 (b/d)
B10: 소 계 | F10: =SUM(F11:F31) -> 4155 | G10: =SUM(G11:G31) -> 14992593 | H10: =SUM(H11:H31) -> 4459 | I10: =SUM(I11:I31) -> 15751338 | J10: =(H10/F10*100)-100 -> 7.3164862 | K10: =(I10/G10*100)-100 -> 5.060799
B11: 국제1번 | C11: 26000 | D11: 잡화,컨테이너 | E11: 공용 | F11: 79 | G11: 239776 | J11: =(H11/F11*100)-100 -> -100 | K11: =(I11/G11*100)-100 -> -100 | N11: 국제여객부두 1번선석 | O11: 79 | P11: 239776 | Q11: =R11+S11 -> 79 | R11: 40 | S11: 39
B12: 국제2번 | C12: 26000 | D12: 잡화,컨테이너 | E12: 공용 | F12: 139 | G12: 502399 | H12: 129 | I12: 601922 | J12: =(H12/F12*100)-100 -> -7.1942446 | K12: =(I12/G12*100)-100 -> 19.809554 | N12: 국제여객부두 2번선석 | O12: 329 | P12: 1363839 | Q12: =R12+S12 -> 329 | R12: 166 | S12: 163
B13: 국제3번 | G13: 0 | J13: 0 | K13: 0 | N13: 국제여객부두 3번선석 | P13: 0 | Q13: =R13+S13 -> 0
B14: 1 | C14: 50000 | D14: 자동차 | E14: 현대글로비스 | F14: 197 | G14: 1422545 | H14: 181 | I14: 1960783 | J14: =(H14/F14*100)-100 -> -8.1218274 | K14: =(I14/G14*100)-100 -> 37.836272 | N14: 동부두 1번선석 | O14: 462 | P14: 3708984 | Q14: =R14+S14 -> 462 | R14: 246 | S14: 216
B15: 2 | C15: 50000 | D15: 자동차 | E15: PIRT | F15: 195 | G15: 1095123 | H15: 223 | I15: 1227980 | J15: =(H15/F15*100)-100 -> 14.358974 | K15: =(I15/G15*100)-100 -> 12.131697 | N15: 동부두 2번선석 | O15: 482 | P15: 2820209 | Q15: =R15+S15 -> 482 | R15: 232 | S15: 250
B16: 3 | C16: 50000 | D16: 자동차 | F16: 171 | G16: 763928 | H16: 172 | I16: 797315 | J16: =(H16/F16*100)-100 -> 0.58479532 | K16: =(I16/G16*100)-100 -> 4.3704381 | N16: 동부두 3번선석 | O16: 439 | P16: 2012855 | Q16: =R16+S16 -> 439 | R16: 234 | S16: 205
B17: 4 | C17: 50000 | D17: 자동차 | E17: 기아자동차 (운영:대주중공업 하역:대한통운) | F17: 147 | G17: 1657522 | H17: 168 | I17: 1757929 | J17: =(H17/F17*100)-100 -> 14.285714 | K17: =(I17/G17*100)-100 -> 6.0576572 | N17: 동부두 4번선석 | O17: 372 | P17: 4141504 | Q17: =R17+S17 -> 372 | R17: 187 | S17: 185
B18: 5 | C18: 30000 | D18: 자동차 | F18: 179 | G18: 2033438 | H18: 155 | I18: 1683135 | J18: =(H18/F18*100)-100 -> -13.407821 | K18: =(I18/G18*100)-100 -> -17.22713 | N18: 동부두 5번선석 | O18: 416 | P18: 4482097 | Q18: =R18+S18 -> 416 | R18: 215 | S18: 201
B19: 6 | C19: 50000 | D19: 컨테이너 | E19: PCTC | F19: 164 | G19: 1129372 | H19: 164 | I19: 1120674 | J19: =(H19/F19*100)-100 -> 0 | K19: =(I19/G19*100)-100 -> -0.77016253 | L19: 2,000(TEU) | N19: 동부두 6번선석 | O19: 415 | P19: 2721488 | Q19: =R19+S19 -> 415 | R19: 210 | S19: 205
B20: 7 | C20: 50000 | D20: 컨테이너 | F20: 214 | G20: 1279688 | H20: 219 | I20: 1627128 | J20: =(H20/F20*100)-100 -> 2.3364486 | K20: =(I20/G20*100)-100 -> 27.150368 | L20: 2,000(TEU) | N20: 동부두 7번선석 | O20: 506 | P20: 3408310 | Q20: =R20+S20 -> 506 | R20: 249 | S20: 257
B21: 8 | C21: 30000 | D21: 컨테이너 | F21: 151 | G21: 877598 | H21: 168 | I21: 948297 | J21: =(H21/F21*100)-100 -> 11.258278 | K21: =(I21/G21*100)-100 -> 8.0559664 | L21: 2,000(TEU) | N21: 동부두 8번선석 | O21: 368 | P21: 2034478 | Q21: =R21+S21 -> 368 | R21: 186 | S21: 182
B22: 9 | C22: 30000 | D22: 컨테이너 | F22: 251 | G22: 195364 | H22: 293 | I22: 229044 | J22: =(H22/F22*100)-100 -> 16.733068 | K22: =(I22/G22*100)-100 -> 17.239614 | L22: 2,000(TEU) | N22: 동부두 9번선석 | O22: 639 | P22: 509223 | Q22: =R22+S22 -> 639 | R22: 303 | S22: 336
B23: 10 | C23: 30000 | D23: 잡화,컨테이너 | E23: 평택항만㈜ | F23: 149 | G23: 517702 | H23: 139 | I23: 365596 | J23: =(H23/F23*100)-100 -> -6.7114094 | K23: =(I23/G23*100)-100 -> -29.380995 | N23: 동부두 10번선석 | O23: 366 | P23: 1099867 | Q23: =R23+S23 -> 366 | R23: 182 | S23: 184
B24: 11 | C24: 30000 | D24: 잡화,컨테이너 | F24: 111 | G24: 285196 | H24: 147 | I24: 404871 | J24: =(H24/F24*100)-100 -> 32.432432 | K24: =(I24/G24*100)-100 -> 41.96237 | N24: 동부두 11번선석 | O24: 295 | P24: 810170 | Q24: =R24+S24 -> 295 | R24: 149 | S24: 146
B25: 12 | C25: 30000 | D25: 잡화,컨테이너 | F25: 224 | G25: 590263 | H25: 172 | I25: 567740 | J25: =(H25/F25*100)-100 -> -23.214286 | K25: =(I25/G25*100)-100 -> -3.8157567 | N25: 동부두 12번선석 | O25: 492 | P25: 1414677 | Q25: =R25+S25 -> 492 | R25: 240 | S25: 252
B26: 13 | C26: 30000 | D26: 철강 | E26: ㈜유성TNS | F26: 191 | G26: 399898 | H26: 163 | I26: 329442 | J26: =(H26/F26*100)-100 -> -14.659686 | K26: =(I26/G26*100)-100 -> -17.618493 | N26: 동부두 13번선석 | O26: 454 | P26: 914424 | Q26: =R26+S26 -> 454 | R26: 222 | S26: 232
B27: 14 | C27: 30000 | D27: 컨테이너 | E27: ㈜동방 | F27: 149 | G27: 581796 | H27: 141 | I27: 661656 | J27: =(H27/F27*100)-100 -> -5.3691275 | K27: =(I27/G27*100)-100 -> 13.726461 | N27: 동부두 14번선석 | O27: 411 | P27: 1569110 | Q27: =R27+S27 -> 411 | R27: 201 | S27: 210
B28: 15 | C28: 30000 | D28: 컨테이너 | F28: 289 | G28: 958342 | H28: 239 | I28: 948276 | J28: =(H28/F28*100)-100 -> -17.301038 | K28: =(I28/G28*100)-100 -> -1.0503557 | N28: 동부두 15번선석 | O28: 677 | P28: 2479320 | Q28: =R28+S28 -> 677 | R28: 340 | S28: 337
B29: 16 | C29: 30000 | D29: 일반화물 | F29: 133 | G29: 427785 | H29: 168 | I29: 484142 | J29: =(H29/F29*100)-100 -> 26.315789 | K29: =(I29/G29*100)-100 -> 13.174141 | N29: 동부두 16번선석 | O29: 319 | P29: 1038429 | Q29: =R29+S29 -> 319 | R29: 161 | S29: 158
B30: 기타 | C30: 정박.묘박 | E30: 공용 | F30: 1022 | G30: 34858 | H30: 1418 | I30: =5215+30193 -> 35408 | J30: =(H30/F30*100)-100 -> 38.747554 | K30: =(I30/G30*100)-100 -> 1.5778301 | N30: 기타 | O30: 4052 | P30: =995+36024+347+1892+205+26340+26647 -> 92450 | Q30: =SUM(T30:U39) -> 1983 | T30: 196
B31: 관리부두 | C31: 원정리 | D31: 물양장 | F31: 0 | G31: 0 | H31: 0 | I31: 0 | J31: 0 | K31: 0 | N31: 관리부두 물양장 | O31: 0 | P31: 0 | T31: 196
T32: 58
B33: ○ 서부두 | K33: (단위 : 척, 톤) | T33: 46
B34: 선석명칭 | C34: 접안능력(DWT) | D34: 처리화물 | E34: 운영자 | F34: 처리실적 | J34: 증감 | L34: 비고 | T34: 502
F35: ='총 계'!F7:G7 -> '25.5월 누계 | H35: ='총 계'!H7:I7 -> '26.5월 누계 | T35: 40
F36: 선박입출항 (a) | G36: 화물입출항 (b) | H36: 선박입출항 ( c) | I36: 화물입출항 (d) | J36: 선박입출항 (a/c) | K36: 화물입출항 (b/d) | T36: 17
B37: 소 계 | F37: =SUM(F38:F46) -> 986 | G37: =SUM(G38:G46) -> 3699404 | H37: =SUM(H38:H46) -> 969 | I37: =SUM(I38:I46) -> 3684319 | J37: =(H37/F37*100)-100 -> -1.7241379 | K37: =(I37/G37*100)-100 -> -0.40776839 | T37: 24
B38: 1 | C38: 30000 | D38: 시멘트 | E38: 한일시멘트 | F38: 103 | G38: 189889 | H38: 114 | I38: 213004 | J38: =(H38/F38*100)-100 -> 10.679612 | K38: =(I38/G38*100)-100 -> 12.172901 | N38: 서부두 1번선석 | O38: 249 | P38: 465986 | Q38: =R38+S38 -> 249 | R38: 119 | S38: 130 | T38: 70
B39: 2 | C39: 30000 | D39: 시멘트 | E39: 영진글로벌 | F39: 96 | G39: 294979 | H39: 90 | I39: 291173 | J39: =(H39/F39*100)-100 -> -6.25 | K39: =(I39/G39*100)-100 -> -1.2902613 | N39: 서부두 2번선석 | O39: 222 | P39: 695302 | Q39: =R39+S39 -> 222 | R39: 118 | S39: 104 | T39: 834
B40: 3 | C40: 30000 | D40: 시멘트 | E40: 현대·삼표 | F40: 111 | G40: 355796 | H40: 129 | I40: 448524 | J40: =(H40/F40*100)-100 -> 16.216216 | K40: =(I40/G40*100)-100 -> 26.062125 | N40: 서부두 3번선석 | O40: 293 | P40: 933098 | Q40: =R40+S40 -> 293 | R40: 144 | S40: 149
B41: 4 | C41: 30000 | D41: 잡화,벌크 | E41: ㈜평택당진항중앙부두 | F41: 121 | G41: 309949 | H41: 117 | I41: 268217 | J41: =(H41/F41*100)-100 -> -3.3057851 | K41: =(I41/G41*100)-100 -> -13.464151 | N41: 서부두 4번선석 | O41: 288 | P41: 790102 | Q41: =R41+S41 -> 288 | R41: 137 | S41: 151
B42: 5 | C42: 30000 | D42: 잡화,벌크 | F42: 140 | G42: 372574 | H42: 125 | I42: 346332 | J42: =(H42/F42*100)-100 -> -10.714286 | K42: =(I42/G42*100)-100 -> -7.043433 | N42: 서부두 5번선석 | O42: 293 | P42: 943268 | Q42: =R42+S42 -> 293 | R42: 142 | S42: 151
B43: 6 | C43: 30000 | D43: 잡화,벌크 | E43: ㈜평택당진항만 | F43: 118 | G43: 286185 | H43: 112 | I43: 236082 | J43: =(H43/F43*100)-100 -> -5.0847458 | K43: =(I43/G43*100)-100 -> -17.507207 | N43: 서부두 6번선석 | O43: 291 | P43: 750286 | Q43: =R43+S43 -> 291 | R43: 139 | S43: 152
B44: 7 | C44: 30000 | D44: 잡화,벌크 | F44: 114 | G44: 281680 | H44: 89 | I44: 291122 | J44: =(H44/F44*100)-100 -> -21.929825 | K44: =(I44/G44*100)-100 -> 3.3520307 | N44: 서부두 7번선석 | O44: 246 | P44: 687576 | Q44: =R44+S44 -> 246 | R44: 114 | S44: 132
B45: 8 | C45: 50000 | D45: 양곡 | E45: 태영그레인 | F45: 104 | G45: 827079 | H45: 101 | I45: 749645 | J45: =(H45/F45*100)-100 -> -2.8846154 | K45: =(I45/G45*100)-100 -> -9.3623463 | N45: 서부두 8번선석 | O45: 246 | P45: 2111020 | Q45: =R45+S45 -> 246 | R45: 120 | S45: 126
B46: 9 | C46: 50000 | D46: 양곡 | F46: 79 | G46: 781273 | H46: 92 | I46: 840220 | J46: =(H46/F46*100)-100 -> 16.455696 | K46: =(I46/G46*100)-100 -> 7.5449939 | N46: 서부두 9번선석 | O46: 193 | P46: 1831533 | Q46: =R46+S46 -> 193 | R46: 98 | S46: 95
B48: ○ 고대부두 | K48: (단위 : 척, 톤)
B49: 선석명칭 | C49: 접안능력(DWT) | D49: 처리화물 | E49: 운영자 | F49: 처리실적 | J49: 증감 | L49: 비고
F50: ='총 계'!F7:G7 -> '25.5월 누계 | H50: ='총 계'!H7:I7 -> '26.5월 누계
F51: 선박입출항 (a) | G51: 화물입출항 (b) | H51: 선박입출항 ( c) | I51: 화물입출항 (d) | J51: 선박입출항 (a/c) | K51: 화물입출항 (b/d)
B52: 소 계 | F52: =SUM(F53:F61) -> 973 | G52: =SUM(G53:G61) -> 2311292 | H52: =SUM(H53:H61) -> 678 | I52: =SUM(I53:I61) -> 1871018 | J52: =(H52/F52*100)-100 -> -30.318602 | K52: =(I52/G52*100)-100 -> -19.048826
B53: 1 | C53: 5000 | D53: 철재 | E53: 동부제철 | F53: 69 | G53: 7218 | H53: 23 | I53: 12430 | J53: - | K53: - | N53: 고대부두 1번선석 | O53: 104 | P53: 62326 | Q53: =R53+S53 -> 104 | R53: 50 | S53: 54
B54: 2 | C54: 50000 | D54: 철재 | F54: 101 | G54: 207832 | H54: 68 | I54: 100028 | J54: =(H54/F54*100)-100 -> -32.673267 | K54: =(I54/G54*100)-100 -> -51.870742 | N54: 고대부두 2번선석 | O54: 248 | P54: 381813 | Q54: =R54+S54 -> 248 | R54: 120 | S54: 128
B55: 3 | C55: 50000 | D55: 철재 | F55: 243 | G55: 491215 | H55: 212 | I55: 445565 | J55: =(H55/F55*100)-100 -> -12.757202 | K55: =(I55/G55*100)-100 -> -9.293283 | N55: 고대부두 3번선석 | O55: 533 | P55: 1082209 | Q55: =R55+S55 -> 533 | R55: 238 | S55: 295
B56: 4 | C56: 50000 | D56: 철재 | F56: 40 | G56: 78855 | H56: 36 | I56: 83456 | J56: =(H56/F56*100)-100 -> -10 | K56: =(I56/G56*100)-100 -> 5.83476 | N56: 고대부두 4번선석 | O56: 99 | P56: 186772 | Q56: =R56+S56 -> 99 | R56: 54 | S56: 45
B57: 5 | C57: 30000 | D57: 철재 | F57: 37 | G57: 187212 | H57: 25 | I57: 142905 | J57: =(H57/F57*100)-100 -> -32.432432 | K57: =(I57/G57*100)-100 -> -23.666752 | N57: 고대부두 5번선석 | O57: 78 | P57: 397902 | Q57: =R57+S57 -> 78 | R57: 40 | S57: 38
B58: 6 | C58: 30000 | D58: 철재 | F58: 29 | G58: 140097 | H58: 35 | I58: 80890 | J58: =(H58/F58*100)-100 -> 20.689655 | K58: =(I58/G58*100)-100 -> -42.261433 | N58: 고대부두 6번선석 | O58: 72 | P58: 296380 | Q58: =R58+S58 -> 72 | R58: 38 | S58: 34
B59: 7 | C59: 30000 | D59: 잡화 | E59: 당진항만㈜ | F59: 91 | G59: 400102 | H59: 85 | I59: 224454 | J59: =(H59/F59*100)-100 -> -6.5934066 | K59: =(I59/G59*100)-100 -> -43.900805 | N59: 고대부두 7번선석 | O59: 239 | P59: 1056772 | Q59: =R59+S59 -> 239 | R59: 118 | S59: 121
B60: 8 | C60: 50000 | D60: 잡화 | E60: 당진고대부두운영㈜ | F60: 157 | G60: 371876 | H60: 78 | I60: 266807 | J60: =(H60/F60*100)-100 -> -50.318471 | K60: =(I60/G60*100)-100 -> -28.253773 | N60: 고대부두 8번선석 | O60: 329 | P60: 816723 | Q60: =R60+S60 -> 329 | R60: 171 | S60: 158
B61: 9 | C61: 50000 | D61: 철재 | E61: 동국제강 | F61: 206 | G61: 426885 | H61: 116 | I61: 514483 | J61: =(H61/F61*100)-100 -> -43.68932 | K61: =(I61/G61*100)-100 -> 20.520281 | N61: 고대부두 9번선석 | O61: 381 | P61: 1158127 | Q61: =R61+S61 -> 381 | R61: 190 | S61: 191 | IV61: =SUM(B61:IU61) -> 2150945.8
B63: ○ 송악부두 | K63: (단위 : 척, 톤)
B64: 선석명칭 | C64: 접안능력(DWT) | D64: 처리화물 | E64: 운영자 | F64: 처리실적 | J64: 증감 | L64: 비고
F65: ='총 계'!F7:G7 -> '25.5월 누계 | H65: ='총 계'!H7:I7 -> '26.5월 누계
F66: 선박입출항 (a) | G66: 화물입출항 (b) | H66: 선박입출항 ( c) | I66: 화물입출항 (d) | J66: 선박입출항 (a/c) | K66: 화물입출항 (b/d)
B67: 소 계 | F67: =SUM(F68:F80) -> 1098 | G67: =SUM(G68:G80) -> 15474130 | H67: =SUM(H68:H80) -> 1073 | I67: =SUM(I68:I80) -> 15281559 | J67: =(H67/F67*100)-100 -> -2.276867 | K67: =(I67/G67*100)-100 -> -1.2444706
B68: 1 | C68: 5000 | D68: 슬라그 | E68: 현대제철㈜ | F68: 25 | G68: 188299 | H68: 32 | I68: 235467 | J68: =(H68/F68*100)-100 -> 28 | K68: =(I68/G68*100)-100 -> 25.049522 | N68: 송악부두 1번선석 | O68: 73 | P68: 522735 | Q68: =R68+S68 -> 73 | R68: 59 | S68: 14
B69: 2 | C69: 3000 | D69: 타르 | F69: 74 | G69: 69974 | H69: 69 | I69: 64921 | J69: =(H69/F69*100)-100 -> -6.7567568 | K69: =(I69/G69*100)-100 -> -7.2212536 | N69: 송악부두 2번선석 | O69: 187 | P69: 167758 | Q69: =R69+S69 -> 187 | R69: 91 | S69: 96
B70: 3 | C70: 5000 | D70: 철재 | G70: 0 | H70: 0 | J70: 0 | K70: 0 | N70: 송악부두 3번선석 | O70: 0 | P70: 0 | Q70: =R70+S70 -> 0
B71: 4 | C71: 200000 | D71: 철광석 | F71: 117 | G71: 4707855 | H71: 123 | I71: 4918799 | J71: =(H71/F71*100)-100 -> 5.1282051 | K71: =(I71/G71*100)-100 -> 4.4806818 | N71: 송악부두 4번선석 | O71: 308 | P71: 11964177 | Q71: =R71+S71 -> 308 | R71: 151 | S71: 157
B72: 5 | C72: 100000 | D72: 석탄 | F72: 110 | G72: 5126829 | H72: 118 | I72: 4925125 | J72: =(H72/F72*100)-100 -> 7.2727273 | K72: =(I72/G72*100)-100 -> -3.9342837 | N72: 송악부두 5번선석 | O72: 259 | P72: 11610184 | Q72: =R72+S72 -> 259 | R72: 133 | S72: 126
B73: 6 | C73: 50000 | D73: 철재 | F73: 113 | G73: 2020836 | H73: 114 | I73: 2211929 | J73: =(H73/F73*100)-100 -> 0.88495575 | K73: =(I73/G73*100)-100 -> 9.456136 | N73: 송악부두 6번선석 | O73: 259 | P73: 4918804 | Q73: =R73+S73 -> 259 | R73: 134 | S73: 125
B74: 7 | C74: 30000 | D74: 철재 | F74: 16 | G74: 211214 | H74: 21 | I74: 337578 | J74: =(H74/F74*100)-100 -> 31.25 | K74: =(I74/G74*100)-100 -> 59.827474 | N74: 송악부두 7번선석 | O74: 68 | P74: 1037302 | Q74: =R74+S74 -> 68 | R74: 37 | S74: 31
B75: 8 | C75: 20000 | D75: 철재 | F75: 49 | G75: 1086809 | H75: 33 | I75: 739593 | J75: =(H75/F75*100)-100 -> -32.653061 | K75: =(I75/G75*100)-100 -> -31.948208 | N75: 송악부두 8번선석 | O75: 100 | P75: 2192812 | Q75: =R75+S75 -> 100 | R75: 50 | S75: 50
B76: 9 | C76: 50000 | D76: 철재 | E76: 현대제철㈜ (국가부두) | F76: 70 | G76: 94349 | H76: 109 | I76: 155094 | J76: =(H76/F76*100)-100 -> 55.714286 | K76: =(I76/G76*100)-100 -> 64.3833 | N76: 송악부두 9번선석 | O76: 148 | P76: 188133 | Q76: =R76+S76 -> 148 | R76: 63 | S76: 85
B77: 10 | C77: 30000 | D77: 철재 | F77: 53 | G77: 385270 | H77: 55 | I77: 402361 | J77: =(H77/F77*100)-100 -> 3.7735849 | K77: =(I77/G77*100)-100 -> 4.4361097 | N77: 송악부두 10번선석 | O77: 129 | P77: 940788 | Q77: =R77+S77 -> 129 | R77: 64 | S77: 65
B78: 11 | C78: 30000 | D78: 철재 | F78: 225 | G78: 773647 | H78: 197 | I78: 672374 | J78: =(H78/F78*100)-100 -> -12.444444 | K78: =(I78/G78*100)-100 -> -13.090337 | N78: 송악부두 11번선석 | O78: 519 | P78: 1707865 | Q78: =R78+S78 -> 519 | R78: 269 | S78: 250
B79: 12 | C79: 5000 | D79: 철재 | E79: 현대제철㈜ | F79: 177 | G79: 342234 | H79: 153 | I79: 271004 | J79: =(H79/F79*100)-100 -> -13.559322 | K79: =(I79/G79*100)-100 -> -20.813245 | N79: 송악부두 12번선석 | O79: 413 | P79: 814368 | Q79: =R79+S79 -> 413 | R79: 211 | S79: 202
B80: 14 | C80: 30000 | D80: 철재 | F80: 69 | G80: 466814 | H80: 49 | I80: 347314 | J80: =(H80/F80*100)-100 -> -28.985507 | K80: =(I80/G80*100)-100 -> -25.599061 | N80: 송악부두 14번선석 | O80: 155 | P80: 993325 | Q80: =R80+S80 -> 155 | R80: 74 | S80: 81
B82: ○ 돌핀부두 | K82: (단위 : 척, 톤)
B83: 선석명칭 | C83: 접안능력(DWT) | D83: 처리화물 | E83: 운영자 | F83: 처리실적 | J83: 증감 | L83: 비고
F84: ='총 계'!F7:G7 -> '25.5월 누계 | H84: ='총 계'!H7:I7 -> '26.5월 누계
F85: 선박입출항 (a) | G85: 화물입출항 (b) | H85: 선박입출항 ( c) | I85: 화물입출항 (d) | J85: 선박입출항 (a/c) | K85: 화물입출항 (b/d)
B86: 소 계 | F86: =SUM(F87:F94) -> 360 | G86: =SUM(G87:G94) -> 11433820 | H86: =SUM(H87:H94) -> 405 | I86: =SUM(I87:I94) -> 11711728 | J86: =(H86/F86*100)-100 -> 12.5 | K86: =(I86/G86*100)-100 -> 2.4305788
B87: LNG돌핀1 | D87: LNG | E87: 한국가스공사 | F87: 119 | G87: 6497023 | H87: 40 | I87: 2312139 | J87: =(H87/F87*100)-100 -> -66.386555 | K87: =(I87/G87*100)-100 -> -64.412332 | N87: LNG 돌핀 1 | O87: 203 | P87: 11363802 | Q87: =R87+S87 -> 203 | R87: 102 | S87: 101
B88: LNG돌핀2 | D88: LNG | F88: 51 | G88: 3573883 | H88: 120 | I88: 7957363 | J88: =(H88/F88*100)-100 -> 135.29412 | K88: =(I88/G88*100)-100 -> 122.65315 | N88: LNG 돌핀 2 | O88: 169 | P88: 11371087 | Q88: =R88+S88 -> 169 | R88: 82 | S88: 87
B89: 물양장 | D89: 석유제품 | F89: 13 | G89: 24134 | H89: 14 | I89: 22236 | J89: =(H89/F89*100)-100 -> 7.6923077 | K89: =(I89/G89*100)-100 -> -7.8644236 | N89: 한국가스공사 물양장 | O89: 35 | P89: 51905 | Q89: =R89+S89 -> 35 | R89: 16 | S89: 19
B90: LPG돌핀1 | D90: LPG,석유제품 | E90: 석유공사 | G90: 0 | H90: 2 | I90: 3131 | J90: =(H90/F90*100)-100 -> #DIV/0! | K90: =(I90/G90*100)-100 -> #DIV/0! | N90: LPG 돌핀 1 | O90: 15 | P90: 161467 | Q90: =R90+S90 -> 15 | R90: 8 | S90: 7
B91: LPG돌핀2 | D91: LPG | F91: 10 | G91: 22310 | H91: 8 | I91: 12415 | J91: =(H91/F91*100)-100 -> -20 | K91: =(I91/G91*100)-100 -> -44.352308 | N91: LPG 돌핀 2 | O91: 32 | P91: 71994 | Q91: =R91+S91 -> 32 | R91: 13 | S91: 19
B92: 한전돌핀 | D92: 석유제품 | E92: 서부발전 | G92: 0 | H92: 0 | J92: 0 | K92: 0 | N92: 한전돌핀 | O92: 0 | P92: 0 | Q92: =R92+S92 -> 0
B93: 기호돌핀 | D93: 유기화합물 | E93: 기호물류 | F93: 103 | G93: 342590 | H93: 163 | I93: 383229 | J93: =(H93/F93*100)-100 -> 58.252427 | K93: =(I93/G93*100)-100 -> 11.862284 | N93: 기호돌핀 | O93: 285 | P93: 796024 | Q93: =R93+S93 -> 285 | R93: 131 | S93: 154
B94: SK돌핀 | D94: LPG | E94: SK㈜ | F94: 64 | G94: 973880 | H94: 58 | I94: 1021215 | J94: =(H94/F94*100)-100 -> -9.375 | K94: =(I94/G94*100)-100 -> 4.8604551 | N94: SK LPG 돌핀 | O94: 144 | P94: 2238926 | Q94: =R94+S94 -> 144 | R94: 63 | S94: 81
Q95: =R95+S95 -> 0
B96: ○ 모래부두 | K96: (단위 : 척, 톤)
B97: 선석명칭 | C97: 접안능력(DWT) | D97: 처리화물 | E97: 운영자 | F97: 처리실적 | J97: 증감 | L97: 비고
F98: ='총 계'!F7:G7 -> '25.5월 누계 | H98: ='총 계'!H7:I7 -> '26.5월 누계
F99: 선박입출항 (a) | G99: 화물입출항 (b) | H99: 선박입출항 ( c) | I99: 화물입출항 (d) | J99: 선박입출항 (a/c) | K99: 화물입출항 (b/d)
B100: 소 계 | F100: =SUM(F101:F107) -> 63 | G100: =SUM(G101:G107) -> 178134 | H100: =SUM(H101:H107) -> 51 | I100: =SUM(I101:I107) -> 139143 | J100: - | K100: - | L100: ※ 2012년 19월준공
B101: 모래부두 1 | D101: 모래 | E101: 공영해운㈜ | F101: 0 | G101: 0 | H101: 1 | I101: 0 | J101: - | K101: - | N101: 모래부두 1 | O101: 1 | P101: 0 | S101: 1
B102: 모래부두 2 | D102: 모래 | F102: 0 | G102: 0 | H102: 0 | I102: 0 | J102: - | K102: - | N102: 모래부두 2 | O102: 0 | P102: 0
B103: 모래부두 3 | D103: 모래 | F103: 0 | G103: 0 | H103: 0 | I103: 0 | J103: 0 | K103: 0 | N103: 모래부두 3 | O103: 0 | P103: 0
B104: 모래부두 4 | D104: 모래 | F104: 63 | G104: 178134 | H104: 50 | I104: 139143 | J104: 0 | K104: 0 | N104: 모래부두 4 | O104: 126 | P104: 349485 | Q104: =R104+S104 -> 126 | R104: 64 | S104: 62
B105: 모래부두 5 | D105: 모래 | F105: 0 | G105: 0 | H105: 0 | I105: 0 | J105: - | K105: - | N105: 모래부두 5 | O105: 0 | P105: 0
B106: 모래부두 6 | D106: 모래 | F106: 0 | G106: 0 | H106: 0 | I106: 0 | J106: - | K106: - | N106: 모래부두 6 | O106: 0 | P106: 0
B107: 모래부두 7 | D107: 모래 | F107: 0 | G107: 0 | H107: 0 | I107: 0 | J107: 0 | K107: 0 | N107: 모래부두 7 | O107: 0 | P107: 0
...

Sheet 부두별-운영주체구분
B3: 부두 운영주체별 현황
B5: □ 운영주체별 : 국가운영(TOC) | N5: □ 운영주체별 : 민간운영(사설)
B7: ○ 동부두 | K7: (단위 : 척, 톤) | N7: ○ 동부두 | W7: (단위 : 척, 톤)
B8: 선석명칭 | C8: 접안능력(DWT) | D8: 처리화물 | E8: 운영자 | F8: 처리실적 | J8: 증감 | L8: 비고 | N8: 선석명칭 | O8: 접안능력(DWT) | P8: 처리화물 | Q8: 운영자 | R8: 처리실적 | V8: 증감 | X8: 비고
F9: ='총 계'!F7:G7 -> '25.5월 누계 | H9: ='총 계'!H7:I7 -> '26.5월 누계 | R9: =F9 -> '25.5월 누계 | T9: =H9 -> '26.5월 누계
F10: 선박입출항 (a) | G10: 화물입출항 (b) | H10: 선박입출항 (c) | I10: 화물입출항 (d) | J10: 선박입출항 (a/c) | K10: 화물입출항 (b/d) | R10: 선박입출항 (a) | S10: 화물입출항 (b) | T10: 선박입출항 (c) | U10: 화물입출항 (d) | V10: 선박입출항 (a/c) | W10: 화물입출항 (b/d)
B11: 소 계 | F11: =SUM(F12:F27) -> 3258 | G11: =SUM(G12:G27) -> 9333710 | H11: =SUM(H12:H27) -> 3588 | I11: =SUM(I12:I27) -> 10216200 | J11: =IFERROR((H11/F11*100)-100,"_") -> 10.128913 | K11: =IFERROR((I11/G11*100)-100,"-") -> 9.4548684 | N11: 소 계 | R11: =SUM(R12:R16) -> 897 | S11: =SUM(S12:S16) -> 5658883 | T11: =SUM(T12:T16) -> 871 | U11: =SUM(U12:U16) -> 5535138 | V11: =IFERROR((T11/R11*100)-100,"_") -> -2.8985507 | W11: =IFERROR((U11/S11*100)-100,"-") -> -2.186739
B12: 국제1번 | C12: 26000 | D12: 잡화,컨테이너 | F12: =VLOOKUP(B12,'부두별-세부구분'!$B$11:$F$31,5,0) -> 79 | G12: =VLOOKUP(B12,'부두별-세부구분'!$B$11:$G$31,6,0) -> 239776 | H12: =VLOOKUP(B12,'부두별-세부구분'!$B$11:$H$31,7,0) -> 0 | I12: =VLOOKUP(B12,'부두별-세부구분'!$B$11:$I$31,8,0) -> 0 | J12: =IFERROR((H12/F12*100)-100,"_") -> -100 | K12: =IFERROR((I12/G12*100)-100,"-") -> -100 | N12: 4 | O12: 50000 | P12: 자동차 | Q12: 기아자동차 (운영:대주중공업 하역:대한통운) | R12: =VLOOKUP(N12,'부두별-세부구분'!$B$11:$F$30,5,0) -> 147 | S12: =VLOOKUP(N12,'부두별-세부구분'!$B$11:$G$30,6,0) -> 1657522 | T12: =VLOOKUP(N12,'부두별-세부구분'!$B$11:$H$30,7,0) -> 168 | U12: =VLOOKUP(N12,'부두별-세부구분'!$B$11:$I$30,8,0) -> 1757929 | V12: =IFERROR((T12/R12*100)-100,"_") -> 14.285714 | W12: =IFERROR((U12/S12*100)-100,"_") -> 6.0576572
B13: 국제2번 | C13: 26000 | D13: 잡화,컨테이너 | F13: =VLOOKUP(B13,'부두별-세부구분'!$B$11:$F$31,5,0) -> 139 | G13: =VLOOKUP(B13,'부두별-세부구분'!$B$11:$G$31,6,0) -> 502399 | H13: =VLOOKUP(B13,'부두별-세부구분'!$B$11:$H$31,7,0) -> 129 | I13: =VLOOKUP(B13,'부두별-세부구분'!$B$11:$I$31,8,0) -> 601922 | J13: =IFERROR((H13/F13*100)-100,"_") -> -7.1942446 | K13: =IFERROR((I13/G13*100)-100,"-") -> 19.809554 | N13: 5 | O13: 30000 | P13: 자동차 | R13: =VLOOKUP(N13,'부두별-세부구분'!$B$11:$F$30,5,0) -> 179 | S13: =VLOOKUP(N13,'부두별-세부구분'!$B$11:$G$30,6,0) -> 2033438 | T13: =VLOOKUP(N13,'부두별-세부구분'!$B$11:$H$30,7,0) -> 155 | U13: =VLOOKUP(N13,'부두별-세부구분'!$B$11:$I$30,8,0) -> 1683135 | V13: =IFERROR((T13/R13*100)-100,"_") -> -13.407821 | W13: =IFERROR((U13/S13*100)-100,"_") -> -17.22713
B14: 국제3번 | F14: 0 | G14: 0 | H14: 0 | I14: 0 | J14: =IFERROR((H14/F14*100)-100,"_") -> _ | K14: =IFERROR((I14/G14*100)-100,"-") -> - | N14: 14 | O14: 30000 | P14: 컨테이너 | Q14: ㈜동방 | R14: =VLOOKUP(N14,'부두별-세부구분'!$B$11:$F$30,5,0) -> 149 | S14: =VLOOKUP(N14,'부두별-세부구분'!$B$11:$G$30,6,0) -> 581796 | T14: =VLOOKUP(N14,'부두별-세부구분'!$B$11:$H$30,7,0) -> 141 | U14: =VLOOKUP(N14,'부두별-세부구분'!$B$11:$I$30,8,0) -> 661656 | V14: =IFERROR((T14/R14*100)-100,"_") -> -5.3691275 | W14: =IFERROR((U14/S14*100)-100,"_") -> 13.726461
B15: 1 | C15: 50000 | D15: 자동차 | E15: 현대글로비스 | F15: =VLOOKUP(B15,'부두별-세부구분'!$B$11:$F$31,5,0) -> 197 | G15: =VLOOKUP(B15,'부두별-세부구분'!$B$11:$G$31,6,0) -> 1422545 | H15: =VLOOKUP(B15,'부두별-세부구분'!$B$11:$H$31,7,0) -> 181 | I15: =VLOOKUP(B15,'부두별-세부구분'!$B$11:$I$31,8,0) -> 1960783 | J15: =IFERROR((H15/F15*100)-100,"_") -> -8.1218274 | K15: =IFERROR((I15/G15*100)-100,"-") -> 37.836272 | N15: 15 | O15: 30000 | P15: 컨테이너 | R15: =VLOOKUP(N15,'부두별-세부구분'!$B$11:$F$30,5,0) -> 289 | S15: =VLOOKUP(N15,'부두별-세부구분'!$B$11:$G$30,6,0) -> 958342 | T15: =VLOOKUP(N15,'부두별-세부구분'!$B$11:$H$30,7,0) -> 239 | U15: =VLOOKUP(N15,'부두별-세부구분'!$B$11:$I$30,8,0) -> 948276 | V15: =IFERROR((T15/R15*100)-100,"_") -> -17.301038 | W15: =IFERROR((U15/S15*100)-100,"_") -> -1.0503557
B16: 2 | C16: 50000 | D16: 자동차 | E16: PIRT | F16: =VLOOKUP(B16,'부두별-세부구분'!$B$11:$F$31,5,0) -> 195 | G16: =VLOOKUP(B16,'부두별-세부구분'!$B$11:$G$31,6,0) -> 1095123 | H16: =VLOOKUP(B16,'부두별-세부구분'!$B$11:$H$31,7,0) -> 223 | I16: =VLOOKUP(B16,'부두별-세부구분'!$B$11:$I$31,8,0) -> 1227980 | J16: =IFERROR((H16/F16*100)-100,"_") -> 14.358974 | K16: =IFERROR((I16/G16*100)-100,"-") -> 12.131697 | N16: 16 | O16: 30000 | P16: 컨테이너 | R16: =VLOOKUP(N16,'부두별-세부구분'!$B$11:$F$30,5,0) -> 133 | S16: =VLOOKUP(N16,'부두별-세부구분'!$B$11:$G$30,6,0) -> 427785 | T16: =VLOOKUP(N16,'부두별-세부구분'!$B$11:$H$30,7,0) -> 168 | U16: =VLOOKUP(N16,'부두별-세부구분'!$B$11:$I$30,8,0) -> 484142 | V16: =IFERROR((T16/R16*100)-100,"_") -> 26.315789 | W16: =IFERROR((U16/S16*100)-100,"_") -> 13.174141 | X16: 한시적:잡화
B17: 3 | C17: 50000 | D17: 자동차 | F17: =VLOOKUP(B17,'부두별-세부구분'!$B$11:$F$31,5,0) -> 171 | G17: =VLOOKUP(B17,'부두별-세부구분'!$B$11:$G$31,6,0) -> 763928 | H17: =VLOOKUP(B17,'부두별-세부구분'!$B$11:$H$31,7,0) -> 172 | I17: =VLOOKUP(B17,'부두별-세부구분'!$B$11:$I$31,8,0) -> 797315 | J17: =IFERROR((H17/F17*100)-100,"_") -> 0.58479532 | K17: =IFERROR((I17/G17*100)-100,"-") -> 4.3704381
B18: 6 | C18: 50000 | D18: 컨테이너 | E18: PCTC | F18: =VLOOKUP(B18,'부두별-세부구분'!$B$11:$F$31,5,0) -> 164 | G18: =VLOOKUP(B18,'부두별-세부구분'!$B$11:$G$31,6,0) -> 1129372 | H18: =VLOOKUP(B18,'부두별-세부구분'!$B$11:$H$31,7,0) -> 164 | I18: =VLOOKUP(B18,'부두별-세부구분'!$B$11:$I$31,8,0) -> 1120674 | J18: =IFERROR((H18/F18*100)-100,"_") -> 0 | K18: =IFERROR((I18/G18*100)-100,"-") -> -0.77016253 | L18: 2,000 (TEU)
B19: 7 | C19: 50000 | D19: 컨테이너 | F19: =VLOOKUP(B19,'부두별-세부구분'!$B$11:$F$31,5,0) -> 214 | G19: =VLOOKUP(B19,'부두별-세부구분'!$B$11:$G$31,6,0) -> 1279688 | H19: =VLOOKUP(B19,'부두별-세부구분'!$B$11:$H$31,7,0) -> 219 | I19: =VLOOKUP(B19,'부두별-세부구분'!$B$11:$I$31,8,0) -> 1627128 | J19: =IFERROR((H19/F19*100)-100,"_") -> 2.3364486 | K19: =IFERROR((I19/G19*100)-100,"-") -> 27.150368 | L19: 2,000 (TEU)
B20: 8 | C20: 30000 | D20: 컨테이너 | F20: =VLOOKUP(B20,'부두별-세부구분'!$B$11:$F$31,5,0) -> 151 | G20: =VLOOKUP(B20,'부두별-세부구분'!$B$11:$G$31,6,0) -> 877598 | H20: =VLOOKUP(B20,'부두별-세부구분'!$B$11:$H$31,7,0) -> 168 | I20: =VLOOKUP(B20,'부두별-세부구분'!$B$11:$I$31,8,0) -> 948297 | J20: =IFERROR((H20/F20*100)-100,"_") -> 11.258278 | K20: =IFERROR((I20/G20*100)-100,"-") -> 8.0559664 | L20: 2,000 (TEU)
B21: 9 | C21: 30000 | D21: 컨테이너 | F21: =VLOOKUP(B21,'부두별-세부구분'!$B$11:$F$31,5,0) -> 251 | G21: =VLOOKUP(B21,'부두별-세부구분'!$B$11:$G$31,6,0) -> 195364 | H21: =VLOOKUP(B21,'부두별-세부구분'!$B$11:$H$31,7,0) -> 293 | I21: =VLOOKUP(B21,'부두별-세부구분'!$B$11:$I$31,8,0) -> 229044 | J21: =IFERROR((H21/F21*100)-100,"_") -> 16.733068 | K21: =IFERROR((I21/G21*100)-100,"-") -> 17.239614 | L21: 2,000 (TEU)
B22: 10 | C22: 30000 | D22: 잡화,컨테이너 | E22: 평택항만㈜ | F22: =VLOOKUP(B22,'부두별-세부구분'!$B$11:$F$31,5,0) -> 149 | G22: =VLOOKUP(B22,'부두별-세부구분'!$B$11:$G$31,6,0) -> 517702 | H22: =VLOOKUP(B22,'부두별-세부구분'!$B$11:$H$31,7,0) -> 139 | I22: =VLOOKUP(B22,'부두별-세부구분'!$B$11:$I$31,8,0) -> 365596 | J22: =IFERROR((H22/F22*100)-100,"_") -> -6.7114094 | K22: =IFERROR((I22/G22*100)-100,"-") -> -29.380995
B23: 11 | C23: 30000 | D23: 잡화,컨테이너 | F23: =VLOOKUP(B23,'부두별-세부구분'!$B$11:$F$31,5,0) -> 111 | G23: =VLOOKUP(B23,'부두별-세부구분'!$B$11:$G$31,6,0) -> 285196 | H23: =VLOOKUP(B23,'부두별-세부구분'!$B$11:$H$31,7,0) -> 147 | I23: =VLOOKUP(B23,'부두별-세부구분'!$B$11:$I$31,8,0) -> 404871 | J23: =IFERROR((H23/F23*100)-100,"_") -> 32.432432 | K23: =IFERROR((I23/G23*100)-100,"-") -> 41.96237
B24: 12 | C24: 30000 | D24: 잡화,컨테이너 | F24: =VLOOKUP(B24,'부두별-세부구분'!$B$11:$F$31,5,0) -> 224 | G24: =VLOOKUP(B24,'부두별-세부구분'!$B$11:$G$31,6,0) -> 590263 | H24: =VLOOKUP(B24,'부두별-세부구분'!$B$11:$H$31,7,0) -> 172 | I24: =VLOOKUP(B24,'부두별-세부구분'!$B$11:$I$31,8,0) -> 567740 | J24: =IFERROR((H24/F24*100)-100,"_") -> -23.214286 | K24: =IFERROR((I24/G24*100)-100,"-") -> -3.8157567
B25: 13 | C25: 30000 | D25: 철강 | E25: ㈜유성TNS | F25: =VLOOKUP(B25,'부두별-세부구분'!$B$11:$F$31,5,0) -> 191 | G25: =VLOOKUP(B25,'부두별-세부구분'!$B$11:$G$31,6,0) -> 399898 | H25: =VLOOKUP(B25,'부두별-세부구분'!$B$11:$H$31,7,0) -> 163 | I25: =VLOOKUP(B25,'부두별-세부구분'!$B$11:$I$31,8,0) -> 329442 | J25: =IFERROR((H25/F25*100)-100,"_") -> -14.659686 | K25: =IFERROR((I25/G25*100)-100,"-") -> -17.618493
B26: 기타 | C26: 정박.묘박 | E26: 공용 | F26: =VLOOKUP(B26,'부두별-세부구분'!$B$11:$F$31,5,0) -> 1022 | G26: =VLOOKUP(B26,'부두별-세부구분'!$B$11:$G$31,6,0) -> 34858 | H26: =VLOOKUP(B26,'부두별-세부구분'!$B$11:$H$31,7,0) -> 1418 | I26: =VLOOKUP(B26,'부두별-세부구분'!$B$11:$I$31,8,0) -> 35408 | J26: =IFERROR((H26/F26*100)-100,"_") -> 38.747554 | K26: =IFERROR((I26/G26*100)-100,"-") -> 1.5778301
B27: 관리부두 | C27: 원정리 | D27: 물양장 | F27: =VLOOKUP(B27,'부두별-세부구분'!$B$11:$F$31,5,0) -> 0 | G27: =VLOOKUP(B27,'부두별-세부구분'!$B$11:$G$31,6,0) -> 0 | H27: =VLOOKUP(B27,'부두별-세부구분'!$B$11:$H$31,7,0) -> 0 | I27: =VLOOKUP(B27,'부두별-세부구분'!$B$11:$I$31,8,0) -> 0 | J27: =IFERROR((H27/F27*100)-100,"_") -> _ | K27: =IFERROR((I27/G27*100)-100,"-") -> -
B29: ○ 서부두 | K29: (단위 : 척, 톤) | N29: ○ 서부두 | W29: (단위 : 척, 톤)
B30: 선석명칭 | C30: 접안능력(DWT) | D30: 처리화물 | E30: 운영자 | F30: 처리실적 | J30: 증감 | L30: 비고 | N30: 선석명칭 | O30: 접안능력(DWT) | P30: 처리화물 | Q30: 운영자 | R30: 처리실적 | V30: 증감 | X30: 비고
F31: ='총 계'!F7:G7 -> '25.5월 누계 | H31: ='총 계'!H7:I7 -> '26.5월 누계 | R31: =F9 -> '25.5월 누계 | T31: =H9 -> '26.5월 누계
F32: 선박입출항 (a) | G32: 화물입출항 (b) | H32: 선박입출항 (c) | I32: 화물입출항 (d) | J32: 선박입출항 (a/c) | K32: 화물입출항 (b/d) | R32: 선박입출항 (a) | S32: 화물입출항 (b) | T32: 선박입출항 (c) | U32: 화물입출항 (d) | V32: 선박입출항 (a/c) | W32: 화물입출항 (b/d)
B33: 소 계 | F33: =SUM(F34:F39) -> 676 | G33: =SUM(G34:G39) -> 2858740 | H33: =SUM(H34:H39) -> 636 | I33: =SUM(I34:I39) -> 2731618 | J33: =IFERROR((H33/F33*100)-100,"_") -> -5.9171598 | K33: =IFERROR((I33/G33*100)-100,"-") -> -4.4467842 | N33: 소 계 | R33: =SUM(R34:R36) -> 310 | S33: =SUM(S34:S36) -> 840664 | T33: =SUM(T34:T36) -> 333 | U33: =SUM(U34:U36) -> 952701 | V33: =IFERROR((T33/R33*100)-100,"_") -> 7.4193548 | W33: =IFERROR((U33/S33*100)-100,"-") -> 13.327203
B34: 4 | C34: 30000 | D34: 잡화,벌크 | E34: ㈜평택당진항 중앙부두 | F34: =IFERROR(VLOOKUP(B34,'부두별-세부구분'!$B$38:$F$46,5,0),"-") -> 121 | G34: =IFERROR(VLOOKUP(B34,'부두별-세부구분'!$B$38:$G$46,6,0),"-") -> 309949 | H34: =IFERROR(VLOOKUP(B34,'부두별-세부구분'!$B$38:$H$46,7,0),"-") -> 117 | I34: =IFERROR(VLOOKUP(B34,'부두별-세부구분'!$B$38:$I$46,8,0),"-") -> 268217 | J34: =IFERROR((H34/F34*100)-100,"_") -> -3.3057851 | K34: =IFERROR((I34/G34*100)-100,"-") -> -13.464151 | N34: 1 | O34: 30000 | P34: 시멘트 | Q34: 현대.삼표 | R34: =IFERROR(VLOOKUP(N34,'부두별-세부구분'!$B$38:$F$46,5,0),"-") -> 103 | S34: =IFERROR(VLOOKUP(N34,'부두별-세부구분'!$B$38:$G$46,6,0),"-") -> 189889 | T34: =IFERROR(VLOOKUP(N34,'부두별-세부구분'!$B$38:$H$46,7,0),"-") -> 114 | U34: =IFERROR(VLOOKUP(N34,'부두별-세부구분'!$B$38:$I$46,8,0),"-") -> 213004 | V34: =IFERROR((T34/R34*100)-100,"_") -> 10.679612 | W34: =IFERROR((U34/S34*100)-100,"-") -> 12.172901
B35: 5 | C35: 30000 | D35: 잡화,벌크 | F35: =IFERROR(VLOOKUP(B35,'부두별-세부구분'!$B$38:$F$46,5,0),"-") -> 140 | G35: =IFERROR(VLOOKUP(B35,'부두별-세부구분'!$B$38:$G$46,6,0),"-") -> 372574 | H35: =IFERROR(VLOOKUP(B35,'부두별-세부구분'!$B$38:$H$46,7,0),"-") -> 125 | I35: =IFERROR(VLOOKUP(B35,'부두별-세부구분'!$B$38:$I$46,8,0),"-") -> 346332 | J35: =IFERROR((H35/F35*100)-100,"_") -> -10.714286 | K35: =IFERROR((I35/G35*100)-100,"-") -> -7.043433 | N35: 2 | O35: 30000 | P35: 시멘트 | Q35: 영진글로벌 | R35: =IFERROR(VLOOKUP(N35,'부두별-세부구분'!$B$38:$F$46,5,0),"-") -> 96 | S35: =IFERROR(VLOOKUP(N35,'부두별-세부구분'!$B$38:$G$46,6,0),"-") -> 294979 | T35: =IFERROR(VLOOKUP(N35,'부두별-세부구분'!$B$38:$H$46,7,0),"-") -> 90 | U35: =IFERROR(VLOOKUP(N35,'부두별-세부구분'!$B$38:$I$46,8,0),"-") -> 291173 | V35: =IFERROR((T35/R35*100)-100,"_") -> -6.25 | W35: =IFERROR((U35/S35*100)-100,"-") -> -1.2902613
B36: 6 | C36: 30000 | D36: 잡화,벌크 | E36: ㈜평택당진항만 | F36: =IFERROR(VLOOKUP(B36,'부두별-세부구분'!$B$38:$F$46,5,0),"-") -> 118 | G36: =IFERROR(VLOOKUP(B36,'부두별-세부구분'!$B$38:$G$46,6,0),"-") -> 286185 | H36: =IFERROR(VLOOKUP(B36,'부두별-세부구분'!$B$38:$H$46,7,0),"-") -> 112 | I36: =IFERROR(VLOOKUP(B36,'부두별-세부구분'!$B$38:$I$46,8,0),"-") -> 236082 | J36: =IFERROR((H36/F36*100)-100,"_") -> -5.0847458 | K36: =IFERROR((I36/G36*100)-100,"-") -> -17.507207 | N36: 3 | O36: 30000 | P36: 시멘트 | Q36: 한일시멘트 | R36: =IFERROR(VLOOKUP(N36,'부두별-세부구분'!$B$38:$F$46,5,0),"-") -> 111 | S36: =IFERROR(VLOOKUP(N36,'부두별-세부구분'!$B$38:$G$46,6,0),"-") -> 355796 | T36: =IFERROR(VLOOKUP(N36,'부두별-세부구분'!$B$38:$H$46,7,0),"-") -> 129 | U36: =IFERROR(VLOOKUP(N36,'부두별-세부구분'!$B$38:$I$46,8,0),"-") -> 448524 | V36: =IFERROR((T36/R36*100)-100,"_") -> 16.216216 | W36: =IFERROR((U36/S36*100)-100,"-") -> 26.062125
B37: 7 | C37: 30000 | D37: 잡화,벌크 | F37: =IFERROR(VLOOKUP(B37,'부두별-세부구분'!$B$38:$F$46,5,0),"-") -> 114 | G37: =IFERROR(VLOOKUP(B37,'부두별-세부구분'!$B$38:$G$46,6,0),"-") -> 281680 | H37: =IFERROR(VLOOKUP(B37,'부두별-세부구분'!$B$38:$H$46,7,0),"-") -> 89 | I37: =IFERROR(VLOOKUP(B37,'부두별-세부구분'!$B$38:$I$46,8,0),"-") -> 291122 | J37: =IFERROR((H37/F37*100)-100,"_") -> -21.929825 | K37: =IFERROR((I37/G37*100)-100,"-") -> 3.3520307
B38: 8 | C38: 50000 | D38: 양곡 | E38: 태영그레인 | F38: =IFERROR(VLOOKUP(B38,'부두별-세부구분'!$B$38:$F$46,5,0),"-") -> 104 | G38: =IFERROR(VLOOKUP(B38,'부두별-세부구분'!$B$38:$G$46,6,0),"-") -> 827079 | H38: =IFERROR(VLOOKUP(B38,'부두별-세부구분'!$B$38:$H$46,7,0),"-") -> 101 | I38: =IFERROR(VLOOKUP(B38,'부두별-세부구분'!$B$38:$I$46,8,0),"-") -> 749645 | J38: =IFERROR((H38/F38*100)-100,"_") -> -2.8846154 | K38: =IFERROR((I38/G38*100)-100,"-") -> -9.3623463
B39: 9 | C39: 50000 | D39: 양곡 | F39: =IFERROR(VLOOKUP(B39,'부두별-세부구분'!$B$38:$F$46,5,0),"-") -> 79 | G39: =IFERROR(VLOOKUP(B39,'부두별-세부구분'!$B$38:$G$46,6,0),"-") -> 781273 | H39: =IFERROR(VLOOKUP(B39,'부두별-세부구분'!$B$38:$H$46,7,0),"-") -> 92 | I39: =IFERROR(VLOOKUP(B39,'부두별-세부구분'!$B$38:$I$46,8,0),"-") -> 840220 | J39: =IFERROR((H39/F39*100)-100,"_") -> 16.455696 | K39: =IFERROR((I39/G39*100)-100,"-") -> 7.5449939
B41: ○ 고대부두 | K41: (단위 : 척, 톤) | N41: ○ 고대부두 | W41: (단위 : 척, 톤)
B42: 선석명칭 | C42: 접안능력(DWT) | D42: 처리화물 | E42: 운영자 | F42: 처리실적 | J42: 증감 | L42: 비고 | N42: 선석명칭 | O42: 접안능력(DWT) | P42: 처리화물 | Q42: 운영자 | R42: 처리실적 | V42: 증감 | X42: 비고
F43: ='총 계'!F7:G7 -> '25.5월 누계 | H43: ='총 계'!H7:I7 -> '26.5월 누계 | R43: =F9 -> '25.5월 누계 | T43: =H9 -> '26.5월 누계
F44: 선박입출항 (a) | G44: 화물입출항 (b) | H44: 선박입출항 (c) | I44: 화물입출항 (d) | J44: 선박입출항 (a/c) | K44: 화물입출항 (b/d) | R44: 선박입출항 (a) | S44: 화물입출항 (b) | T44: 선박입출항 (c) | U44: 화물입출항 (d) | V44: 선박입출항 (a/c) | W44: 화물입출항 (b/d)
B45: 소 계 | F45: =SUM(F46:F48) -> 317 | G45: =SUM(G46:G48) -> 779196 | H45: =SUM(H46:H48) -> 186 | I45: =SUM(I46:I48) -> 503691 | J45: =IFERROR((H45/F45*100)-100,"_") -> -41.324921 | K45: =IFERROR((I45/G45*100)-100,"-") -> -35.357599 | N45: 소 계 | R45: =SUM(R46:R51) -> 656 | S45: =SUM(S46:S51) -> 1532096 | T45: =SUM(T46:T51) -> 492 | U45: =SUM(U46:U51) -> 1367327 | V45: =IFERROR((T45/R45*100)-100,"_") -> -25 | W45: =IFERROR((U45/S45*100)-100,"_") -> -10.754483
B46: 1 | C46: 5000 | D46: 철강 | E46: 동부제철 | F46: =IFERROR(VLOOKUP(B46,'부두별-세부구분'!$B$53:$F$61,5,0),"-") -> 69 | G46: =IFERROR(VLOOKUP(B46,'부두별-세부구분'!$B$53:$G$61,6,0),"-") -> 7218 | H46: =IFERROR(VLOOKUP(B46,'부두별-세부구분'!$B$53:$H$61,7,0),"-") -> 23 | I46: =IFERROR(VLOOKUP(B46,'부두별-세부구분'!$B$53:$I$61,8,0),"-") -> 12430 | J46: =IFERROR((H46/F46*100)-100,"_") -> -66.666667 | K46: =IFERROR((I46/G46*100)-100,"-") -> 72.208368 | N46: 2 | O46: 50000 | P46: 철강 | Q46: 동부제철 | R46: =IFERROR(VLOOKUP(N46,'부두별-세부구분'!$B$53:$F$61,5,0),"-") -> 101 | S46: =IFERROR(VLOOKUP(N46,'부두별-세부구분'!$B$53:$G$61,6,0),"-") -> 207832 | T46: =IFERROR(VLOOKUP(N46,'부두별-세부구분'!$B$53:$H$61,7,0),"-") -> 68 | U46: =IFERROR(VLOOKUP(N46,'부두별-세부구분'!$B$53:$I$61,8,0),"-") -> 100028 | V46: =IFERROR((T46/R46*100)-100,"_") -> -32.673267 | W46: =IFERROR((U46/S46*100)-100,"_") -> -51.870742
B47: 7 | C47: 30000 | D47: 잡화 | E47: 당진항만㈜ | F47: =IFERROR(VLOOKUP(B47,'부두별-세부구분'!$B$53:$F$61,5,0),"-") -> 91 | G47: =IFERROR(VLOOKUP(B47,'부두별-세부구분'!$B$53:$G$61,6,0),"-") -> 400102 | H47: =IFERROR(VLOOKUP(B47,'부두별-세부구분'!$B$53:$H$61,7,0),"-") -> 85 | I47: =IFERROR(VLOOKUP(B47,'부두별-세부구분'!$B$53:$I$61,8,0),"-") -> 224454 | J47: =IFERROR((H47/F47*100)-100,"_") -> -6.5934066 | K47: =IFERROR((I47/G47*100)-100,"-") -> -43.900805 | N47: 3 | O47: 50000 | P47: 철강 | R47: =IFERROR(VLOOKUP(N47,'부두별-세부구분'!$B$53:$F$61,5,0),"-") -> 243 | S47: =IFERROR(VLOOKUP(N47,'부두별-세부구분'!$B$53:$G$61,6,0),"-") -> 491215 | T47: =IFERROR(VLOOKUP(N47,'부두별-세부구분'!$B$53:$H$61,7,0),"-") -> 212 | U47: =IFERROR(VLOOKUP(N47,'부두별-세부구분'!$B$53:$I$61,8,0),"-") -> 445565 | V47: =IFERROR((T47/R47*100)-100,"_") -> -12.757202 | W47: =IFERROR((U47/S47*100)-100,"_") -> -9.293283
B48: 8 | C48: 50000 | D48: 잡화 | E48: 당진고대부두운영㈜ | F48: =IFERROR(VLOOKUP(B48,'부두별-세부구분'!$B$53:$F$61,5,0),"-") -> 157 | G48: =IFERROR(VLOOKUP(B48,'부두별-세부구분'!$B$53:$G$61,6,0),"-") -> 371876 | H48: =IFERROR(VLOOKUP(B48,'부두별-세부구분'!$B$53:$H$61,7,0),"-") -> 78 | I48: =IFERROR(VLOOKUP(B48,'부두별-세부구분'!$B$53:$I$61,8,0),"-") -> 266807 | J48: =IFERROR((H48/F48*100)-100,"_") -> -50.318471 | K48: =IFERROR((I48/G48*100)-100,"-") -> -28.253773 | N48: 4 | O48: 50000 | P48: 철강 | R48: =IFERROR(VLOOKUP(N48,'부두별-세부구분'!$B$53:$F$61,5,0),"-") -> 40 | S48: =IFERROR(VLOOKUP(N48,'부두별-세부구분'!$B$53:$G$61,6,0),"-") -> 78855 | T48: =IFERROR(VLOOKUP(N48,'부두별-세부구분'!$B$53:$H$61,7,0),"-") -> 36 | U48: =IFERROR(VLOOKUP(N48,'부두별-세부구분'!$B$53:$I$61,8,0),"-") -> 83456 | V48: =IFERROR((T48/R48*100)-100,"_") -> -10 | W48: =IFERROR((U48/S48*100)-100,"_") -> 5.83476
N49: 5 | O49: 30000 | P49: 철강 | R49: =IFERROR(VLOOKUP(N49,'부두별-세부구분'!$B$53:$F$61,5,0),"-") -> 37 | S49: =IFERROR(VLOOKUP(N49,'부두별-세부구분'!$B$53:$G$61,6,0),"-") -> 187212 | T49: =IFERROR(VLOOKUP(N49,'부두별-세부구분'!$B$53:$H$61,7,0),"-") -> 25 | U49: =IFERROR(VLOOKUP(N49,'부두별-세부구분'!$B$53:$I$61,8,0),"-") -> 142905 | V49: =IFERROR((T49/R49*100)-100,"_") -> -32.432432 | W49: =IFERROR((U49/S49*100)-100,"_") -> -23.666752
N50: 6 | O50: 30000 | P50: 철강 | R50: =IFERROR(VLOOKUP(N50,'부두별-세부구분'!$B$53:$F$61,5,0),"-") -> 29 | S50: =IFERROR(VLOOKUP(N50,'부두별-세부구분'!$B$53:$G$61,6,0),"-") -> 140097 | T50: =IFERROR(VLOOKUP(N50,'부두별-세부구분'!$B$53:$H$61,7,0),"-") -> 35 | U50: =IFERROR(VLOOKUP(N50,'부두별-세부구분'!$B$53:$I$61,8,0),"-") -> 80890 | V50: =IFERROR((T50/R50*100)-100,"_") -> 20.689655 | W50: =IFERROR((U50/S50*100)-100,"_") -> -42.261433
N51: 9 | O51: 50000 | P51: 철강 | Q51: 동국제강 | R51: =IFERROR(VLOOKUP(N51,'부두별-세부구분'!$B$53:$F$61,5,0),"-") -> 206 | S51: =IFERROR(VLOOKUP(N51,'부두별-세부구분'!$B$53:$G$61,6,0),"-") -> 426885 | T51: =IFERROR(VLOOKUP(N51,'부두별-세부구분'!$B$53:$H$61,7,0),"-") -> 116 | U51: =IFERROR(VLOOKUP(N51,'부두별-세부구분'!$B$53:$I$61,8,0),"-") -> 514483 | V51: =IFERROR((T51/R51*100)-100,"_") -> -43.68932 | W51: =IFERROR((U51/S51*100)-100,"_") -> 20.520281
B53: ○ 현대제철 | K53: (단위 : 척, 톤) | N53: ○ 현대제철 | W53: (단위 : 척, 톤)
B54: 선석명칭 | C54: 접안능력(DWT) | D54: 처리화물 | E54: 운영자 | F54: 처리실적 | J54: 증감 | L54: 비고 | N54: 선석명칭 | O54: 접안능력(DWT) | P54: 처리화물 | Q54: 운영자 | R54: 처리실적 | V54: 증감 | X54: 비고
F55: ='총 계'!F7:G7 -> '25.5월 누계 | H55: ='총 계'!H7:I7 -> '26.5월 누계 | R55: =F9 -> '25.5월 누계 | T55: =H9 -> '26.5월 누계
F56: 선박입출항 (a) | G56: 화물입출항 (b) | H56: 선박입출항 (c) | I56: 화물입출항 (d) | J56: 선박입출항 (a/c) | K56: 화물입출항 (b/d) | R56: 선박입출항 (a) | S56: 화물입출항 (b) | T56: 선박입출항 (c) | U56: 화물입출항 (d) | V56: 선박입출항 (a/c) | W56: 화물입출항 (b/d)
B57: 소 계 | F57: =SUM(F58:F60) -> 348 | G57: =SUM(G58:G60) -> 1253266 | H57: =SUM(H58:H60) -> 361 | I57: =SUM(I58:I60) -> 1229829 | J57: =IFERROR((H57/F57*100)-100,"_") -> 3.7356322 | K57: =IFERROR((I57/G57*100)-100,"-") -> -1.8700739 | N57: 소 계 | R57: =SUM(R58:R67) -> 750 | S57: =SUM(S58:S67) -> 14220864 | T57: =SUM(T58:T67) -> 712 | U57: =SUM(U58:U67) -> 14051730 | V57: =IFERROR((T57/R57*100)-100,"_") -> -5.0666667 | W57: =IFERROR((U57/S57*100)-100,"_") -> -1.189337
B58: 9 | C58: 50000 | D58: 철재 | E58: 현대제철㈜ (국가부두) | F58: =IFERROR(VLOOKUP(B58,'부두별-세부구분'!$B$68:$F$80,5,0),"-") -> 70 | G58: =IFERROR(VLOOKUP(B58,'부두별-세부구분'!$B$68:$G$80,6,0),"-") -> 94349 | H58: =IFERROR(VLOOKUP(B58,'부두별-세부구분'!$B$68:$H$80,7,0),"-") -> 109 | I58: =IFERROR(VLOOKUP(B58,'부두별-세부구분'!$B$68:$I$80,8,0),"-") -> 155094 | J58: =IFERROR((H58/F58*100)-100,"_") -> 55.714286 | K58: =IFERROR((I58/G58*100)-100,"-") -> 64.3833 | N58: 1 | O58: 5000 | P58: 슬라그 | Q58: 현대제철㈜ | R58: =IFERROR(VLOOKUP(N58,'부두별-세부구분'!$B$68:$F$80,5,0),"-") -> 25 | S58: =IFERROR(VLOOKUP(N58,'부두별-세부구분'!$B$68:$G$80,6,0),"-") -> 188299 | T58: =IFERROR(VLOOKUP(N58,'부두별-세부구분'!$B$68:$H$80,7,0),"-") -> 32 | U58: =IFERROR(VLOOKUP(N58,'부두별-세부구분'!$B$68:$I$80,8,0),"-") -> 235467 | V58: =IFERROR((T58/R58*100)-100,"_") -> 28 | W58: =IFERROR((U58/S58*100)-100,"_") -> 25.049522
B59: 10 | C59: 30000 | D59: 철재 | F59: =IFERROR(VLOOKUP(B59,'부두별-세부구분'!$B$68:$F$80,5,0),"-") -> 53 | G59: =IFERROR(VLOOKUP(B59,'부두별-세부구분'!$B$68:$G$80,6,0),"-") -> 385270 | H59: =IFERROR(VLOOKUP(B59,'부두별-세부구분'!$B$68:$H$80,7,0),"-") -> 55 | I59: =IFERROR(VLOOKUP(B59,'부두별-세부구분'!$B$68:$I$80,8,0),"-") -> 402361 | J59: =IFERROR((H59/F59*100)-100,"_") -> 3.7735849 | K59: =IFERROR((I59/G59*100)-100,"-") -> 4.4361097 | N59: 2 | O59: 3000 | P59: 타르 | R59: =IFERROR(VLOOKUP(N59,'부두별-세부구분'!$B$68:$F$80,5,0),"-") -> 74 | S59: =IFERROR(VLOOKUP(N59,'부두별-세부구분'!$B$68:$G$80,6,0),"-") -> 69974 | T59: =IFERROR(VLOOKUP(N59,'부두별-세부구분'!$B$68:$H$80,7,0),"-") -> 69 | U59: =IFERROR(VLOOKUP(N59,'부두별-세부구분'!$B$68:$I$80,8,0),"-") -> 64921 | V59: =IFERROR((T59/R59*100)-100,"_") -> -6.7567568 | W59: =IFERROR((U59/S59*100)-100,"_") -> -7.2212536
B60: 11 | C60: 30000 | D60: 철재 | F60: =IFERROR(VLOOKUP(B60,'부두별-세부구분'!$B$68:$F$80,5,0),"-") -> 225 | G60: =IFERROR(VLOOKUP(B60,'부두별-세부구분'!$B$68:$G$80,6,0),"-") -> 773647 | H60: =IFERROR(VLOOKUP(B60,'부두별-세부구분'!$B$68:$H$80,7,0),"-") -> 197 | I60: =IFERROR(VLOOKUP(B60,'부두별-세부구분'!$B$68:$I$80,8,0),"-") -> 672374 | J60: =IFERROR((H60/F60*100)-100,"_") -> -12.444444 | K60: =IFERROR((I60/G60*100)-100,"-") -> -13.090337 | N60: 3 | O60: 5000 | P60: 철강 | R60: =IFERROR(VLOOKUP(N60,'부두별-세부구분'!$B$68:$F$80,5,0),"-") -> 0 | S60: =IFERROR(VLOOKUP(N60,'부두별-세부구분'!$B$68:$G$80,6,0),"-") -> 0 | T60: =IFERROR(VLOOKUP(N60,'부두별-세부구분'!$B$68:$H$80,7,0),"-") -> 0 | U60: =IFERROR(VLOOKUP(N60,'부두별-세부구분'!$B$68:$I$80,8,0),"-") -> 0 | V60: =IFERROR((T60/R60*100)-100,"_") -> _ | W60: =IFERROR((U60/S60*100)-100,"_") -> _
N61: 4 | O61: 200000 | P61: 철광석 | R61: =IFERROR(VLOOKUP(N61,'부두별-세부구분'!$B$68:$F$80,5,0),"-") -> 117 | S61: =IFERROR(VLOOKUP(N61,'부두별-세부구분'!$B$68:$G$80,6,0),"-") -> 4707855 | T61: =IFERROR(VLOOKUP(N61,'부두별-세부구분'!$B$68:$H$80,7,0),"-") -> 123 | U61: =IFERROR(VLOOKUP(N61,'부두별-세부구분'!$B$68:$I$80,8,0),"-") -> 4918799 | V61: =IFERROR((T61/R61*100)-100,"_") -> 5.1282051 | W61: =IFERROR((U61/S61*100)-100,"_") -> 4.4806818
N62: 5 | O62: 100000 | P62: 석타 | R62: =IFERROR(VLOOKUP(N62,'부두별-세부구분'!$B$68:$F$80,5,0),"-") -> 110 | S62: =IFERROR(VLOOKUP(N62,'부두별-세부구분'!$B$68:$G$80,6,0),"-") -> 5126829 | T62: =IFERROR(VLOOKUP(N62,'부두별-세부구분'!$B$68:$H$80,7,0),"-") -> 118 | U62: =IFERROR(VLOOKUP(N62,'부두별-세부구분'!$B$68:$I$80,8,0),"-") -> 4925125 | V62: =IFERROR((T62/R62*100)-100,"_") -> 7.2727273 | W62: =IFERROR((U62/S62*100)-100,"_") -> -3.9342837
N63: 6 | O63: 50000 | P63: 철강 | R63: =IFERROR(VLOOKUP(N63,'부두별-세부구분'!$B$68:$F$80,5,0),"-") -> 113 | S63: =IFERROR(VLOOKUP(N63,'부두별-세부구분'!$B$68:$G$80,6,0),"-") -> 2020836 | T63: =IFERROR(VLOOKUP(N63,'부두별-세부구분'!$B$68:$H$80,7,0),"-") -> 114 | U63: =IFERROR(VLOOKUP(N63,'부두별-세부구분'!$B$68:$I$80,8,0),"-") -> 2211929 | V63: =IFERROR((T63/R63*100)-100,"_") -> 0.88495575 | W63: =IFERROR((U63/S63*100)-100,"_") -> 9.456136
N64: 7 | O64: 30000 | P64: 철강 | R64: =IFERROR(VLOOKUP(N64,'부두별-세부구분'!$B$68:$F$80,5,0),"-") -> 16 | S64: =IFERROR(VLOOKUP(N64,'부두별-세부구분'!$B$68:$G$80,6,0),"-") -> 211214 | T64: =IFERROR(VLOOKUP(N64,'부두별-세부구분'!$B$68:$H$80,7,0),"-") -> 21 | U64: =IFERROR(VLOOKUP(N64,'부두별-세부구분'!$B$68:$I$80,8,0),"-") -> 337578 | V64: =IFERROR((T64/R64*100)-100,"_") -> 31.25 | W64: =IFERROR((U64/S64*100)-100,"_") -> 59.827474
N65: 8 | O65: 20000 | P65: 철강 | R65: =IFERROR(VLOOKUP(N65,'부두별-세부구분'!$B$68:$F$80,5,0),"-") -> 49 | S65: =IFERROR(VLOOKUP(N65,'부두별-세부구분'!$B$68:$G$80,6,0),"-") -> 1086809 | T65: =IFERROR(VLOOKUP(N65,'부두별-세부구분'!$B$68:$H$80,7,0),"-") -> 33 | U65: =IFERROR(VLOOKUP(N65,'부두별-세부구분'!$B$68:$I$80,8,0),"-") -> 739593 | V65: =IFERROR((T65/R65*100)-100,"_") -> -32.653061 | W65: =IFERROR((U65/S65*100)-100,"_") -> -31.948208
N66: 12 | O66: 5000 | P66: 철강 | R66: =IFERROR(VLOOKUP(N66,'부두별-세부구분'!$B$68:$F$80,5,0),"-") -> 177 | S66: =IFERROR(VLOOKUP(N66,'부두별-세부구분'!$B$68:$G$80,6,0),"-") -> 342234 | T66: =IFERROR(VLOOKUP(N66,'부두별-세부구분'!$B$68:$H$80,7,0),"-") -> 153 | U66: =IFERROR(VLOOKUP(N66,'부두별-세부구분'!$B$68:$I$80,8,0),"-") -> 271004 | V66: =IFERROR((T66/R66*100)-100,"_") -> -13.559322 | W66: =IFERROR((U66/S66*100)-100,"_") -> -20.813245
N67: 14 | O67: 5000 | P67: 철강 | R67: =IFERROR(VLOOKUP(N67,'부두별-세부구분'!$B$68:$F$80,5,0),"-") -> 69 | S67: =IFERROR(VLOOKUP(N67,'부두별-세부구분'!$B$68:$G$80,6,0),"-") -> 466814 | T67: =IFERROR(VLOOKUP(N67,'부두별-세부구분'!$B$68:$H$80,7,0),"-") -> 49 | U67: =IFERROR(VLOOKUP(N67,'부두별-세부구분'!$B$68:$I$80,8,0),"-") -> 347314 | V67: =IFERROR((T67/R67*100)-100,"_") -> -28.985507 | W67: =IFERROR((U67/S67*100)-100,"_") -> -25.599061
B69: ○ 돌핀부두 | K69: (단위 : 척, 톤) | N69: ○ 돌핀부두 | W69: (단위 : 척, 톤)
B70: 선석명칭 | C70: 접안능력(DWT) | D70: 처리화물 | E70: 운영자 | F70: 처리실적 | J70: 증감 | L70: 비고 | N70: 선석명칭 | O70: 접안능력(DWT) | P70: 처리화물 | Q70: 운영자 | R70: 처리실적 | V70: 증감 | X70: 비고
F71: ='총 계'!F7:G7 -> '25.5월 누계 | H71: ='총 계'!H7:I7 -> '26.5월 누계 | R71: =F9 -> '25.5월 누계 | T71: =H9 -> '26.5월 누계
F72: 선박입출항 (a) | G72: 화물입출항 (b) | H72: 선박입출항 (c) | I72: 화물입출항 (d) | J72: 선박입출항 (a/c) | K72: 화물입출항 (b/d) | R72: 선박입출항 (a) | S72: 화물입출항 (b) | T72: 선박입출항 (c) | U72: 화물입출항 (d) | V72: 선박입출항 (a/c) | W72: 화물입출항 (b/d)
B73: LNG돌핀1 | D73: LNG | E73: 한국가스공사 | F73: ='부두별-세부구분'!F87 -> 119 | G73: ='부두별-세부구분'!G87 -> 6497023 | H73: ='부두별-세부구분'!H87 -> 40 | I73: ='부두별-세부구분'!I87 -> 2312139 | J73: =IFERROR((H73/F73*100)-100,"_") -> -66.386555 | K73: =IFERROR((I73/G73*100)-100,"-") -> -64.412332 | N73: 소 계 | R73: =SUM(R74:R80) -> 241 | S73: =SUM(S74:S80) -> 4936797 | T73: =SUM(T74:T80) -> 365 | U73: =SUM(U74:U80) -> 9399589 | V73: =IFERROR((T73/R73*100)-100,"_") -> 51.452282 | W73: =IFERROR((U73/S73*100)-100,"_") -> 90.398532
N74: LPG돌핀1 | P74: LPG, 석유제품 | Q74: 석유공사 | R74: =IFERROR(VLOOKUP(N74,'부두별-세부구분'!$B$87:$F$94,5,0),"-") -> 0 | S74: =IFERROR(VLOOKUP(N74,'부두별-세부구분'!$B$87:$G$94,6,0),"-") -> 0 | T74: =IFERROR(VLOOKUP(N74,'부두별-세부구분'!$B$87:$H$94,7,0),"-") -> 2 | U74: =IFERROR(VLOOKUP(N74,'부두별-세부구분'!$B$87:$I$94,8,0),"-") -> 3131 | V74: =IFERROR((T74/R74*100)-100,"_") -> _ | W74: =IFERROR((U74/S74*100)-100,"_") -> _
N75: LPG돌핀2 | P75: LPG | R75: =IFERROR(VLOOKUP(N75,'부두별-세부구분'!$B$87:$F$94,5,0),"-") -> 10 | S75: =IFERROR(VLOOKUP(N75,'부두별-세부구분'!$B$87:$G$94,6,0),"-") -> 22310 | T75: =IFERROR(VLOOKUP(N75,'부두별-세부구분'!$B$87:$H$94,7,0),"-") -> 8 | U75: =IFERROR(VLOOKUP(N75,'부두별-세부구분'!$B$87:$I$94,8,0),"-") -> 12415 | V75: =IFERROR((T75/R75*100)-100,"_") -> -20 | W75: =IFERROR((U75/S75*100)-100,"_") -> -44.352308
N76: 한전돌핀 | P76: 석유제품 | Q76: 서부발전 | R76: =IFERROR(VLOOKUP(N76,'부두별-세부구분'!$B$87:$F$94,5,0),"-") -> 0 | S76: =IFERROR(VLOOKUP(N76,'부두별-세부구분'!$B$87:$G$94,6,0),"-") -> 0 | T76: =IFERROR(VLOOKUP(N76,'부두별-세부구분'!$B$87:$H$94,7,0),"-") -> 0 | U76: =IFERROR(VLOOKUP(N76,'부두별-세부구분'!$B$87:$I$94,8,0),"-") -> 0 | V76: =IFERROR((T76/R76*100)-100,"_") -> _ | W76: =IFERROR((U76/S76*100)-100,"_") -> _
N77: 기호돌핀 | P77: 유기화합물 | Q77: 기호물류 | R77: =IFERROR(VLOOKUP(N77,'부두별-세부구분'!$B$87:$F$94,5,0),"-") -> 103 | S77: =IFERROR(VLOOKUP(N77,'부두별-세부구분'!$B$87:$G$94,6,0),"-") -> 342590 | T77: =IFERROR(VLOOKUP(N77,'부두별-세부구분'!$B$87:$H$94,7,0),"-") -> 163 | U77: =IFERROR(VLOOKUP(N77,'부두별-세부구분'!$B$87:$I$94,8,0),"-") -> 383229 | V77: =IFERROR((T77/R77*100)-100,"_") -> 58.252427 | W77: =IFERROR((U77/S77*100)-100,"_") -> 11.862284
N78: SK돌핀 | P78: LPG | Q78: SK㈜ | R78: =IFERROR(VLOOKUP(N78,'부두별-세부구분'!$B$87:$F$94,5,0),"-") -> 64 | S78: =IFERROR(VLOOKUP(N78,'부두별-세부구분'!$B$87:$G$94,6,0),"-") -> 973880 | T78: =IFERROR(VLOOKUP(N78,'부두별-세부구분'!$B$87:$H$94,7,0),"-") -> 58 | U78: =IFERROR(VLOOKUP(N78,'부두별-세부구분'!$B$87:$I$94,8,0),"-") -> 1021215 | V78: =IFERROR((T78/R78*100)-100,"_") -> -9.375 | W78: =IFERROR((U78/S78*100)-100,"_") -> 4.8604551
N79: LNG돌핀2 | P79: LNG | Q79: 한국가스공사 | R79: =IFERROR(VLOOKUP(N79,'부두별-세부구분'!$B$87:$F$94,5,0),"-") -> 51 | S79: =IFERROR(VLOOKUP(N79,'부두별-세부구분'!$B$87:$G$94,6,0),"-") -> 3573883 | T79: =IFERROR(VLOOKUP(N79,'부두별-세부구분'!$B$87:$H$94,7,0),"-") -> 120 | U79: =IFERROR(VLOOKUP(N79,'부두별-세부구분'!$B$87:$I$94,8,0),"-") -> 7957363 | V79: =IFERROR((T79/R79*100)-100,"_") -> 135.29412 | W79: =IFERROR((U79/S79*100)-100,"_") -> 122.65315
N80: 물양장 | R80: =IFERROR(VLOOKUP(N80,'부두별-세부구분'!$B$87:$F$94,5,0),"-") -> 13 | S80: =IFERROR(VLOOKUP(N80,'부두별-세부구분'!$B$87:$G$94,6,0),"-") -> 24134 | T80: =IFERROR(VLOOKUP(N80,'부두별-세부구분'!$B$87:$H$94,7,0),"-") -> 14 | U80: =IFERROR(VLOOKUP(N80,'부두별-세부구분'!$B$87:$I$94,8,0),"-") -> 22236 | V80: =IFERROR((T80/R80*100)-100,"_") -> 7.6923077 | W80: =IFERROR((U80/S80*100)-100,"_") -> -7.8644236
N82: ○ 모래부두 | W82: (단위 : 척, 톤)
N83: 선석명칭 | O83: 접안능력(DWT) | P83: 처리화물 | Q83: 운영자 | R83: 처리실적 | V83: 증감 | X83: 비고
R84: =F9 -> '25.5월 누계 | T84: =H9 -> '26.5월 누계
R85: 선박입출항 (a) | S85: 화물입출항 (b) | T85: 선박입출항 (c) | U85: 화물입출항 (d) | V85: 선박입출항 (a/c) | W85: 화물입출항 (b/d)
N86: 소계 | R86: =SUM(R87:R93) -> 63 | S86: =SUM(S87:S93) -> 178134 | T86: =SUM(T87:T93) -> 51 | U86: =SUM(U87:U93) -> 139143 | V86: =IFERROR((T86/R86*100)-100,"_") -> -19.047619 | W86: =IFERROR((U86/S86*100)-100,"_") -> -21.888578
N87: 모래부두 1 | P87: 모래 | Q87: 공영해운㈜ | R87: ='부두별-세부구분'!F101 -> 0 | S87: ='부두별-세부구분'!G101 -> 0 | T87: ='부두별-세부구분'!H101 -> 1 | U87: ='부두별-세부구분'!I101 -> 0 | V87: =IFERROR((T87/R87*100)-100,"_") -> _ | W87: =IFERROR((U87/S87*100)-100,"_") -> _
N88: 모래부두 2 | P88: 모래 | R88: ='부두별-세부구분'!F102 -> 0 | S88: ='부두별-세부구분'!G102 -> 0 | T88: ='부두별-세부구분'!H102 -> 0 | U88: ='부두별-세부구분'!I102 -> 0 | V88: =IFERROR((T88/R88*100)-100,"_") -> _ | W88: =IFERROR((U88/S88*100)-100,"_") -> _
N89: 모래부두 3 | P89: 모래 | R89: ='부두별-세부구분'!F103 -> 0 | S89: ='부두별-세부구분'!G103 -> 0 | T89: ='부두별-세부구분'!H103 -> 0 | U89: ='부두별-세부구분'!I103 -> 0 | V89: =IFERROR((T89/R89*100)-100,"_") -> _ | W89: =IFERROR((U89/S89*100)-100,"_") -> _
N90: 모래부두 4 | P90: 모래 | R90: ='부두별-세부구분'!F104 -> 63 | S90: ='부두별-세부구분'!G104 -> 178134 | T90: ='부두별-세부구분'!H104 -> 50 | U90: ='부두별-세부구분'!I104 -> 139143 | V90: =IFERROR((T90/R90*100)-100,"_") -> -20.634921 | W90: =IFERROR((U90/S90*100)-100,"_") -> -21.888578
N91: 모래부두 5 | P91: 모래 | R91: ='부두별-세부구분'!F105 -> 0 | S91: ='부두별-세부구분'!G105 -> 0 | T91: ='부두별-세부구분'!H105 -> 0 | U91: ='부두별-세부구분'!I105 -> 0 | V91: =IFERROR((T91/R91*100)-100,"_") -> _ | W91: =IFERROR((U91/S91*100)-100,"_") -> _
N92: 모래부두 6 | P92: 모래 | R92: ='부두별-세부구분'!F106 -> 0 | S92: ='부두별-세부구분'!G106 -> 0 | T92: ='부두별-세부구분'!H106 -> 0 | U92: ='부두별-세부구분'!I106 -> 0 | V92: =IFERROR((T92/R92*100)-100,"_") -> _ | W92: =IFERROR((U92/S92*100)-100,"_") -> _
N93: 모래부두 7 | P93: 모래 | R93: ='부두별-세부구분'!F107 -> 0 | S93: ='부두별-세부구분'!G107 -> 0 | T93: ='부두별-세부구분'!H107 -> 0 | U93: ='부두별-세부구분'!I107 -> 0 | V93: =IFERROR((T93/R93*100)-100,"_") -> _ | W93: =IFERROR((U93/S93*100)-100,"_") -> _

Sheet 품목별
B3: 품목별 물동량
A5: . | G5: (단위 : 톤)
B6: 구 분 | C6: 화물별 | D6: 2025년 5월 | E6: 2026년 5월 | F6: 2025년 5월(누계) | G6: 2026년 5월(누계)
B7: 합 계 | D7: =D8+D16+D19+D27+D33+D37+D39 -> 9671193 | E7: =E8+E16+E19+E27+E33+E37+E39 -> 9310650 | F7: =SUM(F8,F16,F19,F27,F33,F37,F39) -> 48008227 | G7: =SUM(G8,G16,G19,G27,G33,G37,G39) -> 48439105
B8: 농수산물 | D8: =SUM(D9:D15) -> 576563 | E8: =SUM(E9:E15) -> 582109 | F8: =SUM(F9:F15) -> 2649169 | G8: =SUM(G9:G15) -> 2720097
C9: 육 류 | D9: 1258 | E9: 1802 | F9: 13846 | G9: 13517
C10: 어패류.갑각류 등 | D10: 227 | E10: 988 | F10: 778 | G10: 5960
C11: 양 곡 | D11: 252679 | E11: 272885 | F11: 1256636 | G11: 1206431
C12: 제분공업 생산품 | D12: 21330 | E12: 21024 | F12: 69485 | G12: 110308
C13: 기타동.식물성 생산품 | D13: 163847 | E13: 135824 | F13: 578003 | G13: 665857
C14: 당 류 | D14: 8291 | E14: 11669 | F14: 68083 | G14: 43554 | I14: 무역항 등의 항만시설 사용료 규정
C15: 조제식품.음료.주류등 | D15: 128931 | E15: 137917 | F15: 662338 | G15: 674470
B16: 모래 | D16: =SUM(D17:D18) -> 152235 | E16: =SUM(E17:E18) -> 82790 | F16: =SUM(F17:F18) -> 758899 | G16: =SUM(G17:G18) -> 859364
C17: 시멘트 | D17: 112616 | E17: 77110 | F17: 503893 | G17: 611254
C18: 모 래 | D18: 39619 | E18: 5680 | F18: 255006 | G18: 248110
B19: 철재류 | D19: =SUM(D20:D26) -> 4184534 | E19: =SUM(E20:E26) -> 3377153 | F19: =SUM(F20:F26) -> 19202346 | G19: =SUM(G20:G26) -> 18608262
C20: 무연탄 | D20: 84909 | E20: 5000 | F20: 272557 | G20: 54400
C21: 유연탄 | D21: 794230 | E21: 723529 | F21: 3597881 | G21: 3931337
C22: 철광석 | D22: 1723534 | E22: 1368767 | F22: 8062982 | G22: 7987796
C23: 기타광석 및 생산품 | D23: 420949 | E23: 303091 | F23: 1903485 | G23: 1561500
C24: 고 철 | D24: 34839 | E24: 38640 | F24: 223995 | G24: 201882
C25: 철강 및 그제품 | D25: 1075033 | E25: 887542 | F25: 4943862 | G25: 4637673
C26: 비철금속 및 그제품 | D26: 51040 | E26: 50584 | F26: 197584 | G26: 233674
B27: 액체화물 | D27: =SUM(D28:D32) -> 2013400 | E27: =SUM(E28:E32) -> 2454555 | F27: =SUM(F28:F32) -> 12833850 | G27: =SUM(G28:G32) -> 13163197
C28: 원유(역청유). 석유 | D28: - | E28: - | F28: 0 | G28: 11746
C29: 석유 정제품 | D29: 316981 | E29: 238673 | F29: 1874054 | G29: 1300782
C30: 석유가스 및 기타가스 | D30: 1547451 | E30: 2008006 | F30: 10299039 | G30: 11118024
C31: 화학공업 생산품 | D31: 89241 | E31: 108865 | F31: 426655 | G31: 400537
C32: 동.식물성 유지류 | D32: 59727 | E32: 99011 | F32: 234102 | G32: 332108
B33: 기계제품 | D33: =SUM(D34:D36) -> 62581 | E33: =SUM(E34:E36) -> 90619 | F33: =SUM(F34:F36) -> 294598 | G33: =SUM(G34:G36) -> 417217
C34: 기계류 및 그부품 | D34: 37587 | E34: 54620 | F34: 179721 | G34: 222377
C35: 전기기기 및 그부품 | D35: 24994 | E35: 35932 | F35: 114662 | G35: 190640
C36: 항공기.선박 및 부품 | D36: - | E36: 67 | F36: 215 | G36: 4200
B37: 차량 | D37: =D38 -> 1582631 | E37: =E38 -> 1618237 | F37: =F38 -> 6933714 | G37: =G38 -> 7464357
C38: 차량 및 그부품 | D38: 1582631 | E38: 1618237 | F38: 6933714 | G38: 7464357
B39: 기타 | D39: =SUM(D40:D46) -> 1099249 | E39: =SUM(E40:E46) -> 1105187 | F39: =SUM(F40:F46) -> 5335651 | G39: =SUM(G40:G46) -> 5206611
C40: 원 목 | D40: 5260 | E40: 5870 | F40: 17358 | G40: 17315
C41: 목재.목탄.코르크 등 | D41: 52532 | E41: 20557 | F41: 334026 | G41: 202062
C42: 비 료 | D42: 1452 | E42: 2713 | F42: 6606 | G42: 8350
C43: 플라스틱.고무및 제품 | D43: 44973 | E43: 68751 | F43: 234102 | G43: 365819
C44: 피혁류 및 그제품 | D44: 2557 | E44: 12036 | F44: 10950 | G44: 42154
C45: 방직용섬유 및 그제품 | D45: 823669 | E45: 844919 | F45: 3965032 | G45: 3992619
C46: 기 타 | D46: 168806 | E46: 150341 | F46: 767577 | G46: 578292

Sheet 품목별-증감현황
B3: 품목별 물동량
K5: (단위 : 톤)
B6: 구 분 | C6: 화물별 | D6: =품목별!$D$6 -> 2025년 5월 | E6: =품목별!$E$6 -> 2026년 5월 | F6: 전년동기대비 | G6: 비고 | H6: =품목별!F6 -> 2025년 5월(누계) | I6: =품목별!G6 -> 2026년 5월(누계) | J6: 전년동기대비 | K6: 비고
B7: 합 계 | D7: =품목별!D7 -> 9671193 | E7: =품목별!E7 -> 9310650 | F7: =E7-D7 -> -360543 | G7: =E7/D7 -> 0.9627199 | H7: =품목별!F7 -> 48008227 | I7: =품목별!G7 -> 48439105 | J7: =I7-H7 -> 430878 | K7: =I7/H7 -> 1.0089751
B8: 농수산물 | D8: =품목별!D8 -> 576563 | E8: =품목별!E8 -> 582109 | F8: =E8-D8 -> 5546 | G8: =E8/D8 -> 1.0096191 | H8: =품목별!F8 -> 2649169 | I8: =품목별!G8 -> 2720097 | J8: =I8-H8 -> 70928 | K8: =I8/H8 -> 1.0267737
C9: 육 류 | D9: =품목별!D9 -> 1258 | E9: =품목별!F9 -> 13846 | H9: =품목별!F9 -> 13846 | I9: =품목별!G9 -> 13517
C10: 어패류.갑각류 등 | D10: =품목별!D10 -> 227 | E10: =품목별!F10 -> 778 | H10: =품목별!F10 -> 778 | I10: =품목별!G10 -> 5960
C11: 양곡 | D11: =품목별!D11 -> 252679 | E11: =품목별!F11 -> 1256636 | H11: =품목별!F11 -> 1256636 | I11: =품목별!G11 -> 1206431
C12: 제분공업생산품 | D12: =품목별!D12 -> 21330 | E12: =품목별!F12 -> 69485 | H12: =품목별!F12 -> 69485 | I12: =품목별!G12 -> 110308
C13: 기타 동.식물 생산품 | D13: =품목별!D13 -> 163847 | E13: =품목별!F13 -> 578003 | H13: =품목별!F13 -> 578003 | I13: =품목별!G13 -> 665857
C14: 당류 | D14: =품목별!D14 -> 8291 | E14: =품목별!E14 -> 11669 | H14: =품목별!F14 -> 68083 | I14: =품목별!G14 -> 43554
C15: 음료.주류.조제식품 | D15: =품목별!D15 -> 128931 | E15: =품목별!E15 -> 137917 | H15: =품목별!F15 -> 662338 | I15: =품목별!G15 -> 674470
B16: 모래 | D16: =품목별!D16 -> 152235 | E16: =품목별!E16 -> 82790 | F16: =E16-D16 -> -69445 | G16: =E16/D16 -> 0.54383026 | H16: =품목별!F16 -> 758899 | I16: =품목별!G16 -> 859364 | J16: =I16-H16 -> 100465 | K16: =I16/H16 -> 1.1323826
C17: 시멘트 | D17: =품목별!D17 -> 112616 | E17: =품목별!E17 -> 77110 | H17: =품목별!F17 -> 503893 | I17: =품목별!G17 -> 611254
C18: 모래 | D18: =품목별!D18 -> 39619 | E18: =품목별!E18 -> 5680 | H18: =품목별!F18 -> 255006 | I18: =품목별!G18 -> 248110
B19: 철광석 | D19: =품목별!D19 -> 4184534 | E19: =품목별!E19 -> 3377153 | F19: =E19-D19 -> -807381 | G19: =E19/D19 -> 0.80705594 | H19: =품목별!F19 -> 19202346 | I19: =품목별!G19 -> 18608262 | J19: =I19-H19 -> -594084 | K19: =I19/H19 -> 0.96906191
C20: 무연탄 | D20: =품목별!D20 -> 84909 | E20: =품목별!E20 -> 5000 | H20: =품목별!F20 -> 272557 | I20: =품목별!G20 -> 54400
C21: 유연탄 | D21: =품목별!D21 -> 794230 | E21: =품목별!E21 -> 723529 | H21: =품목별!F21 -> 3597881 | I21: =품목별!G21 -> 3931337
C22: 철광석 | D22: =품목별!D22 -> 1723534 | E22: =품목별!E22 -> 1368767 | H22: =품목별!F22 -> 8062982 | I22: =품목별!G22 -> 7987796
C23: 기타 광석 및 생산품 | D23: =품목별!D23 -> 420949 | E23: =품목별!E23 -> 303091 | H23: =품목별!F23 -> 1903485 | I23: =품목별!G23 -> 1561500
C24: 고철 | D24: =품목별!D24 -> 34839 | E24: =품목별!E24 -> 38640 | H24: =품목별!F24 -> 223995 | I24: =품목별!G24 -> 201882
C25: 철강및그제품 | D25: =품목별!D25 -> 1075033 | E25: =품목별!E25 -> 887542 | H25: =품목별!F25 -> 4943862 | I25: =품목별!G25 -> 4637673
C26: 비철금속 및 그제품 | D26: =품목별!D26 -> 51040 | E26: =품목별!E26 -> 50584 | H26: =품목별!F26 -> 197584 | I26: =품목별!G26 -> 233674
B27: 액체화물 | D27: =품목별!D27 -> 2013400 | E27: =품목별!E27 -> 2454555 | F27: =E27-D27 -> 441155 | G27: =E27/D27 -> 1.2191095 | H27: =품목별!F27 -> 12833850 | I27: =품목별!G27 -> 13163197 | J27: =I27-H27 -> 329347 | K27: =I27/H27 -> 1.0256624
C28: 원유(역청유),석유 | D28: =품목별!D28 -> - | E28: =품목별!E28 -> - | H28: =품목별!F28 -> 0 | I28: =품목별!G28 -> 11746
C29: 석유정제품 | D29: =품목별!D29 -> 316981 | E29: =품목별!E29 -> 238673 | H29: =품목별!F29 -> 1874054 | I29: =품목별!G29 -> 1300782
C30: 석유가스및기타가스 | D30: =품목별!D30 -> 1547451 | E30: =품목별!E30 -> 2008006 | H30: =품목별!F30 -> 10299039 | I30: =품목별!G30 -> 11118024
C31: 화학공업생산품 | D31: =품목별!D31 -> 89241 | E31: =품목별!E31 -> 108865 | H31: =품목별!F31 -> 426655 | I31: =품목별!G31 -> 400537
C32: 동.식물성 유지류 | D32: =품목별!D32 -> 59727 | E32: =품목별!E32 -> 99011 | H32: =품목별!F32 -> 234102 | I32: =품목별!G32 -> 332108
B33: 기계제품 | D33: =품목별!D33 -> 62581 | E33: =품목별!E33 -> 90619 | F33: =E33-D33 -> 28038 | G33: =E33/D33 -> 1.4480274 | H33: =품목별!F33 -> 294598 | I33: =품목별!G33 -> 417217 | J33: =I33-H33 -> 122619 | K33: =I33/H33 -> 1.4162248
C34: 기계류 및 그부품 | D34: =품목별!D34 -> 37587 | E34: =품목별!E34 -> 54620 | H34: =품목별!F34 -> 179721 | I34: =품목별!G34 -> 222377
C35: 전기기기 및 그부품 | D35: =품목별!D35 -> 24994 | E35: =품목별!E35 -> 35932 | H35: =품목별!F35 -> 114662 | I35: =품목별!G35 -> 190640
C36: 항공기.선박 그부품 | D36: =품목별!D36 -> - | E36: =품목별!E36 -> 67 | H36: =품목별!F36 -> 215 | I36: =품목별!G36 -> 4200
B37: 차량 | D37: =품목별!D37 -> 1582631 | E37: =품목별!E37 -> 1618237 | F37: =E37-D37 -> 35606 | G37: =E37/D37 -> 1.022498 | H37: =품목별!F37 -> 6933714 | I37: =품목별!G37 -> 7464357 | J37: =I37-H37 -> 530643 | K37: =I37/H37 -> 1.0765308
C38: 차량및그부품 | D38: =품목별!D38 -> 1582631 | E38: =품목별!E38 -> 1618237 | H38: =품목별!F38 -> 6933714 | I38: =품목별!G38 -> 7464357
B39: 기타 | D39: =품목별!D39 -> 1099249 | E39: =품목별!E39 -> 1105187 | F39: =E39-D39 -> 5938 | G39: =E39/D39 -> 1.0054019 | H39: =품목별!F39 -> 5335651 | I39: =품목별!G39 -> 5206611 | J39: =I39-H39 -> -129040 | K39: =I39/H39 -> 0.97581551
C40: 원목 | D40: =품목별!D40 -> 5260 | E40: =품목별!F40 -> 17358 | H40: =품목별!F40 -> 17358 | I40: =품목별!G40 -> 17315
C41: 목재.목탄.코르크 | D41: =품목별!D41 -> 52532 | E41: =품목별!F41 -> 334026 | H41: =품목별!F41 -> 334026 | I41: =품목별!G41 -> 202062
C42: 비료 | D42: =품목별!D42 -> 1452 | E42: =품목별!E42 -> 2713 | H42: =품목별!F42 -> 6606 | I42: =품목별!G42 -> 8350
C43: 플라스틱.고무 제품 | D43: =품목별!D43 -> 44973 | E43: =품목별!F43 -> 234102 | H43: =품목별!F43 -> 234102 | I43: =품목별!G43 -> 365819
C44: 피혁류 및 그제품 | D44: =품목별!D44 -> 2557 | E44: =품목별!F44 -> 10950 | H44: =품목별!F44 -> 10950 | I44: =품목별!G44 -> 42154
C45: 방직용섬유및그제품 | D45: =품목별!D45 -> 823669 | E45: =품목별!F45 -> 3965032 | H45: =품목별!F45 -> 3965032 | I45: =품목별!G45 -> 3992619
C46: 기타 | D46: =품목별!D46 -> 168806 | E46: =품목별!F46 -> 767577 | H46: =품목별!F46 -> 767577 | I46: =품목별!G46 -> 578292

Sheet Sheet1
A1: 한전정박지 | B1: 13
A2: 한전돌핀 | B2: 3
A3: 한전 물양장 | B3: 9
A4: 한보 물양장 | B4: 8
A5: 한국가스공사 물양장 | B5: 38
A6: 제4 정박구역 | B6: 17
A7: 제3 정박구역 | B7: 16
A8: 제2 정박구역 | B8: 15
A9: 장안서정박지 | B9: 10
A10: 입파도정박지 | B10: 11
A11: 원정리 부잔교 | B11: 33
A12: 영암정박지3 | B12: 90
... A47: 모래부두 1 | B47: 81
A48: 모든 부두 | B48: %
A49: 동부두내항관리부잔교 | B49: 97
A50: 동부두 부잔교 | B50: 34
A51: 동부두 9번선석 | B51: 40
A52: 동부두 8번선석 | B52: 44
A53: 동부두 7번선석 | B53: 45
A54: 동부두 6번선석 | B54: 49
A55: 동부두 5번선석 | B55: 94
A56: 동부두 4번선석 | B56: 95
A57: 동부두 4,5번선석 | B57: 46
A58: 동부두 3번선석 | B58: 50
A59: 동부두 2번선석 | B59: 62
A60: 동부두 16번선석 | B60: 59
... A93: LNG 돌핀 1 | B93: 5

Sheet 2017
C1: 수출입 | D1: 환적 | H1: 수출입 | I1: 환적
A2: pctc | B2: 동부두 | F2: pnct | G2: 동부두
B3: 국제1번 | C3: =15557+16865 -> 32422 | D3: =511+1 -> 512 | G3: 4 | H3: 0 | I3: 0
B4: 국제2번 | C4: =37267+37273 -> 74540 | D4: =849+7 -> 856 | G4: 5 | H4: =799+121 -> 920 | I4: 0
B5: 2 | C5: 0 | G5: 14 | H5: =43058+44065 -> 87123 | I5: 112
B6: 3 | C6: 0 | G6: 15 | H6: =52575+58717 -> 111292 | I6: =1110+21 -> 1131
B7: 6 | C7: =7710+6861 -> 14571 | D7: 229 | G7: 16 | H7: =2949+5462 -> 8411 | I7: 2
B8: 7 | C8: =76242+64523 -> 140765 | D8: =238+933 -> 1171 | G8: 서부두
B9: 8 | C9: =79532+84077 -> 163609 | D9: =701+299 -> 1000 | G9: 1 | H9: 0 | I9: 0
B10: 9 | C10: 0 | D10: 0 | G10: 2 | H10: 0 | I10: 0
B11: 10 | C11: =2+2 -> 4 | D11: 0 | G11: 3 | H11: 0 | I11: 0
B12: 11 | C12: =253+238 -> 491 | D12: 0 | G12: 고대부두'
B13: 12 | C13: =761+758 -> 1519 | D13: 0 | G13: 2 | H13: 0 | I13: 0
B14: 13 | C14: 0 | D14: 0 | G14: 3 | H14: 0 | I14: 0
B15: 기타 | C15: 0 | D15: 0 | G15: 4 | H15: 0 | I15: 0
B16: 관리부두 물양장 | C16: 0 | D16: 0 | G16: 5 | H16: 0 | I16: 0
B17: 서부두 | G17: 6 | H17: 0 | I17: 0
B18: 4 | C18: 0 | D18: 0 | G18: 9 | H18: 0 | I18: 0
B19: 5 | C19: 0 | D19: 0 | G19: 송악부두
B20: 6 | C20: 0 | D20: 0 | G20: 1 | H20: 0 | I20: 0
B21: 7 | C21: 0 | D21: 0 | G21: 2 | H21: 0 | I21: 0
B22: 8 | C22: 0 | D22: 0 | G22: 3 | H22: 0 | I22: 0
B23: 9 | C23: 0 | D23: 0 | G23: 4 | H23: 0 | I23: 0
B24: 고대부두 | G24: 5 | H24: 0 | I24: 0
B25: 1 | C25: 0 | D25: 0 | G25: 6 | H25: 0 | I25: 0
B26: 7 | C26: 0 | D26: 0 | G26: 7 | H26: 0 | I26: 0
B27: 8 | C27: 0 | D27: 0 | G27: 8 | H27: 0 | I27: 0
B28: 송악부두 | G28: 12 | H28: 0 | I28: 0
B29: 9 | C29: 0 | D29: 0 | G29: 12-1 | H29: 0 | I29: 0
B30: 10 | C30: 0 | D30: 0 | G30: 돌핀부두
B31: 11 | C31: 0 | D31: 0 | G31: LPG돌핀1 | H31: 0 | I31: 0
B32: 돌핀부두 | G32: LPG돌핀2 | H32: 0 | I32: 0
B33: LNG돌핀1 | C33: 0 | D33: 0 | G33: 한전돌핀 | H33: 0 | I33: 0
G34: 기호돌핀 | H34: 0 | I34: 0
G35: SK돌핀 | H35: 0 | I35: 0
B36: 합계 | C36: =SUM(C3:C33) -> 427921 | D36: =SUM(D3:D33) -> 3768 | G36: LNG돌핀2 | H36: 0 | I36: 0
G37: 한국가스공사 물양장 | H37: 0
G38: 모래부두
G39: 모래부두 1 | H39: 0 | I39: 0
G40: 모래부두 2 | H40: 0 | I40: 0
G41: 모래부두 3 | H41: 0 | I41: 0
G42: 모래부두 4 | H42: 0 | I42: 0
G43: 모래부두 5 | H43: 0 | I43: 0
G44: 모래부두 6 | H44: 0 | I44: 0
G45: 모래부두 7 | H45: 0 | I45: 0
G47: 합계 | H47: =SUM(H3:H45) -> 207746 | I47: =SUM(I3:I45) -> 1245

Sheet 2018
C1: 수출입 | D1: 환적 | H1: 수출입 | I1: 환적
A2: pctc | B2: 동부두 | F2: pnct | G2: 동부두
B3: 국제1번 | C3: =11502+12634 -> 24136 | D3: =1133+4 -> 1137 | G3: 4 | H3: 0 | I3: 0
B4: 국제2번 | C4: =27063+27824 -> 54887 | D4: =1133+12 -> 1145 | G4: 5 | H4: =793+517 -> 1310 | I4: 0
B5: 2 | C5: 0 | D5: 0 | G5: 14 | H5: =48694+44967 -> 93661 | I5: =95+21 -> 116
B6: 3 | C6: 0 | D6: 0 | G6: 15 | H6: =64745+63468 -> 128213 | I6: =563+1 -> 564
B7: 6 | C7: =3882+2727 -> 6609 | D7: =3+11 -> 14 | G7: 16 | H7: =9824+16992 -> 26816 | I7: =6 -> 6
B8: 7 | C8: =102998+89466 -> 192464 | D8: =611+581 -> 1192 | G8: 서부두
B9: 8 | C9: =75777+78367 -> 154144 | D9: =751+584 -> 1335 | G9: 1 | H9: 0 | I9: 0
B10: 9 | C10: 0 | D10: 0 | G10: 2 | H10: 0 | I10: 0
B11: 10 | C11: =146+48 -> 194 | D11: 0 | G11: 3 | H11: 0 | I11: 0
B12: 11 | C12: =184+224 -> 408 | D12: 0 | G12: 고대부두'
B13: 12 | C13: =747+754 -> 1501 | D13: 0 | G13: 2 | H13: 0 | I13: 0
B14: 13 | C14: 0 | D14: 0 | G14: 3 | H14: 0 | I14: 0
B15: 기타 | C15: 0 | D15: 0 | G15: 4 | H15: 0 | I15: 0
B16: 관리부두 물양장 | C16: 0 | D16: 0 | G16: 5 | H16: 0 | I16: 0
B17: 서부두 | G17: 6 | H17: 0 | I17: 0
B18: 4 | C18: 0 | D18: 0 | G18: 9 | H18: 0 | I18: 0
B19: 5 | C19: 0 | D19: 0 | G19: 송악부두
B20: 6 | C20: 0 | D20: 0 | G20: 1 | H20: 0 | I20: 0
B21: 7 | C21: 0 | D21: 0 | G21: 2 | H21: 0 | I21: 0
B22: 8 | C22: 0 | D22: 0 | G22: 3 | H22: 0 | I22: 0
B23: 9 | C23: 0 | D23: 0 | G23: 4 | H23: 0 | I23: 0
B24: 고대부두 | G24: 5 | H24: 0 | I24: 0
B25: 1 | C25: 0 | D25: 0 | G25: 6 | H25: 0 | I25: 0
B26: 7 | C26: 0 | D26: 0 | G26: 7 | H26: 0 | I26: 0
B27: 8 | C27: 0 | D27: 0 | G27: 8 | H27: 0 | I27: 0
B28: 송악부두 | G28: 12 | H28: 0 | I28: 0
B29: 9 | C29: 0 | D29: 0 | G29: 12-1 | H29: 0 | I29: 0
B30: 10 | C30: 0 | D30: 0 | G30: 돌핀부두
B31: 11 | C31: 0 | D31: 0 | G31: LPG돌핀1 | H31: 0 | I31: 0
B32: 돌핀부두 | G32: LPG돌핀2 | H32: 0 | I32: 0
B33: LNG돌핀1 | C33: 0 | D33: 0 | G33: 한전돌핀 | H33: 0 | I33: 0
G34: 기호돌핀 | H34: 0 | I34: 0
G35: SK돌핀 | H35: 0 | I35: 0
B36: 합계 | C36: =SUM(C3:C33) -> 434343 | D36: =SUM(D3:D33) -> 4823 | E36: =SUM(C36:D36) -> 439166 | G36: LNG돌핀2 | H36: 0 | I36: 0
G37: 한국가스공사 물양장
G38: 모래부두 | H38: 0 | I38: 0
G39: 모래부두 1 | H39: 0 | I39: 0
G40: 모래부두 2 | H40: 0 | I40: 0
G41: 모래부두 3 | H41: 0 | I41: 0
G42: 모래부두 4 | H42: 0 | I42: 0
G43: 모래부두 5 | H43: 0 | I43: 0
G44: 모래부두 6 | H44: 0 | I44: 0
G45: 모래부두 7 | H45: 0 | I45: 0
G47: 합계 | H47: =SUM(H3:H45) -> 250000 | I47: =SUM(I3:I45) -> 686 | J47: =SUM(H47:I47) -> 250686
