Workbook

Sheet 2009
A1: 2009년 자동차 선적현황
A3: 구 분 | D3: 1월 | E3: 2월 | F3: 3월 | G3: 4월 | H3: 5월 | I3: 6월 | J3: 7월 | K3: 8월 | L3: 9월 | M3: 10월 | N3: 11월 | O3: 12월 | P3: 합 계
A4: 수 출 차 | B4: 신 차 | C4: 기아 | D4: 32682 | E4: 31975 | F4: 39321 | G4: 41726 | H4: 31521 | I4: 39038 | J4: 40027 | K4: 26820 | L4: 57227 | M4: 47962 | N4: 52162 | O4: 47163 | P4: =SUM(D4:O4) -> 487624
C5: 현대 | D5: 1593 | E5: 1627 | F5: 2162 | G5: 1282 | H5: 1316 | I5: 2657 | J5: 2087 | K5: 2352 | L5: 3945 | M5: 2513 | N5: 4219 | O5: 4010 | P5: =SUM(D5:O5) -> 29763
C6: GM대우 | F6: 66 | P6: =SUM(D6:O6) -> 66
C7: 쌍용 | D7: 237 | E7: 329 | G7: 426 | H7: 97 | I7: 4 | L7: 965 | M7: 1724 | N7: 1455 | O7: 655 | P7: =SUM(D7:O7) -> 5892
C8: 기타 | D8: 1 | P8: =SUM(D8:O8) -> 1
C9: 소 계 | D9: =SUM(D4:D8) -> 34513 | E9: =SUM(E4:E8) -> 33931 | F9: =SUM(F4:F8) -> 41549 | G9: =SUM(G4:G8) -> 43434 | H9: =SUM(H4:H8) -> 32934 | I9: =SUM(I4:I8) -> 41699 | J9: =SUM(J4:J8) -> 42114 | K9: =SUM(K4:K8) -> 29172 | ... O9: =SUM(O4:O8) -> 51828 | P9: =SUM(D9:O9) -> 523346
B10: 중 고 차 | D10: 140 | E10: 187 | F10: 173 | G10: 51 | H10: 110 | I10: 207 | J10: 162 | K10: 76 | L10: 229 | M10: 215 | N10: 177 | O10: 328 | P10: =SUM(D10:O10) -> 2055
B11: 계(a) | D11: =D9+D10 -> 34653 | E11: =E9+E10 -> 34118 | F11: =F9+F10 -> 41722 | G11: =G9+G10 -> 43485 | H11: =H9+H10 -> 33044 | I11: =I9+I10 -> 41906 | J11: =J9+J10 -> 42276 | K11: =K9+K10 -> 29248 | ... O11: =O9+O10 -> 52156 | P11: =SUM(D11:O11) -> 525401
A12: 수 입 차 | B12: 승 용 차 | C12: 아우디 | D12: 369 | E12: 41 | F12: 22 | G12: 17 | H12: 140 | I12: 24 | J12: 7 | L12: 84 | M12: 60 | N12: 26 | O12: 56 | P12: =SUM(D12:O12) -> 846
C13: 폭스바겐 | D13: 428 | E13: 176 | F13: 15 | G13: 119 | H13: 126 | I13: 453 | J13: 282 | M13: 30 | N13: 4 | O13: 16 | P13: =SUM(D13:O13) -> 1649
C14: BMW | D14: 484 | E14: 265 | F14: 599 | G14: 1084 | H14: 288 | I14: 949 | J14: 886 | K14: 666 | L14: 1801 | M14: 809 | N14: 1156 | O14: 789 | P14: =SUM(D14:O14) -> 9776
C15: 벤츠 | G15: 75 | H15: 113 | I15: 30 | J15: 33 | K15: 809 | L15: 43 | M15: 3 | N15: 532 | O15: 984 | P15: =SUM(D15:O15) -> 2622
C16: 크라이슬러 | E16: 100 | F16: 71 | H16: 71 | J16: 76 | L16: 240 | M16: 284 | N16: 210 | O16: 461 | P16: =SUM(D16:O16) -> 1513
C17: 포드 | D17: 299 | E17: 280 | F17: 100 | G17: 172 | H17: 223 | J17: 96 | K17: 65 | L17: 24 | M17: 97 | N17: 277 | O17: 238 | P17: =SUM(D17:O17) -> 1871
C18: 재규어 | D18: 26 | E18: 24 | F18: 1 | G18: 68 | H18: 45 | I18: 6 | L18: 43 | M18: 73 | N18: 108 | O18: 45 | P18: =SUM(D18:O18) -> 439
C19: 랜드로버 | D19: 23 | E19: 20 | F19: 31 | G19: 4 | H19: 31 | I19: 33 | J19: 5 | K19: 21 | L19: 21 | M19: 104 | N19: 66 | O19: 48 | P19: =SUM(D19:O19) -> 407
C20: 볼보 | D20: 5 | E20: 3 | F20: 10 | G20: 5 | H20: 1 | I20: 50 | J20: 50 | K20: 166 | L20: 5 | M20: 180 | N20: 209 | O20: 290 | P20: =SUM(D20:O20) -> 974
C21: 푸조 | G21: 1 | I21: 24 | J21: 44 | K21: 25 | L21: 22 | M21: 8 | N21: 104 | O21: 53 | P21: =SUM(D21:O21) -> 281
C22: 포르쉐 | D22: 10 | E22: 8 | F22: 18 | G22: 43 | H22: 15 | I22: 49 | J22: 22 | K22: 55 | L22: 28 | M22: 22 | N22: 59 | O22: 12 | P22: =SUM(D22:O22) -> 341
C23: 닛산 | E23: 180 | P23: =SUM(D23:O23) -> 180
B24: H & H | C24: 벤츠트럭 | D24: 77 | E24: 46 | F24: 22 | G24: 64 | H24: 19 | I24: 82 | J24: 37 | K24: 27 | L24: 19 | M24: 34 | N24: 63 | O24: 32 | P24: =SUM(D24:O24) -> 522
C25: 만트럭 | F25: 35 | G25: 22 | I25: 22 | M25: 22 | O25: 1 | P25: =SUM(D25:O25) -> 102
C26: 존디어 | D26: 5 | F26: 27 | G26: 56 | H26: 34 | I26: 18 | K26: 2 | L26: 17 | M26: 48 | O26: - | P26: =SUM(D26:O26) -> 207
C27: 캐터필라 | K27: 6 | L27: 6 | N27: 9 | O27: - | P27: =SUM(D27:O27) -> 21
C28: 기 타 | G28: 58 | H28: 54 | I28: 19 | J28: 33 | K28: 61 | L28: 43 | M28: 53 | N28: 113 | O28: 33 | P28: =SUM(D28:O28) -> 467
B29: 계(b) | D29: =SUM(D12:D28) -> 1726 | E29: =SUM(E12:E28) -> 1143 | F29: =SUM(F12:F28) -> 951 | G29: =SUM(G12:G28) -> 1788 | H29: =SUM(H12:H28) -> 1160 | I29: =SUM(I12:I28) -> 1759 | J29: =SUM(J12:J28) -> 1571 | K29: =SUM(K12:K28) -> 1903 | ... O29: =SUM(O12:O28) -> 3058 | P29: =SUM(D29:O29) -> 22218
A30: 합 계(a+b) | D30: =D11+D29 -> 36379 | E30: =E11+E29 -> 35261 | F30: =F11+F29 -> 42673 | G30: =G11+G29 -> 45273 | H30: =H11+H29 -> 34204 | I30: =I11+I29 -> 43665 | J30: =J11+J29 -> 43847 | K30: =K11+K29 -> 31151 | ... O30: =O11+O29 -> 55214 | P30: =SUM(D30:O30) -> 547619
A31: T/S(c) | D31: 851 | E31: 3369 | F31: 10604 | G31: 6635 | H31: 12242 | I31: 8344 | J31: 7054 | K31: 12181 | L31: 10138 | M31: 12682 | N31: 15643 | O31: 12287 | P31: =SUM(D31:O31) -> 112030
A32: 총 계(a+b+c) | D32: =D30+D31 -> 37230 | E32: =E30+E31 -> 38630 | F32: =F30+F31 -> 53277 | G32: =G30+G31 -> 51908 | H32: =H30+H31 -> 46446 | I32: =I30+I31 -> 52009 | J32: =J30+J31 -> 50901 | K32: =K30+K31 -> 43332 | ... O32: =O30+O31 -> 67501 | P32: =SUM(D32:O32) -> 659649

Sheet 2010
A1: 2010년 자동차 선적현황
A2: 구 분 | D2: 1월 | E2: 2월 | F2: 3월 | G2: 4월 | H2: 5월 | I2: 6월 | J2: 7월 | K2: 8월 | L2: 9월 | M2: 10월 | N2: 11월 | O2: 12월 | P2: 합 계
A3: 수 출 차 | B3: 신 차 | C3: 기아 | D3: 43340 | E3: 37740 | F3: 45922 | G3: 50474 | H3: 48238 | I3: 51863 | J3: 59090 | K3: 34483 | L3: 43592 | M3: 54098 | N3: 60755 | O3: 59059 | P3: =SUM(D3:O3) -> 588654
C4: 현대 | D4: 5649 | E4: 2095 | F4: 4527 | G4: 7906 | H4: 10346 | I4: 10531 | J4: 10078 | K4: 7778 | L4: 9150 | M4: 9998 | N4: 8354 | O4: 6686 | P4: =SUM(D4:O4) -> 93098
C5: GM대우 | D5: 94 | E5: 0 | F5: 0 | G5: 0 | H5: 0 | I5: 108 | J5: 0 | K5: 21 | L5: 0 | M5: 0 | N5: 81 | O5: 51 | P5: =SUM(D5:O5) -> 355
C6: 쌍용 | D6: 432 | E6: 2501 | F6: 2032 | G6: 2706 | H6: 2313 | I6: 3211 | J6: 2529 | K6: 2456 | L6: 2357 | M6: 3402 | N6: 2849 | O6: 2899 | P6: =SUM(D6:O6) -> 29687
C7: 기타 | P7: =SUM(D7:O7) -> 0
C8: 소 계 | D8: =SUM(D3:D7) -> 49515 | E8: =SUM(E3:E7) -> 42336 | F8: =SUM(F3:F7) -> 52481 | G8: =SUM(G3:G7) -> 61086 | H8: =SUM(H3:H7) -> 60897 | I8: =SUM(I3:I7) -> 65713 | J8: =SUM(J3:J7) -> 71697 | K8: =SUM(K3:K7) -> 44738 | ... O8: =SUM(O3:O7) -> 68695 | P8: =SUM(D8:O8) -> 711794
B9: 중 고 차 | D9: 184 | E9: 344 | F9: 331 | G9: 509 | H9: 538 | I9: 996 | J9: 529 | K9: 234 | L9: 599 | M9: 596 | N9: 365 | O9: 186 | P9: =SUM(D9:O9) -> 5411
B10: 계(a) | D10: =D8+D9 -> 49699 | E10: =E8+E9 -> 42680 | F10: =F8+F9 -> 52812 | G10: =G8+G9 -> 61595 | H10: =H8+H9 -> 61435 | I10: =I8+I9 -> 66709 | J10: =J8+J9 -> 72226 | K10: =K8+K9 -> 44972 | ... O10: =O8+O9 -> 68881 | P10: =SUM(D10:O10) -> 717205
A11: 수 입 차 | B11: 승 용 차 | C11: 아우디 | D11: 48 | E11: 56 | F11: 51 | G11: 68 | H11: 42 | I11: 380 | J11: 84 | K11: 911 | L11: 951 | M11: 653 | N11: 1090 | O11: 833 | P11: =SUM(D11:O11) -> 5167
C12: 폭스바겐 | D12: 312 | E12: 262 | F12: 310 | G12: 561 | H12: 373 | I12: 574 | J12: 370 | K12: 782 | L12: 1370 | M12: 745 | N12: 654 | O12: 617 | P12: =SUM(D12:O12) -> 6930
C13: BMW | D13: 841 | E13: 833 | F13: 1114 | G13: 1568 | H13: 1166 | I13: 1749 | J13: 1010 | K13: 2715 | L13: 2128 | M13: 1507 | N13: 1936 | O13: 2247 | P13: =SUM(D13:O13) -> 18814
C14: 벤츠 | D14: 1814 | E14: 75 | F14: 1023 | G14: 1425 | H14: 1049 | I14: 2207 | J14: 1034 | K14: 3521 | L14: 927 | M14: 1586 | N14: 1158 | O14: 1492 | P14: =SUM(D14:O14) -> 17311
C15: 크라이슬러 | D15: 408 | E15: 141 | F15: 18 | G15: 405 | H15: 49 | I15: 342 | J15: 0 | K15: 105 | L15: 44 | M15: 0 | N15: 0 | O15: 0 | P15: =SUM(D15:O15) -> 1512
C16: 포드 | D16: 251 | E16: 324 | F16: 0 | G16: 642 | H16: 1210 | I16: 0 | J16: 119 | K16: 338 | L16: 355 | M16: 238 | N16: 839 | O16: 0 | P16: =SUM(D16:O16) -> 4316
C17: 재규어 | D17: 52 | E17: 41 | F17: 72 | G17: 49 | H17: 40 | I17: 51 | J17: 128 | K17: 127 | L17: 63 | M17: 20 | N17: 143 | O17: 141 | P17: =SUM(D17:O17) -> 927
C18: 랜드로버 | D18: 55 | E18: 51 | F18: 127 | G18: 60 | H18: 124 | I18: 48 | J18: 92 | K18: 103 | L18: 110 | M18: 42 | N18: 121 | O18: 111 | P18: =SUM(D18:O18) -> 1044
C19: 볼보 | D19: 216 | E19: 236 | F19: 253 | G19: 45 | H19: 10 | I19: 2 | J19: 32 | K19: 160 | L19: 77 | M19: 171 | N19: 129 | O19: 203 | P19: =SUM(D19:O19) -> 1534
C20: 푸조 | D20: 108 | E20: 73 | F20: 50 | G20: 107 | H20: 137 | I20: 108 | J20: 89 | K20: 191 | L20: 409 | M20: 44 | N20: 336 | O20: 297 | P20: =SUM(D20:O20) -> 1949
C21: 포르쉐 | D21: 41 | E21: 31 | F21: 76 | G21: 75 | H21: 11 | I21: 57 | J21: 20 | K21: 74 | L21: 96 | M21: 63 | N21: 106 | O21: 62 | P21: =SUM(D21:O21) -> 712
C22: 캐딜락 | D22: 0 | E22: 0 | F22: 0 | G22: 66 | H22: 0 | I22: 0 | J22: 0 | K22: 14 | M22: 0 | N22: 0 | O22: 0 | P22: =SUM(D22:O22) -> 80
C23: 토요타&렉서스 | D23: 0 | E23: 0 | F23: 0 | G23: 575 | H23: 419 | I23: 691 | J23: 672 | K23: 560 | L23: 915 | M23: 767 | N23: 1137 | O23: 1119 | P23: =SUM(D23:O23) -> 6855
C24: 스바루 | D24: 0 | E24: 0 | F24: 0 | G24: 40 | H24: 0 | I24: 0 | J24: 0 | K24: 116 | L24: 0 | M24: 0 | N24: 0 | O24: 0 | P24: =SUM(D24:O24) -> 156
C25: 롤스로이스 | D25: 0 | E25: 0 | F25: 0 | G25: 0 | H25: 1 | I25: 2 | J25: 1 | K25: 3 | L25: 0 | M25: 1 | N25: 1 | O25: 0 | P25: =SUM(D25:O25) -> 9
C26: 닛산 | D26: 136 | E26: 199 | F26: 147 | G26: 259 | H26: 584 | I26: 217 | J26: 81 | K26: 0 | L26: 0 | M26: 0 | N26: 0 | O26: 0 | P26: =SUM(D26:O26) -> 1623
B27: H & H | C27: 벤츠트럭 | D27: 59 | E27: 18 | F27: 56 | G27: 55 | H27: 134 | I27: 59 | J27: 47 | K27: 49 | L27: 78 | M27: 71 | N27: 65 | O27: 38 | P27: =SUM(D27:O27) -> 729
C28: 만트럭 | D28: 0 | E28: 10 | F28: 23 | G28: 22 | H28: 74 | I28: 37 | J28: 0 | K28: 58 | L28: 0 | M28: 0 | N28: 24 | O28: 26 | P28: =SUM(D28:O28) -> 274
C29: 존디어 | D29: 0 | E29: 0 | F29: 0 | G29: 0 | H29: 0 | I29: 0 | J29: 0 | K29: 0 | L29: 0 | M29: 0 | N29: 0 | O29: 0 | P29: =SUM(D29:O29) -> 0
C30: 캐터필라 | D30: 0 | E30: 0 | F30: 0 | G30: 0 | H30: 0 | I30: 0 | J30: 0 | K30: 0 | L30: 0 | M30: 0 | N30: 0 | O30: 0 | P30: =SUM(D30:O30) -> 0
C31: 기 타 | D31: 86 | E31: 58 | F31: 93 | G31: 94 | H31: 120 | I31: 57 | J31: 70 | K31: 112 | L31: 143 | M31: 95 | N31: 213 | O31: 88 | P31: =SUM(D31:O31) -> 1229
B32: 계(b) | D32: =SUM(D11:D31) -> 4427 | E32: =SUM(E11:E31) -> 2408 | F32: =SUM(F11:F31) -> 3413 | G32: =SUM(G11:G31) -> 6116 | H32: =SUM(H11:H31) -> 5543 | I32: =SUM(I11:I31) -> 6581 | J32: =SUM(J11:J31) -> 3849 | K32: =SUM(K11:K31) -> 9939 | ... O32: =SUM(O11:O31) -> 7274 | P32: =SUM(D32:O32) -> 71171
A33: 합 계(a+b) | D33: =SUM(D10,D32) -> 54126 | E33: =SUM(E10,E32) -> 45088 | F33: =SUM(F10,F32) -> 56225 | G33: =SUM(G10,G32) -> 67711 | H33: =SUM(H10,H32) -> 66978 | I33: =SUM(I10,I32) -> 73290 | J33: =SUM(J10,J32) -> 76075 | K33: =SUM(K10,K32) -> 54911 | ... O33: =SUM(O10,O32) -> 76155 | P33: =SUM(D33:O33) -> 788376
A34: T/S(c) | D34: 11304 | E34: 12838 | F34: 15010 | G34: 15121 | H34: 10260 | I34: 11081 | J34: 14857 | K34: 9987 | L34: 13224 | M34: 10026 | N34: 14115 | O34: 20750 | P34: =SUM(D34:O34) -> 158573
A35: 총 계(a+b+c) | D35: =D33+D34 -> 65430 | E35: =E33+E34 -> 57926 | F35: =F33+F34 -> 71235 | G35: =G33+G34 -> 82832 | H35: =H33+H34 -> 77238 | I35: =I33+I34 -> 84371 | J35: =J33+J34 -> 90932 | K35: =K33+K34 -> 64898 | ... O35: =O33+O34 -> 96905 | P35: =SUM(D35:O35) -> 946949

Sheet 2011
A1: 2011년 자동차 선적현황
A2: 구 분 | D2: 1월 | E2: 2월 | F2: 3월 | G2: 4월 | H2: 5월 | I2: 6월 | J2: 7월 | K2: 8월 | L2: 9월 | M2: 10월 | N2: 11월 | O2: 12월 | P2: 합 계
A3: 수 출 차 | B3: 신 차 | C3: 기아 | D3: 62324 | E3: 43168 | F3: 61917 | G3: 58416 | H3: 52039 | I3: 60664 | J3: 71400 | K3: 45462 | L3: 50190 | M3: 55268 | N3: 69636 | O3: 72864 | P3: =SUM(D3:O3) -> 703348
C4: 현대 | D4: 5999 | E4: 6643 | F4: 9334 | G4: 9184 | H4: 6628 | I4: 7621 | J4: 9204 | K4: 2341 | L4: 3915 | M4: 9494 | N4: 7069 | O4: 10107 | P4: =SUM(D4:O4) -> 87539
C5: GM대우 | D5: 132 | E5: 0 | F5: 0 | G5: 0 | H5: 0 | I5: 194 | J5: 0 | K5: 0 | L5: 1 | M5: 0 | N5: 0 | O5: 0 | P5: =SUM(D5:O5) -> 327
C6: 쌍용 | D6: 3352 | E6: 1491 | F6: 3588 | G6: 2409 | H6: 3123 | I6: 4610 | J6: 4777 | K6: 3176 | L6: 3356 | M6: 5147 | N6: 3270 | O6: 2391 | P6: =SUM(D6:O6) -> 40690
C7: 기타 | D7: 1 | E7: 3 | F7: 17 | G7: 30 | H7: 36 | I7: 8 | J7: 101 | K7: 28 | L7: 83 | M7: 47 | N7: 16 | O7: 35 | P7: =SUM(D7:O7) -> 405
C8: 소 계 | D8: =SUM(D3:D7) -> 71808 | E8: =SUM(E3:E7) -> 51305 | F8: =SUM(F3:F7) -> 74856 | G8: =SUM(G3:G7) -> 70039 | H8: =SUM(H3:H7) -> 61826 | I8: =SUM(I3:I7) -> 73097 | J8: =SUM(J3:J7) -> 85482 | K8: =SUM(K3:K7) -> 51007 | ... O8: =SUM(O3:O7) -> 85397 | P8: =SUM(D8:O8) -> 832309
B9: 중 고 차 | D9: 357 | E9: 288 | F9: 105 | G9: 426 | H9: 671 | I9: 307 | J9: 434 | K9: 721 | L9: 612 | M9: 273 | N9: 129 | O9: 229 | P9: =SUM(D9:O9) -> 4552
B10: 계(a) | D10: =D8+D9 -> 72165 | E10: =E8+E9 -> 51593 | F10: =F8+F9 -> 74961 | G10: =G8+G9 -> 70465 | H10: =H8+H9 -> 62497 | I10: =I8+I9 -> 73404 | J10: =J8+J9 -> 85916 | K10: =K8+K9 -> 51728 | ... O10: =O8+O9 -> 85626 | P10: =SUM(D10:O10) -> 836861
A11: 수 입 차 | B11: 승 용 차 | C11: 아우디 | D11: 531 | E11: 1245 | F11: 746 | G11: 680 | H11: 1028 | I11: 635 | J11: 316 | K11: 1108 | L11: 1186 | M11: 417 | N11: 1295 | O11: 1330 | P11: =SUM(D11:O11) -> 10517
C12: 폭스바겐 | D12: 158 | E12: 1015 | F12: 483 | G12: 1370 | H12: 831 | I12: 1274 | J12: 876 | K12: 2154 | L12: 1219 | M12: 834 | N12: 961 | O12: 1355 | P12: =SUM(D12:O12) -> 12530
C13: BMW | D13: 923 | E13: 3446 | F13: 3168 | G13: 2760 | H13: 4019 | I13: 2616 | J13: 1509 | K13: 2032 | L13: 3780 | M13: 1684 | N13: 1772 | O13: 1560 | P13: =SUM(D13:O13) -> 29269
C14: 벤츠 | D14: 1399 | E14: 2619 | F14: 2157 | G14: 1696 | H14: 2941 | I14: 1677 | J14: 752 | K14: 1132 | L14: 2983 | M14: 1121 | N14: 1433 | O14: 1550 | P14: =SUM(D14:O14) -> 21460
C15: 크라이슬러 | D15: 0 | E15: 0 | F15: 0 | G15: 0 | H15: 0 | I15: 63 | J15: 358 | K15: 655 | L15: 192 | M15: 202 | N15: 330 | O15: 503 | P15: =SUM(D15:O15) -> 2303
C16: 포드 | D16: 910 | E16: 131 | F16: 0 | G16: 296 | H16: 450 | I16: 716 | J16: 805 | K16: 628 | L16: 261 | M16: 665 | N16: 0 | O16: 296 | P16: =SUM(D16:O16) -> 5158
C17: 재규어 | D17: 135 | E17: 85 | F17: 85 | G17: 47 | H17: 81 | I17: 33 | J17: 45 | K17: 77 | L17: 48 | M17: 96 | N17: 83 | O17: 163 | P17: =SUM(D17:O17) -> 978
C18: 랜드로버 | D18: 72 | E18: 180 | F18: 100 | G18: 59 | H18: 242 | I18: 31 | J18: 92 | K18: 133 | L18: 45 | M18: 97 | N18: 144 | O18: 137 | P18: =SUM(D18:O18) -> 1332
C19: 볼보 | D19: 77 | E19: 114 | F19: 475 | G19: 135 | H19: 260 | I19: 161 | J19: 202 | K19: 80 | L19: 57 | M19: 109 | N19: 118 | O19: 156 | P19: =SUM(D19:O19) -> 1944
C20: 푸조 | D20: 372 | E20: 152 | F20: 204 | G20: 237 | H20: 260 | I20: 367 | J20: 270 | K20: 437 | L20: 247 | M20: 270 | N20: 158 | O20: 164 | P20: =SUM(D20:O20) -> 3138
C21: 포르쉐 | D21: 60 | E21: 113 | F21: 73 | G21: 177 | H21: 214 | I21: 129 | J21: 109 | K21: 105 | L21: 115 | M21: 98 | N21: 108 | O21: 87 | P21: =SUM(D21:O21) -> 1388
C22: 캐딜락 | D22: 0 | E22: 0 | F22: 0 | G22: 0 | H22: 0 | I22: 0 | J22: 14 | K22: 18 | L22: 41 | M22: 7 | N22: 44 | O22: 51 | P22: =SUM(D22:O22) -> 175
C23: 토요타&렉서스 | D23: 900 | E23: 603 | F23: 684 | G23: 264 | H23: 202 | I23: 665 | J23: 905 | K23: 728 | L23: 362 | M23: 543 | N23: 831 | O23: 665 | P23: =SUM(D23:O23) -> 7352
... C27: 닛산 | D27: 21 | E27: 0 | F27: 0 | G27: 350 | H27: 70 | I27: 327 | J27: 173 | K27: 613 | L27: 724 | M27: 431 | N27: 774 | O27: 875 | P27: =SUM(D27:O27) -> 4358
B28: H & H | C28: 벤츠트럭 | D28: 66 | E28: 41 | F28: 60 | G28: 94 | H28: 77 | I28: 78 | J28: 83 | K28: 31 | L28: 128 | M28: 38 | N28: 45 | O28: 25 | P28: =SUM(D28:O28) -> 766
C29: 만트럭 | D29: 0 | E29: 0 | F29: 45 | G29: 86 | H29: 76 | I29: 25 | J29: 32 | K29: 46 | L29: 0 | M29: 0 | N29: 10 | O29: 16 | P29: =SUM(D29:O29) -> 336
C30: 존디어 | D30: 0 | E30: 0 | F30: 0 | G30: 0 | H30: 0 | I30: 0 | J30: 0 | K30: 0 | L30: 0 | M30: 0 | N30: 0 | O30: 0 | P30: =SUM(D30:O30) -> 0
C31: 캐터필라 | D31: 0 | E31: 0 | F31: 0 | G31: 0 | H31: 0 | I31: 0 | J31: 0 | K31: 0 | L31: 0 | M31: 0 | N31: 0 | O31: 0 | P31: =SUM(D31:O31) -> 0
C32: 기 타 | D32: 73 | E32: 130 | F32: 86 | G32: 261 | H32: 406 | I32: 190 | J32: 266 | K32: 171 | L32: 107 | M32: 193 | N32: 148 | O32: 124 | P32: =SUM(D32:O32) -> 2155
B33: 계(b) | D33: =SUM(D11:D32) -> 5697 | E33: =SUM(E11:E32) -> 9875 | F33: =SUM(F11:F32) -> 8367 | G33: =SUM(G11:G32) -> 8513 | H33: =SUM(H11:H32) -> 11274 | I33: =SUM(I11:I32) -> 9070 | J33: =SUM(J11:J32) -> 6870 | K33: =SUM(K11:K32) -> 10369 | ... O33: =SUM(O11:O32) -> 9570 | P33: =SUM(D33:O33) -> 107428
A34: 합 계(a+b) | D34: =SUM(D10,D33) -> 77862 | E34: =SUM(E10,E33) -> 61468 | F34: =SUM(F10,F33) -> 83328 | G34: =SUM(G10,G33) -> 78978 | H34: =SUM(H10,H33) -> 73771 | I34: =SUM(I10,I33) -> 82474 | J34: =SUM(J10,J33) -> 92786 | K34: =SUM(K10,K33) -> 62097 | ... O34: =SUM(O10,O33) -> 95196 | P34: =SUM(D34:O34) -> 944289
A35: T/S(c) | D35: 27486 | E35: 20314 | F35: 25131 | G35: 32124 | H35: 22212 | I35: 29358 | J35: 30257 | K35: 21940 | L35: 27255 | M35: 31089 | N35: 25849 | O35: 35050 | P35: =SUM(D35:O35) -> 328065
A36: 총 계(a+b+c) | D36: =D34+D35 -> 105348 | E36: =E34+E35 -> 81782 | F36: =F34+F35 -> 108459 | G36: =G34+G35 -> 111102 | H36: =H34+H35 -> 95983 | I36: =I34+I35 -> 111832 | J36: =J34+J35 -> 123043 | K36: =K34+K35 -> 84037 | ... O36: =O34+O35 -> 130246 | P36: =SUM(D36:O36) -> 1272354

Sheet 2012
A1: 2012년 자동차 선적현황
A2: 구 분 | D2: 1월 | E2: 2월 | F2: 3월 | G2: 4월 | H2: 5월 | I2: 6월 | J2: 7월 | K2: 8월 | L2: 9월 | M2: 10월 | N2: 11월 | O2: 12월 | P2: 합 계
A3: 수 출 차 | B3: 승 용 | C3: 기아 | D3: 56648 | E3: 74658 | F3: 70746 | G3: 61859 | H3: =64155 -> 64155 | I3: 66269 | J3: 61189 | K3: 29346 | L3: 51689 | M3: 52730 | N3: 65092 | O3: 58608 | P3: =SUM(D3:O3) -> 712989
C4: 현대 | D4: 7383 | E4: 9710 | F4: =2295+4914 -> 7209 | G4: =4660+5818 -> 10478 | H4: =3764+4696 -> 8460 | I4: =3064+5385 -> 8449 | J4: =3439+6278 -> 9717 | K4: =1764+1534 -> 3298 | L4: =2698+5242 -> 7940 | M4: =2639+3094 -> 5733 | N4: =4969+5860 -> 10829 | O4: =3800+5702 -> 9502 | P4: =SUM(D4:O4) -> 98708
C5: 쌍용 | D5: 2721 | E5: 2135 | F5: 1661 | G5: =2804 -> 2804 | H5: 2249 | I5: =2453 -> 2453 | J5: 2436 | K5: 1715 | L5: 2175 | M5: =2287 -> 2287 | N5: 3094 | O5: 4109 | P5: =SUM(D5:O5) -> 29839
C6: GM KOREA | D6: 0 | E6: 0 | F6: 0 | P6: =SUM(D6:O6) -> 0
C7: 르노삼성 | D7: 0 | E7: 0 | F7: 0 | P7: =SUM(D7:O7) -> 0
C8: 기타 | D8: 0 | E8: 0 | F8: 0 | G8: 86 | I8: 34 | J8: 1 | M8: =6 -> 6 | N8: 20 | O8: 437 | P8: =SUM(D8:O8) -> 584
C9: 소 계 | D9: =SUM(D3:D8) -> 66752 | E9: =SUM(E3:E8) -> 86503 | F9: =SUM(F3:F8) -> 79616 | G9: =SUM(G3:G8) -> 75227 | H9: =SUM(H3:H8) -> 74864 | I9: =SUM(I3:I8) -> 77205 | J9: =SUM(J3:J8) -> 73343 | K9: =SUM(K3:K8) -> 34359 | ... O9: =SUM(O3:O8) -> 72656 | P9: =SUM(D9:O9) -> 842120
B10: 상 용 | C10: 두산 | D10: 105 | E10: 7 | F10: 146 | G10: =121 -> 121 | H10: 217 | I10: 104 | J10: 79 | K10: 141 | L10: 78 | M10: 51 | N10: 80 | O10: 124 | P10: =SUM(D10:O10) -> 1253
C11: 현대 | D11: 110 | E11: 37 | F11: 106 | G11: =107 -> 107 | I11: 63 | J11: =50 -> 50 | K11: 29 | L11: 25 | M11: 35 | N11: 1 | O11: 87 | P11: =SUM(D11:O11) -> 650
C12: 타타대우 | E12: 35 | F12: 113 | G12: 96 | I12: 145 | J12: 4 | K12: =58 -> 58 | L12: 45 | M12: 25 | N12: 50 | O12: 59
C13: 기타 | D13: 4 | E13: 17 | F13: =51 -> 51 | G13: 49 | I13: =28 -> 28 | K13: =3 -> 3 | L13: =3+103 -> 106 | M13: 1 | N13: 9 | O13: 13 | P13: =SUM(D13:O13) -> 281
C14: 소 계 | D14: =SUM(D10:D13) -> 219 | E14: =SUM(E10:E13) -> 96 | F14: =SUM(F10:F13) -> 416 | G14: =SUM(G10:G13) -> 373 | H14: =SUM(H10:H13) -> 217 | I14: =SUM(I10:I13) -> 340 | J14: =SUM(J10:J13) -> 133 | K14: =SUM(K10:K13) -> 231 | ... O14: =SUM(O10:O13) -> 283 | P14: =SUM(D14:O14) -> 2814
B15: 중 고 차 | D15: 71 | E15: 235 | F15: =246+1 -> 247 | G15: =103+49 -> 152 | H15: =247+228+10 -> 485 | I15: =372+186+9 -> 567 | J15: =43+48+3 -> 94 | K15: =63+86+22 -> 171 | L15: =431+190+26 -> 647 | M15: =377+380+22 -> 779 | N15: =266+130+9 -> 405 | O15: =5+119+334 -> 458 | P15: =SUM(D15:O15) -> 4311
B16: 개품화물 | D16: 63 | E16: 62 | F16: 155 | G16: 76 | H16: 42 | I16: 45 | J16: 24 | K16: 36 | L16: 95 | M16: 34 | N16: 205 | O16: 171 | P16: =SUM(D16:O16) -> 1008
B17: 계(a) | D17: =D9+D16+D14+D15 -> 67105 | E17: =E9+E16+E14+E15 -> 86896 | F17: =F9+F16+F14+F15 -> 80434 | G17: =G9+G16+G14+G15 -> 75828 | H17: =H9+H16+H14+H15 -> 75608 | I17: =I9+I16+I14+I15 -> 78157 | J17: =J9+J16+J14+J15 -> 73594 | K17: =K9+K14+K15+K16 -> 34797 | L17: =L9+L16+L14+L15 -> 62800 | M17: =M9+M16+M14+M15 -> 61681 | N17: =N9+N16+N14+N15 -> 79785 | O17: =O9+O16+O14+O15 -> 73568 | P17: =SUM(D17:O17) -> 850253
A18: 수 입 차 | B18: 승 용 | C18: BMW | D18: 2526 | E18: 1295 | F18: 5343 | G18: 2874 | H18: 3861 | I18: 2474 | J18: 1210 | K18: 3504 | L18: 3349 | M18: 2248 | N18: 3520 | O18: 1778 | P18: =SUM(D18:O18) -> 33982
C19: 벤츠 | D19: 1999 | E19: 2058 | F19: 2728 | G19: 1766 | H19: 1399 | I19: 819 | J19: 484 | K19: 1155 | L19: 1877 | M19: 1890 | N19: 2622 | O19: 1460 | P19: =SUM(D19:O19) -> 20257
C20: 아우디 | D20: 873 | E20: 992 | F20: 1582 | G20: 1480 | H20: 1495 | I20: 749 | J20: 832 | K20: 1988 | L20: 1018 | M20: 1735 | N20: 1282 | O20: 683 | P20: =SUM(D20:O20) -> 14709
C21: 폭스바겐 | D21: 836 | E21: 506 | F21: 1341 | G21: 1827 | H21: 1466 | I21: 739 | J21: 1007 | K21: 3057 | L21: 1795 | M21: 2067 | N21: 2381 | O21: 1605 | P21: =SUM(D21:O21) -> 18627
C22: 포드 | D22: 829 | E22: 50 | F22: 347 | G22: 82 | H22: 179 | I22: 260 | J22: 392 | K22: 202 | L22: 733 | M22: 430 | N22: 904 | O22: 271 | P22: =SUM(D22:O22) -> 4679
C23: 재규어 | D23: 117 | E23: 59 | F23: 89 | G23: 79 | H23: 161 | I23: 64 | J23: 100 | K23: 77 | L23: 59 | M23: 98 | N23: 60 | O23: 169 | P23: =SUM(D23:O23) -> 1132
C24: 닛산 | D24: 123 | E24: 104 | F24: 243 | G24: 273 | H24: 250 | I24: 275 | J24: 47 | K24: 205 | L24: 77 | M24: 266 | N24: 546 | O24: 517 | P24: =SUM(D24:O24) -> 2926
C25: 포르쉐 | D25: 42 | E25: 116 | F25: 160 | G25: 96 | H25: 56 | I25: 171 | J25: 108 | K25: 159 | L25: 167 | M25: 50 | N25: 89 | O25: 254 | P25: =SUM(D25:O25) -> 1468
C26: 볼보 | D26: 219 | E26: 58 | F26: 208 | G26: 194 | H26: 103 | I26: 96 | J26: 115 | K26: 178 | L26: 16 | M26: 51 | N26: 196 | O26: 230 | P26: =SUM(D26:O26) -> 1664
C27: 랜드로버 | D27: 138 | E27: 52 | F27: 194 | G27: 29 | H27: 205 | I27: 140 | J27: 239 | K27: 113 | L27: 147 | M27: 145 | N27: 106 | O27: 333 | P27: =SUM(D27:O27) -> 1841
C28: 도요타&렉서스 | D28: 1852 | E28: 1419 | F28: 1754 | G28: 1686 | H28: 2018 | I28: 1419 | J28: 962 | K28: 1016 | L28: 1287 | M28: 961 | N28: 1395 | O28: 1401 | P28: =SUM(D28:O28) -> 17170
C29: 크라이슬러 | D29: 409 | E29: 231 | F29: 593 | G29: 364 | H29: 789 | I29: 330 | J29: 233 | K29: 396 | L29: 318 | M29: 545 | N29: 338 | O29: 908 | P29: =SUM(D29:O29) -> 5454
C30: 푸조 | D30: 141 | E30: 0 | F30: 249 | G30: 217 | H30: 282 | I30: 232 | J30: 79 | K30: 356 | L30: 240 | M30: 142 | N30: 207 | O30: 200 | P30: =SUM(D30:O30) -> 2345
C31: 캐딜락 | E31: 34 | F31: 116 | G31: 0 | H31: 68 | I31: 97 | J31: 35 | K31: 5 | L31: 71 | M31: 141 | N31: 20 | O31: 50 | P31: =SUM(D31:O31) -> 637
C32: 혼다 | D32: 573 | E32: 256 | F32: 98 | G32: 0 | H32: 57 | I32: 150 | J32: 224 | K32: 459 | L32: 459 | M32: 1 | N32: 99 | O32: 904 | P32: =SUM(D32:O32) -> 3280
C33: 미쓰비씨 | G33: 50 | H33: 68 | L33: 68 | O33: 0
C34: 기타 | D34: 14 | E34: 97 | F34: =50+42 -> 92 | H34: 10 | I34: 7 | J34: 12 | K34: 5 | L34: 18 | M34: 48 | N34: 7 | O34: 6 | P34: =SUM(D34:O34) -> 316
C35: 소계 | D35: =SUM(D18:D34) -> 10691 | E35: =SUM(E18:E34) -> 7327 | F35: =SUM(F18:F34) -> 15137 | G35: =SUM(G18:G34) -> 11017 | H35: =SUM(H18:H34) -> 12467 | I35: =SUM(I18:I34) -> 8022 | J35: =SUM(J18:J34) -> 6079 | K35: =SUM(K18:K34) -> 12875 | ... O35: =SUM(O18:O34) -> 10769 | P35: =SUM(D35:O35) -> 130673
B36: 상 용 | C36: 벤츠트럭 | D36: 47 | E36: 86 | F36: 44 | G36: 92 | H36: 54 | I36: 50 | J36: 33 | K36: 76 | L36: 72 | M36: 81 | N36: 83 | O36: 34 | P36: =SUM(D36:O36) -> 752
C37: 만트럭 | D37: 47 | E37: 41 | F37: 38 | G37: 48 | H37: 40 | I37: 35 | J37: 11 | K37: 53 | L37: 33 | M37: 80 | N37: 38 | O37: 31 | P37: =SUM(D37:O37) -> 495
C38: 크레인 | D38: 16 | E38: 12 | F38: 15 | G38: 22 | H38: 5 | J38: 3 | K38: 8 | L38: 19 | M38: 32 | N38: 11 | O38: 11 | P38: =SUM(D38:O38) -> 154
C39: 기타 | D39: 10 | E39: 7 | F39: 43 | G39: 81 | H39: 146 | I39: 36 | J39: 50 | K39: 59 | L39: 44 | M39: 83 | N39: 66 | O39: 67 | P39: =SUM(D39:O39) -> 692
C40: 소계 | D40: =SUM(D36:D39) -> 120 | E40: =SUM(E36:E39) -> 146 | F40: =SUM(F36:F39) -> 140 | G40: =SUM(G36:G39) -> 243 | H40: =SUM(H36:H39) -> 245 | I40: =SUM(I36:I39) -> 121 | J40: =SUM(J36:J39) -> 97 | K40: =SUM(K36:K39) -> 196 | ... O40: =SUM(O36:O39) -> 143 | P40: =SUM(D40:O40) -> 2093
...

Sheet 2013
A1: 2013년 자동차 선적현황
A2: 구 분 | D2: 1월 | E2: 2월 | F2: 3월 | G2: 4월 | H2: 5월 | I2: 6월 | J2: 7월 | K2: 8월 | L2: 9월 | M2: 10월 | N2: 11월 | O2: 12월 | P2: 합 계
A3: 수 출 차 | B3: 승 용 | C3: 기아 | D3: 65583 | E3: 51592 | F3: 66493 | G3: 59519 | H3: 65181 | I3: 65516 | J3: 60531 | K3: 45157 | L3: 39862 | M3: 51840 | N3: 67891 | O3: 71915 | P3: =SUM(D3:O3) -> 711080
C4: 현대 | D4: =4242+4160 -> 8402 | E4: =4470+5977 -> 10447 | F4: =1774+4669 -> 6443 | G4: =551+6012 -> 6563 | H4: =82+6298 -> 6380 | I4: =2044+6073 -> 8117 | J4: =2937+3613 -> 6550 | K4: =1594+3792 -> 5386 | L4: =819+4413 -> 5232 | M4: =3124+5284 -> 8408 | N4: =1824+4851 -> 6675 | O4: =2775+7004 -> 9779 | P4: =SUM(D4:O4) -> 88382
C5: 쌍용 | D5: 2848 | E5: 1509 | F5: 2722 | G5: 2185 | H5: 2953 | I5: 2627 | J5: 2863 | K5: 2807 | L5: 2609 | M5: 3161 | N5: 3581 | O5: 4485 | P5: =SUM(D5:O5) -> 34350
C6: GM KOREA | P6: =SUM(D6:O6) -> 0
C7: 르노삼성 | P7: =SUM(D7:O7) -> 0
C8: 기타 | D8: 0 | E8: 0 | F8: 77 | G8: 104 | H8: 601 | I8: 8 | J8: 6 | K8: 100 | L8: 363 | M8: 147 | N8: 210 | O8: 214 | P8: =SUM(D8:O8) -> 1830
C9: 소 계 | D9: =SUM(D3:D8) -> 76833 | E9: =SUM(E3:E8) -> 63548 | F9: =SUM(F3:F8) -> 75735 | G9: =SUM(G3:G8) -> 68371 | H9: =SUM(H3:H8) -> 75115 | I9: =SUM(I3:I8) -> 76268 | J9: =SUM(J3:J8) -> 69950 | K9: =SUM(K3:K8) -> 53450 | ... O9: =SUM(O3:O8) -> 86393 | P9: =SUM(D9:O9) -> 835642
B10: 상 용 | C10: 두산 | D10: 17 | E10: 84 | F10: 133 | G10: 28 | H10: 125 | I10: 61 | J10: 211 | K10: 46 | L10: 18 | M10: 23 | N10: 33 | O10: 24 | P10: =SUM(D10:O10) -> 803
C11: 현대 | D11: 37 | E11: 53 | F11: 89 | G11: 23 | H11: 17 | I11: 33 | J11: 47 | K11: 19 | L11: 4 | M11: 16 | N11: 4 | O11: 110 | P11: =SUM(D11:O11) -> 452
C12: 타타대우 | D12: 108 | E12: 27 | F12: 3 | G12: 50 | H12: 4 | I12: 10 | J12: 3 | K12: 44 | L12: 25 | M12: 8 | P12: =SUM(D12:O12) -> 282
C13: 기타 | D13: 136 | E13: 19 | F13: 68 | G13: 26 | H13: 26 | I13: 21 | J13: 29 | K13: 29 | L13: 109 | M13: 28 | N13: 45 | O13: 67 | P13: =SUM(D13:O13) -> 603
C14: 소 계 | D14: =SUM(D10:D13) -> 298 | E14: =SUM(E10:E13) -> 183 | F14: =SUM(F10:F13) -> 293 | G14: =SUM(G10:G13) -> 127 | H14: =SUM(H10:H13) -> 172 | I14: =SUM(I10:I13) -> 125 | J14: =SUM(J10:J13) -> 290 | K14: =SUM(K10:K13) -> 138 | ... O14: =SUM(O10:O13) -> 201 | P14: =SUM(D14:O14) -> 2140
B15: 중 고 차 | D15: =217+97+8 -> 322 | E15: =179+67+2 -> 248 | F15: =958+349+5 -> 1312 | G15: =506+183+6 -> 695 | H15: =381+86+9 -> 476 | I15: =469+178+10 -> 657 | J15: =325+70+21 -> 416 | K15: =432+59+56 -> 547 | L15: =567+153+23 -> 743 | M15: =1067+289+13 -> 1369 | N15: =280+151+13 -> 444 | O15: =640+134+5 -> 779 | P15: =SUM(D15:O15) -> 8008
B16: 개품화물 | D16: 30 | E16: 102 | F16: 95 | G16: 16 | H16: 342 | I16: 186 | J16: 116 | K16: 67 | L16: 35 | M16: 62 | N16: 35 | O16: 60 | P16: =SUM(D16:O16) -> 1146
B17: 계(a) | D17: =D9+D16+D14+D15 -> 77483 | E17: =E9+E16+E14+E15 -> 64081 | F17: =F9+F16+F14+F15 -> 77435 | G17: =G9+G16+G14+G15 -> 69209 | H17: =H9+H16+H14+H15 -> 76105 | I17: =I9+I16+I14+I15 -> 77236 | J17: =J9+J16+J14+J15 -> 70772 | K17: =K9+K14+K15+K16 -> 54202 | L17: =L9+L16+L14+L15 -> 49000 | M17: =M9+M16+M14+M15 -> 65062 | N17: =N9+N16+N14+N15 -> 78918 | O17: =O9+O16+O14+O15 -> 87433 | P17: =SUM(D17:O17) -> 846936
A18: 수 입 차 | B18: 승 용 | C18: BMW | D18: 3604 | E18: 3243 | F18: 3550 | G18: 5377 | H18: 2806 | I18: 4160 | J18: 1686 | K18: 1954 | L18: 4210 | M18: 3962 | N18: 3074 | O18: 4288 | P18: =SUM(D18:O18) -> 41914
C19: 벤츠 | D19: 1933 | E19: 1678 | F19: 1759 | G19: 2649 | H19: 417 | I19: 3259 | J19: 1319 | K19: 1573 | L19: 2625 | M19: 2382 | N19: 2130 | O19: 2778 | P19: =SUM(D19:O19) -> 24502
C20: 아우디 | D20: 1895 | E20: 1704 | F20: 672 | G20: 2231 | H20: 1605 | I20: 1909 | J20: 1436 | K20: 1580 | L20: 2535 | M20: 1492 | N20: 1464 | O20: 3046 | P20: =SUM(D20:O20) -> 21569
C21: 폭스바겐 | D21: 2044 | E21: 1608 | F21: 1605 | G21: 2785 | H21: 2314 | I21: 2228 | J21: 3244 | K21: 2197 | L21: 2472 | M21: 2356 | N21: 1561 | O21: 2312 | P21: =SUM(D21:O21) -> 26726
C22: 포드 | D22: 813 | E22: 496 | F22: 339 | G22: 326 | H22: 690 | I22: 402 | J22: 640 | K22: 589 | L22: 498 | M22: 413 | N22: 1494 | O22: 784 | P22: =SUM(D22:O22) -> 7484
C23: 재규어 | D23: 310 | E23: 77 | F23: 240 | G23: 223 | H23: 160 | I23: 132 | J23: 75 | K23: 204 | L23: 84 | M23: 103 | N23: 137 | O23: 306 | P23: =SUM(D23:O23) -> 2051
C24: 닛산 | D24: 468 | E24: 640 | F24: 511 | G24: 261 | H24: 24 | I24: 39 | J24: 25 | K24: 59 | L24: 414 | M24: 333 | N24: 569 | O24: 399 | P24: =SUM(D24:O24) -> 3742
C25: 포르쉐 | D25: 150 | E25: 221 | F25: 118 | G25: 190 | H25: 230 | I25: 253 | J25: 192 | K25: 215 | L25: 217 | M25: 283 | N25: 138 | O25: 89 | P25: =SUM(D25:O25) -> 2296
C26: 볼보 | D26: 284 | E26: 67 | F26: 218 | G26: 159 | H26: 12 | I26: 34 | J26: 47 | K26: 138 | L26: 271 | M26: 117 | N26: 251 | O26: 433 | P26: =SUM(D26:O26) -> 2031
C27: 랜드로버 | D27: 227 | E27: 335 | F27: 243 | G27: 324 | H27: 260 | I27: 317 | J27: 119 | K27: 257 | L27: 191 | M27: 237 | N27: 227 | O27: 468 | P27: =SUM(D27:O27) -> 3205
C28: 도요타&렉서스 | D28: 590 | E28: 784 | F28: 896 | G28: 733 | H28: 645 | I28: 932 | J28: 808 | K28: 521 | L28: 534 | M28: 787 | N28: 762 | O28: 1083 | P28: =SUM(D28:O28) -> 9075
C29: 크라이슬러 | D29: 1142 | E29: 266 | F29: 317 | G29: 296 | H29: 332 | I29: 170 | J29: 569 | K29: 310 | L29: 298 | M29: 441 | N29: 483 | O29: 697 | P29: =SUM(D29:O29) -> 5321
C30: 푸조 | D30: 394 | E30: 93 | F30: 146 | G30: 336 | H30: 261 | I30: 225 | J30: 238 | K30: 335 | L30: 294 | M30: 164 | N30: 347 | O30: 436 | P30: =SUM(D30:O30) -> 3269
C31: 캐딜락 | E31: 116 | F31: 25 | G31: 53 | H31: 18 | J31: 0 | K31: 6 | L31: 7 | M31: 7 | N31: 19 | P31: =SUM(D31:O31) -> 251
C32: 혼다 | D32: 447 | E32: 858 | F32: 854 | G32: 801 | H32: 467 | J32: 287 | K32: 0 | L32: 204 | N32: 356 | O32: 246 | P32: =SUM(D32:O32) -> 4520
C33: 미쓰비씨 | J33: 0 | K33: 0 | L33: 0
C34: 기타 | D34: 21 | E34: 13 | F34: 42 | G34: 7 | H34: 6 | I34: 6 | J34: 15 | K34: 9 | L34: 16 | M34: 11 | N34: 10 | O34: 45 | P34: =SUM(D34:O34) -> 201
C35: 소계 | D35: =SUM(D18:D34) -> 14322 | E35: =SUM(E18:E34) -> 12199 | F35: =SUM(F18:F34) -> 11535 | G35: =SUM(G18:G34) -> 16751 | H35: =SUM(H18:H34) -> 10247 | I35: =SUM(I18:I34) -> 14066 | J35: =SUM(J18:J34) -> 10700 | K35: =SUM(K18:K34) -> 9947 | ... O35: =SUM(O18:O34) -> 17410 | P35: =SUM(D35:O35) -> 158157
B36: 상 용 | C36: 벤츠트럭 | D36: 104 | E36: 38 | F36: 58 | G36: 90 | H36: 45 | I36: 96 | J36: 75 | K36: 104 | L36: 50 | M36: 70 | N36: 70 | O36: 96 | P36: =SUM(D36:O36) -> 896
C37: 만트럭 | D37: 46 | E37: 40 | F37: 23 | G37: 21 | H37: 130 | I37: 21 | J37: 35 | K37: 100 | L37: 72 | M37: 51 | N37: 80 | O37: 113 | P37: =SUM(D37:O37) -> 732
C38: 크레인 | D38: 19 | E38: 10 | F38: 14 | G38: 7 | H38: 20 | I38: 15 | J38: 5 | K38: 15 | L38: 10 | M38: 1 | N38: 7 | O38: 13 | P38: =SUM(D38:O38) -> 136
C39: 기타 | D39: 165 | E39: 63 | F39: 34 | G39: 106 | H39: 35 | I39: 51 | J39: 58 | K39: 29 | L39: 60 | M39: 65 | N39: 46 | O39: 112 | P39: =SUM(D39:O39) -> 824
C40: 소계 | D40: =SUM(D36:D39) -> 334 | E40: =SUM(E36:E39) -> 151 | F40: =SUM(F36:F39) -> 129 | G40: =SUM(G36:G39) -> 224 | H40: =SUM(H36:H39) -> 230 | I40: =SUM(I36:I39) -> 183 | J40: =SUM(J36:J39) -> 173 | K40: =SUM(K36:K39) -> 248 | ... O40: =SUM(O36:O39) -> 334 | P40: =SUM(D40:O40) -> 2588
...

Sheet 2014
A1: 2014년 자동차 선적현황
A2: 구 분 | D2: 1월 | E2: 2월 | F2: 3월 | G2: 4월 | H2: 5월 | I2: 6월 | J2: 7월 | K2: 8월 | L2: 9월 | M2: 10월 | N2: 11월 | O2: 12월 | P2: 합 계
A3: 수 출 차 | B3: 승 용 | C3: 기아 | D3: 60993 | E3: 61933 | F3: 73398 | G3: 73324 | H3: 69533 | I3: 68610 | J3: 73694 | K3: 50281 | L3: 49591 | M3: 41979 | N3: 74196 | O3: 73051 | P3: =SUM(D3:O3) -> 770583
C4: 현대 | D4: =2801+4766 -> 7567 | E4: =1118+4860 -> 5978 | F4: =1745+4348 -> 6093 | G4: =1235+4554 -> 5789 | H4: =1776+4354 -> 6130 | I4: =6930+1951 -> 8881 | J4: =4313+2264 -> 6577 | K4: =3630+798 -> 4428 | L4: =3286+1620 -> 4906 | M4: =5717+1548 -> 7265 | N4: =3022+3778 -> 6800 | O4: =5325+1782 -> 7107 | P4: =SUM(D4:O4) -> 77521
C5: 쌍용 | D5: 5691 | E5: 2995 | F5: 4234 | G5: 5030 | H5: 3269 | I5: 3449 | J5: 4039 | K5: 3570 | L5: 3256 | M5: 3379 | N5: 4089 | O5: 3634 | P5: =SUM(D5:O5) -> 46635
C6: GM KOREA | P6: =SUM(D6:O6) -> 0
C7: 르노삼성 | P7: =SUM(D7:O7) -> 0
C8: 기타 | D8: 162 | E8: 34 | F8: 86 | G8: 49 | H8: 20 | I8: 261 | J8: 244 | K8: 42 | L8: 147 | M8: 0 | N8: 35 | O8: 9 | P8: =SUM(D8:O8) -> 1089
C9: 소 계 | D9: =SUM(D3:D8) -> 74413 | E9: =SUM(E3:E8) -> 70940 | F9: =SUM(F3:F8) -> 83811 | G9: =SUM(G3:G8) -> 84192 | H9: =SUM(H3:H8) -> 78952 | I9: =SUM(I3:I8) -> 81201 | J9: =SUM(J3:J8) -> 84554 | K9: =SUM(K3:K8) -> 58321 | ... O9: =SUM(O3:O8) -> 83801 | P9: =SUM(D9:O9) -> 895828
B10: 상 용 | C10: 두산 | D10: 38 | E10: 56 | F10: 64 | G10: 90 | H10: 44 | I10: 27 | J10: 35 | K10: 9 | L10: 7 | M10: 25 | N10: 23 | O10: 7 | P10: =SUM(D10:O10) -> 425
C11: 현대 | D11: 69 | E11: 72 | F11: 60 | G11: 33 | H11: 49 | I11: 15 | J11: 40 | K11: 9 | L11: 145 | M11: 58 | N11: 35 | O11: 70 | P11: =SUM(D11:O11) -> 655
C12: 타타대우 | D12: 38 | E12: 46 | F12: 1 | G12: 6 | H12: 0 | I12: 0 | J12: 10 | K12: 0 | L12: 48 | M12: 49 | N12: 34 | O12: 24 | P12: =SUM(D12:O12) -> 256
C13: 중고중장비 | D13: 144 | E13: 33 | F13: 48 | G13: 58 | H13: 82 | I13: 113 | J13: 267 | K13: 171 | L13: 162 | M13: 133 | N13: 58 | O13: 145
C14: 신중장비 | D14: 42 | E14: 38 | F14: 34 | G14: 64 | H14: 46 | I14: 34 | J14: 29 | K14: 25 | L14: 41 | M14: 70 | N14: 68 | O14: 40 | P14: =SUM(D14:O14) -> 531
C15: 소 계 | D15: =SUM(D10:D14) -> 331 | E15: =SUM(E10:E14) -> 245 | F15: =SUM(F10:F14) -> 207 | G15: =SUM(G10:G14) -> 251 | H15: =SUM(H10:H14) -> 221 | I15: =SUM(I10:I14) -> 189 | J15: =SUM(J10:J14) -> 381 | K15: =SUM(K10:K14) -> 214 | ... O15: =SUM(O10:O14) -> 286 | P15: =SUM(D15:O15) -> 3281
B16: 중 고 차 | D16: =349 -> 349 | E16: =39 -> 39 | F16: =146 -> 146 | G16: 166 | H16: 191 | I16: 447 | J16: 171 | K16: 88 | L16: 127 | M16: 234 | N16: 241 | O16: 149 | P16: =SUM(D16:O16) -> 2348
B17: 개품화물 | D17: 102 | E17: 22 | F17: 139 | G17: 234 | H17: 60 | I17: 110 | J17: 104 | K17: 121 | L17: 131 | M17: 53 | N17: 203 | O17: 413 | P17: =SUM(D17:O17) -> 1692
B18: 계(a) | D18: =D9+D17+D15+D16 -> 75195 | E18: =E9+E17+E15+E16 -> 71246 | F18: =F9+F17+F15+F16 -> 84303 | G18: =G9+G17+G15+G16 -> 84843 | H18: =H9+H17+H15+H16 -> 79424 | I18: =I9+I17+I15+I16 -> 81947 | J18: =J9+J17+J15+J16 -> 85210 | K18: =K9+K17+K15+K16 -> 58744 | ... O18: =O9+O17+O15+O16 -> 84649 | P18: =SUM(D18:O18) -> 903149
A19: 수 입 차 | B19: 승 용 | C19: BMW | D19: 1748 | E19: 3822 | F19: 3893 | G19: 4258 | H19: 4535 | I19: 4202 | J19: 2853 | K19: 3940 | L19: 3536 | M19: 2296 | N19: 5507 | O19: 5585 | P19: =SUM(D19:O19) -> 46175
C20: 벤츠 | D20: 2399 | E20: 2365 | F20: 2593 | G20: 2595 | H20: 1973 | I20: 2569 | J20: 2827 | K20: 5176 | L20: 2383 | M20: 2536 | N20: 2388 | O20: 6326 | P20: =SUM(D20:O20) -> 36130
C21: 아우디 | D21: 1370 | E21: 2643 | F21: 2890 | G21: 1734 | H21: 2628 | I21: 2826 | J21: 1587 | K21: 3050 | L21: 2350 | M21: 1123 | N21: 2620 | O21: 3911 | P21: =SUM(D21:O21) -> 28732
C22: 폭스바겐 | D22: 834 | E22: 2029 | F22: 3214 | G22: 2688 | H22: 2815 | I22: 2230 | J22: 2287 | K22: 2661 | L22: 1832 | M22: 2088 | N22: 3241 | O22: 5264 | P22: =SUM(D22:O22) -> 31183
C23: 포드 | D23: 846 | E23: 1006 | F23: 780 | G23: 496 | H23: 403 | I23: 395 | J23: 730 | K23: 288 | L23: 692 | M23: 1016 | N23: 879 | O23: 589 | P23: =SUM(D23:O23) -> 8120
C24: 재규어 | D24: 109 | E24: 236 | F24: 141 | G24: 276 | H24: 132 | I24: 148 | J24: 42 | K24: 185 | L24: 190 | M24: 204 | N24: 139 | O24: 369 | P24: =SUM(D24:O24) -> 2171
C25: 랜드로버 | D25: 168 | E25: 337 | F25: 279 | G25: 268 | H25: 504 | I25: 565 | J25: 330 | K25: 449 | L25: 301 | M25: 569 | N25: 411 | O25: 504 | P25: =SUM(D25:O25) -> 4685
C26: 닛산 | D26: 783 | E26: 688 | F26: 525 | G26: 758 | H26: 225 | I26: 895 | J26: 964 | K26: 431 | L26: 480 | M26: 439 | N26: 742 | O26: 1074 | P26: =SUM(D26:O26) -> 8004
C27: 포르쉐 | D27: 0 | E27: 290 | F27: 214 | G27: 215 | H27: 346 | I27: 231 | J27: 129 | K27: 402 | L27: 211 | M27: 71 | N27: 249 | O27: 506 | P27: =SUM(D27:O27) -> 2864
C28: 볼보 | D28: 202 | E28: 339 | F28: 133 | G28: 254 | H28: 147 | I28: 248 | J28: 415 | K28: 194 | L28: 208 | M28: 294 | N28: 261 | O28: 307 | P28: =SUM(D28:O28) -> 3002
C29: 도요타&렉서스 | D29: 522 | E29: 222 | F29: 725 | G29: 709 | H29: 1024 | I29: 906 | J29: 675 | K29: 650 | L29: 796 | M29: 526 | N29: 922 | O29: 1451 | P29: =SUM(D29:O29) -> 9128
C30: 크라이슬러 | D30: 202 | E30: 120 | F30: 160 | G30: 458 | H30: 373 | I30: 299 | J30: 470 | K30: 1079 | L30: 164 | M30: 873 | N30: 660 | O30: 757 | P30: =SUM(D30:O30) -> 5615
C31: 푸조 | D31: 97 | E31: 233 | F31: 293 | G31: 462 | H31: 165 | I31: 288 | J31: 231 | K31: 328 | L31: 405 | M31: 74 | N31: 686 | O31: 392 | P31: =SUM(D31:O31) -> 3654
C32: 캐딜락 | D32: 0 | G32: 83 | H32: 62 | I32: 20 | J32: 2 | K32: 40 | L32: 45 | M32: 21 | N32: 1 | O32: 95 | P32: =SUM(D32:O32) -> 369
C33: 혼다 | D33: 377 | E33: 359 | F33: 377 | G33: 336 | H33: 280 | I33: 155 | J33: 283 | K33: 315 | L33: 0 | M33: 217 | N33: 327 | O33: 246 | P33: =SUM(D33:O33) -> 3272
C34: 미쓰비씨
C35: 기타 | D35: 18 | E35: 30 | F35: 48 | G35: 11 | H35: 19 | I35: 13 | J35: 13 | K35: 31 | L35: 12 | M35: 37 | N35: 32 | O35: 33 | P35: =SUM(D35:O35) -> 297
C36: 소계 | D36: =SUM(D19:D35) -> 9675 | E36: =SUM(E19:E35) -> 14719 | F36: =SUM(F19:F35) -> 16265 | G36: =SUM(G19:G35) -> 15601 | H36: =SUM(H19:H35) -> 15631 | I36: =SUM(I19:I35) -> 15990 | J36: =SUM(J19:J35) -> 13838 | K36: =SUM(K19:K35) -> 19219 | ... O36: =SUM(O19:O35) -> 27409 | P36: =SUM(D36:O36) -> 193401
B37: 상 용 | C37: 벤츠트럭 | D37: 48 | E37: 22 | F37: 126 | G37: 122 | H37: 25 | I37: 66 | J37: 93 | K37: 106 | L37: 128 | M37: 92 | N37: 132 | O37: 46 | P37: =SUM(D37:O37) -> 1006
C38: 만트럭 | D38: 6 | E38: 56 | F38: 79 | G38: 115 | H38: 129 | I38: 124 | J38: 66 | K38: 67 | L38: 122 | M38: 264 | N38: 259 | O38: 85 | P38: =SUM(D38:O38) -> 1372
C39: 볼보트럭 | D39: 21 | E39: 36 | F39: 92 | G39: 100 | H39: 101 | I39: 105 | J39: 131 | K39: 129 | L39: 107 | M39: 132 | N39: 165 | O39: 280 | P39: =SUM(D39:O39) -> 1399
C40: 기타 | D40: 70 | E40: 46 | F40: 124 | G40: 62 | H40: 124 | I40: 96 | J40: 191 | K40: 101 | L40: 72 | M40: 177 | N40: 187 | O40: 233 | P40: =SUM(D40:O40) -> 1483
...

Sheet 2015
A1: 2015년 자동차 선적현황
A2: 구 분 | D2: 1월 | E2: 2월 | F2: 3월 | G2: 4월 | H2: 5월 | I2: 6월 | J2: 7월 | K2: 8월 | L2: 9월 | M2: 10월 | N2: 11월 | O2: 12월 | P2: 합 계
A3: 수 출 차 | B3: 승 용 | C3: 기아 | D3: 67238 | E3: 52029 | F3: 68678 | G3: 71548 | H3: 67127 | I3: 70560 | J3: 60420 | K3: 42580 | L3: 56291 | M3: 60820 | N3: 67269 | O3: 65023 | P3: =SUM(D3:O3) -> 749583
C4: 현대 | D4: =2987+2702 -> 5689 | E4: =649+2776 -> 3425 | F4: =4964+189 -> 5153 | G4: =5744+851 -> 6595 | H4: =6023+441 -> 6464 | I4: =4961+578 -> 5539 | J4: =5392+125 -> 5517 | K4: =4649+1190 -> 5839 | L4: =4468+1580 -> 6048 | M4: =1309+5691 -> 7000 | N4: =158+7037 -> 7195 | O4: =260+6312 -> 6572 | P4: =SUM(D4:O4) -> 71036
C5: 쌍용 | D5: 4131 | E5: 2565 | F5: 3666 | G5: 4420 | H5: 5264 | I5: 3061 | J5: 3508 | K5: 3900 | L5: 2891 | M5: 3933 | N5: 3398 | O5: 3128 | P5: =SUM(D5:O5) -> 43865
C6: GM KOREA | P6: =SUM(D6:O6) -> 0
C7: 르노삼성 | P7: =SUM(D7:O7) -> 0
C8: 기타 | D8: 10 | E8: 132 | F8: 21 | G8: 120 | H8: 1 | I8: 69 | J8: 34 | K8: 4 | L8: 205 | M8: 25 | N8: 133 | O8: 741 | P8: =SUM(D8:O8) -> 1495
C9: 소 계 | D9: =SUM(D3:D8) -> 77068 | E9: =SUM(E3:E8) -> 58151 | F9: =SUM(F3:F8) -> 77518 | G9: =SUM(G3:G8) -> 82683 | H9: =SUM(H3:H8) -> 78856 | I9: =SUM(I3:I8) -> 79229 | J9: =SUM(J3:J8) -> 69479 | K9: =SUM(K3:K8) -> 52323 | ... O9: =SUM(O3:O8) -> 75464 | P9: =SUM(D9:O9) -> 865979
B10: 상 용 | C10: 두산 | D10: 31 | E10: 29 | F10: 28 | G10: 41 | H10: 4 | I10: 14 | J10: 8 | K10: 7 | L10: 0 | M10: 38 | N10: 3 | O10: 26 | P10: =SUM(D10:O10) -> 229
C11: 현대 | E11: 18 | F11: 84 | G11: 126 | H11: 63 | I11: 13 | J11: 4 | K11: 14 | L11: 4 | M11: 45 | N11: 64 | O11: 129 | P11: =SUM(D11:O11) -> 564
C12: 타타대우 | E12: 88 | F12: 64 | G12: 8 | H12: 11 | I12: 13 | J12: 5 | K12: 0 | L12: 0 | M12: 4 | N12: 16 | O12: 7 | P12: =SUM(D12:O12) -> 216
C13: 중고중장비 | D13: 53 | E13: 96 | F13: 195 | G13: 59 | H13: 80 | I13: 85 | J13: 161 | K13: 99 | L13: 85 | M13: 39 | N13: 211 | O13: 247 | P13: =SUM(D13:O13) -> 1410
C14: 신중장비 | D14: 14 | E14: 38 | F14: 55 | G14: 29 | H14: 83 | I14: 13 | J14: 46 | K14: 25 | L14: 21 | M14: 128 | N14: 15 | O14: 27 | P14: =SUM(D14:O14) -> 494
C15: 소 계 | D15: =SUM(D10:D14) -> 98 | E15: =SUM(E10:E14) -> 269 | F15: =SUM(F10:F14) -> 426 | G15: =SUM(G10:G14) -> 263 | H15: =SUM(H10:H14) -> 241 | I15: =SUM(I10:I14) -> 138 | J15: =SUM(J10:J14) -> 224 | K15: =SUM(K10:K14) -> 145 | ... O15: =SUM(O10:O14) -> 436 | P15: =SUM(D15:O15) -> 2913
B16: 중 고 차 | D16: 163 | E16: 177 | F16: 354 | G16: 177 | H16: 299 | I16: 272 | J16: 241 | K16: 304 | L16: 334 | M16: 650 | N16: 367 | O16: 151 | P16: =SUM(D16:O16) -> 3489
B17: 개품화물 | D17: 43 | E17: 123 | F17: 138 | G17: 106 | H17: 105 | I17: 85 | J17: 66 | K17: 162 | L17: 64 | M17: 48 | N17: 251 | O17: 80 | P17: =SUM(D17:O17) -> 1271
B18: 계(a) | D18: =D9+D17+D15+D16 -> 77372 | E18: =E9+E17+E15+E16 -> 58720 | F18: =F9+F17+F15+F16 -> 78436 | G18: =G9+G17+G15+G16 -> 83229 | H18: =H9+H17+H15+H16 -> 79501 | I18: =I9+I17+I15+I16 -> 79724 | J18: =J9+J17+J15+J16 -> 70010 | K18: =K9+K17+K15+K16 -> 52934 | ... O18: =O9+O17+O15+O16 -> 76131 | P18: =SUM(D18:O18) -> 873652
A19: 수 입 차 | B19: 승 용 | C19: BMW | D19: 4035 | E19: 5071 | F19: 4772 | G19: 4928 | H19: 2777 | I19: 6395 | J19: 3645 | K19: 3933 | L19: 7060 | M19: 4107 | N19: 5237 | O19: 5361 | P19: =SUM(D19:O19) -> 57321
C20: 벤츠 | D20: 1767 | E20: 2672 | F20: 2814 | G20: 5745 | H20: 3271 | I20: 4641 | J20: 2509 | K20: 4705 | L20: 6571 | M20: 2855 | N20: 4754 | O20: 4989 | P20: =SUM(D20:O20) -> 47293
C21: 아우디 | D21: 2355 | E21: 2199 | F21: 1918 | G21: 3607 | H21: 2174 | I21: 2791 | J21: 4192 | K21: 4513 | L21: 3416 | M21: 2035 | N21: 3337 | O21: 3119 | P21: =SUM(D21:O21) -> 35656
C22: 폭스바겐 | D22: 3073 | E22: 3485 | F22: 4291 | G22: 4202 | H22: 2604 | I22: 2718 | J22: 2836 | K22: 3617 | L22: 3214 | M22: 2168 | N22: 2531 | O22: 3962 | P22: =SUM(D22:O22) -> 38701
C23: 포드 | D23: 1768 | E23: 712 | F23: 769 | G23: 1108 | H23: 1557 | I23: 436 | J23: 297 | K23: 315 | L23: 647 | M23: 892 | N23: 745 | O23: 1253 | P23: =SUM(D23:O23) -> 10499
C24: 재규어 | D24: 71 | E24: 251 | F24: 261 | G24: 349 | H24: 144 | I24: 338 | J24: 91 | K24: 92 | L24: 300 | M24: 278 | N24: 930 | O24: 262 | P24: =SUM(D24:O24) -> 3367
C25: 랜드로버 | D25: 340 | E25: 788 | F25: 464 | G25: 461 | H25: 255 | I25: 1198 | J25: 268 | K25: 157 | L25: 307 | M25: 889 | N25: 1118 | O25: 1704 | P25: =SUM(D25:O25) -> 7949
C26: 닛산 | D26: 258 | E26: 271 | F26: 1525 | G26: 485 | H26: 631 | I26: 757 | J26: 1044 | K26: 292 | L26: 421 | M26: 1043 | N26: 1282 | O26: 1517 | P26: =SUM(D26:O26) -> 9526
C27: 포르쉐 | D27: 87 | E27: 178 | F27: 271 | G27: 522 | H27: 279 | I27: 345 | J27: 310 | K27: 515 | L27: 447 | M27: 112 | N27: 287 | O27: 151 | P27: =SUM(D27:O27) -> 3504
C28: 볼보 | D28: 217 | E28: 216 | F28: 451 | G28: 401 | H28: 517 | I28: 688 | J28: 164 | K28: 158 | L28: 198 | M28: 332 | N28: 790 | O28: 645 | P28: =SUM(D28:O28) -> 4777
C29: 도요타&렉서스 | D29: 786 | E29: 833 | F29: 835 | G29: 718 | H29: 602 | I29: 1086 | J29: 601 | K29: 1016 | L29: 856 | M29: 1015 | N29: 760 | O29: 1186 | P29: =SUM(D29:O29) -> 10294
C30: 크라이슬러 | D30: 844 | E30: 119 | F30: 739 | G30: 300 | H30: 694 | I30: 405 | J30: 373 | K30: 946 | L30: 412 | M30: 483 | N30: 493 | O30: 1658 | P30: =SUM(D30:O30) -> 7466
C31: 푸조 | D31: 518 | E31: 608 | F31: 775 | G31: 824 | H31: 1385 | I31: 558 | J31: 606 | K31: 1457 | L31: 31 | M31: 67 | N31: 354 | O31: 335 | P31: =SUM(D31:O31) -> 7518
... C33: 혼다 | D33: 539 | E33: 241 | F33: 432 | G33: 328 | H33: 458 | I33: 643 | J33: 452 | K33: 313 | L33: 274 | M33: 192 | N33: 339 | O33: 297 | P33: =SUM(D33:O33) -> 4508
C34: 미쓰비씨 | P34: =SUM(D34:O34) -> 0
C35: 기타 | D35: 54 | E35: 9 | F35: 48 | G35: 25 | H35: 81 | I35: 111 | J35: 145 | K35: 114 | L35: 309 | M35: 72 | N35: 299 | O35: 255 | P35: =SUM(D35:O35) -> 1522
C36: 소계 | D36: =SUM(D19:D35) -> 16827 | E36: =SUM(E19:E35) -> 17719 | F36: =SUM(F19:F35) -> 20365 | G36: =SUM(G19:G35) -> 24003 | H36: =SUM(H19:H35) -> 17525 | I36: =SUM(I19:I35) -> 23234 | J36: =SUM(J19:J35) -> 17659 | K36: =SUM(K19:K35) -> 23625 | ... O36: =SUM(O19:O35) -> 29289 | P36: =SUM(D36:O36) -> 258398
B37: 상 용 | C37: 벤츠트럭 | D37: 95 | E37: 79 | F37: 12 | G37: 84 | H37: 59 | I37: 61 | J37: 10 | K37: 56 | L37: 77 | M37: 51 | N37: 53 | O37: 130 | P37: =SUM(D37:O37) -> 767
C38: 만트럭 | D38: 17 | E38: 4 | F38: 6 | G38: 25 | H38: 24 | I38: 120 | J38: 76 | K38: 103 | L38: 214 | M38: 23 | N38: 92 | O38: 190 | P38: =SUM(D38:O38) -> 894
C39: 볼보트럭 | D39: 47 | E39: 118 | F39: 105 | G39: 157 | H39: 152 | I39: 200 | J39: 161 | K39: 220 | L39: 54 | M39: 142 | N39: 306 | O39: 330 | P39: =SUM(D39:O39) -> 1992
C40: 기타 | D40: 31 | E40: 69 | F40: 102 | G40: 99 | H40: 90 | I40: 221 | J40: 73 | K40: 175 | L40: 90 | M40: 154 | N40: 107 | O40: 309 | P40: =SUM(D40:O40) -> 1520
C41: 소계 | D41: =SUM(D37:D40) -> 190 | E41: =SUM(E37:E40) -> 270 | F41: =SUM(F37:F40) -> 225 | G41: =SUM(G37:G40) -> 365 | H41: =SUM(H37:H40) -> 325 | I41: =SUM(I37:I40) -> 602 | J41: =SUM(J37:J40) -> 320 | K41: =SUM(K37:K40) -> 554 | ... O41: =SUM(O37:O40) -> 959 | P41: =SUM(D41:O41) -> 5173
...

Sheet 2016
A1: 2016년 자동차 선적현황
A2: 구 분 | D2: 1월 | E2: 2월 | F2: 3월 | G2: 4월 | H2: 5월 | I2: 6월 | J2: 7월 | K2: 8월 | L2: 9월 | M2: 10월 | N2: 11월 | O2: 12월 | P2: 합 계
A3: 수 출 차 | B3: 승 용 | C3: 기아 | D3: 54141 | E3: 50206 | F3: 65789 | G3: 53582 | H3: 43019 | I3: 55951 | J3: 58083 | K3: 30459 | L3: 36617 | M3: 48177 | N3: 58383 | O3: 72191 | P3: =SUM(D3:O3) -> 626598
C4: 현대 | D4: =1501+3345 -> 4846 | E4: =114+2389 -> 2503 | F4: =2753+249 -> 3002 | G4: =6236+1145 -> 7381 | H4: =4574+500 -> 5074 | I4: =5335+11 -> 5346 | J4: =4679+866 -> 5545 | K4: =3210+2298 -> 5508 | L4: 4940 | M4: =884+4706 -> 5590 | N4: =4683+834 -> 5517 | O4: =5022+1437 -> 6459 | P4: =SUM(D4:O4) -> 61711
C5: 쌍용 | D5: 2970 | E5: 2379 | F5: 3490 | G5: 3934 | H5: 3372 | I5: 4013 | J5: 3505 | K5: 4083 | L5: 4627 | M5: 3550 | N5: 4081 | O5: 6249 | P5: =SUM(D5:O5) -> 46253
C6: GM KOREA | P6: =SUM(D6:O6) -> 0
C7: 르노삼성 | P7: =SUM(D7:O7) -> 0
C8: 기타 | D8: 14 | E8: 180 | F8: 372 | G8: 6 | H8: 17 | I8: 215 | J8: 113 | K8: 211 | L8: 300 | M8: 1541 | N8: 164 | O8: 1311 | P8: =SUM(D8:O8) -> 4444
C9: 소 계 | D9: =SUM(D3:D8) -> 61971 | E9: =SUM(E3:E8) -> 55268 | F9: =SUM(F3:F8) -> 72653 | G9: =SUM(G3:G8) -> 64903 | H9: =SUM(H3:H8) -> 51482 | I9: =SUM(I3:I8) -> 65525 | J9: =SUM(J3:J8) -> 67246 | K9: =SUM(K3:K8) -> 40261 | ... O9: =SUM(O3:O8) -> 86210 | P9: =SUM(D9:O9) -> 739006
B10: 상 용 | C10: 두산 | F10: 1 | G10: 1 | H10: 17 | J10: 7 | K10: 5 | L10: 9 | M10: 2 | N10: 45 | O10: 15 | P10: =SUM(D10:O10) -> 102
C11: 현대 | D11: 11 | E11: 50 | F11: 26 | G11: 3 | H11: 13 | I11: 59 | J11: 34 | K11: 18 | L11: 26 | M11: 29 | N11: 16 | O11: 80 | P11: =SUM(D11:O11) -> 365
C12: 타타대우 | E12: 1 | F12: 5 | K12: 1 | M12: 13 | N12: 15 | O12: 1 | P12: =SUM(D12:O12) -> 36
C13: 중고중장비 | D13: 131 | E13: 42 | F13: 81 | G13: 73 | H13: 123 | I13: 103 | J13: 156 | K13: 199 | L13: 77 | M13: 170 | N13: 227 | O13: 99 | P13: =SUM(D13:O13) -> 1481
C14: 신중장비 | D14: 11 | E14: 27 | F14: 46 | G14: 58 | H14: 47 | I14: 4 | J14: 22 | K14: 40 | L14: 13 | M14: 16 | N14: 19 | O14: 19 | P14: =SUM(D14:O14) -> 322
C15: 소 계 | D15: =SUM(D10:D14) -> 153 | E15: =SUM(E10:E14) -> 120 | F15: =SUM(F10:F14) -> 159 | G15: =SUM(G10:G14) -> 135 | H15: =SUM(H10:H14) -> 200 | I15: =SUM(I10:I14) -> 166 | J15: =SUM(J10:J14) -> 219 | K15: =SUM(K10:K14) -> 263 | ... O15: =SUM(O10:O14) -> 214 | P15: =SUM(D15:O15) -> 2306
B16: 중 고 차 | D16: 440 | E16: 126 | F16: 147 | G16: 200 | H16: 410 | I16: 309 | J16: 186 | K16: 319 | L16: 178 | M16: 528 | N16: 546 | O16: 438 | P16: =SUM(D16:O16) -> 3827
B17: 개품화물 | D17: 161 | E17: 161 | F17: 70 | G17: 94 | H17: 247 | I17: 81 | J17: 103 | K17: 44 | L17: 137 | M17: 168 | N17: 80 | O17: 50 | P17: =SUM(D17:O17) -> 1396
B18: 계(a) | D18: =D9+D17+D15+D16 -> 62725 | E18: =E9+E17+E15+E16 -> 55675 | F18: =F9+F17+F15+F16 -> 73029 | G18: =G9+G17+G15+G16 -> 65332 | H18: =H9+H17+H15+H16 -> 52339 | I18: =I9+I17+I15+I16 -> 66081 | J18: =J9+J17+J15+J16 -> 67754 | K18: =K9+K17+K15+K16 -> 40887 | ... O18: =O9+O17+O15+O16 -> 86912 | P18: =SUM(D18:O18) -> 746535
A19: 수 입 차 | B19: 승 용 | C19: BMW | D19: 3009 | E19: 5658 | F19: 5113 | G19: 5189 | H19: 6450 | I19: 6053 | J19: 6559 | K19: 5698 | L19: 5987 | M19: 3961 | N19: 5354 | O19: 3546 | P19: =SUM(D19:O19) -> 62577
C20: 벤츠 | D20: 4885 | E20: 5028 | F20: 2669 | G20: 3326 | H20: 2941 | I20: 4774 | J20: 5944 | K20: 5660 | L20: 7038 | M20: 8225 | N20: 7573 | O20: 6331 | P20: =SUM(D20:O20) -> 64394
C21: 아우디 | D21: 3275 | E21: 1518 | F21: 1601 | G21: 2340 | H21: 2743 | I21: 1820 | J21: 3045 | K21: 2252 | L21: 550 | M21: 15 | N21: 4 | O21: 47 | P21: =SUM(D21:O21) -> 19210
C22: 폭스바겐 | D22: 2522 | E22: 1888 | F22: 993 | G22: 2766 | H22: 2687 | I22: 1552 | J22: 1522 | K22: 933 | L22: 44 | P22: =SUM(D22:O22) -> 14907
C23: 포드 | D23: 1922 | E23: 514 | F23: 1496 | G23: 1339 | H23: 967 | I23: 315 | J23: 838 | K23: 1271 | L23: 647 | M23: 540 | N23: 677 | O23: 1701 | P23: =SUM(D23:O23) -> 12227
C24: 재규어 | D24: 142 | E24: 585 | F24: 370 | G24: 308 | H24: 486 | I24: 402 | J24: 485 | K24: 554 | L24: 397 | M24: 541 | N24: 686 | O24: 446 | P24: =SUM(D24:O24) -> 5402
C25: 랜드로버 | D25: 985 | E25: 1023 | F25: 965 | G25: 939 | H25: 1051 | I25: 1169 | J25: 792 | K25: 1305 | L25: 565 | M25: 696 | N25: 784 | O25: 788 | P25: =SUM(D25:O25) -> 11062
C26: 닛산 | D26: 386 | E26: 754 | F26: 1254 | G26: 813 | H26: 553 | I26: 1228 | J26: 793 | K26: 496 | L26: 406 | M26: 1042 | N26: 446 | O26: 564 | P26: =SUM(D26:O26) -> 8735
C27: 포르쉐 | D27: 269 | E27: 363 | F27: 281 | G27: 215 | H27: 468 | I27: 248 | J27: 401 | K27: 351 | L27: 223 | M27: 354 | N27: 346 | O27: 200 | P27: =SUM(D27:O27) -> 3719
C28: 볼보 | D28: 589 | E28: 360 | F28: 458 | G28: 452 | H28: 218 | I28: 292 | J28: 468 | K28: 302 | L28: 297 | M28: 634 | N28: 565 | O28: 453 | P28: =SUM(D28:O28) -> 5088
C29: 도요타&렉서스 | D29: 413 | E29: 927 | F29: 1116 | G29: 1344 | H29: 468 | I29: 1846 | J29: 811 | K29: 1409 | L29: 1328 | M29: 2050 | N29: 2786 | O29: 1833 | P29: =SUM(D29:O29) -> 16331
C30: 크라이슬러 | D30: 278 | E30: 39 | F30: 609 | G30: 867 | H30: 991 | I30: 839 | J30: 654 | K30: 318 | L30: 925 | M30: 373 | N30: 242 | O30: 697 | P30: =SUM(D30:O30) -> 6832
C31: 푸조 | D31: 729 | E31: 307 | F31: 486 | G31: 593 | H31: 659 | I31: 430 | J31: 640 | K31: 640 | L31: 394 | M31: 125 | N31: 407 | O31: 400 | P31: =SUM(D31:O31) -> 5810
C32: 캐딜락 | D32: 1629 | E32: 1718 | F32: 2482 | G32: 1825 | H32: 1851 | I32: 385 | J32: 127 | K32: 1111 | L32: 1248 | M32: 2077 | N32: 743 | O32: 615 | P32: =SUM(D32:O32) -> 15811
C33: 혼다 | D33: 431 | E33: 520 | F33: 585 | G33: 92 | H33: 801 | I33: 749 | J33: 748 | K33: 642 | L33: 401 | M33: 914 | N33: 273 | O33: 560 | P33: =SUM(D33:O33) -> 6716
C34: 미쓰비씨 | P34: =SUM(D34:O34) -> 0
C35: 기타 | D35: 144 | E35: 166 | F35: 64 | G35: 85 | H35: 231 | I35: 199 | J35: 408 | K35: 124 | L35: 89 | M35: 200 | N35: 260 | O35: 64 | P35: =SUM(D35:O35) -> 2034
C36: 소계 | D36: =SUM(D19:D35) -> 21608 | E36: =SUM(E19:E35) -> 21368 | F36: =SUM(F19:F35) -> 20542 | G36: =SUM(G19:G35) -> 22493 | H36: =SUM(H19:H35) -> 23565 | I36: =SUM(I19:I35) -> 22301 | J36: =SUM(J19:J35) -> 24235 | K36: =SUM(K19:K35) -> 23066 | ... O36: =SUM(O19:O35) -> 18245 | P36: =SUM(D36:O36) -> 260855
B37: 상 용 | C37: 벤츠트럭 | D37: 27 | E37: 78 | F37: 55 | G37: 175 | H37: 110 | I37: 98 | J37: 132 | K37: 115 | L37: 301 | M37: 141 | N37: 186 | O37: 112 | P37: =SUM(D37:O37) -> 1530
C38: 만트럭 | D38: 30 | E38: 112 | F38: 97 | G38: 191 | H38: 116 | I38: 178 | J38: 172 | K38: 158 | L38: 213 | M38: 130 | N38: 330 | O38: 167 | P38: =SUM(D38:O38) -> 1894
C39: 볼보트럭 | D39: 100 | E39: 136 | F39: 220 | G39: 202 | H39: 213 | I39: 242 | J39: 268 | K39: 234 | L39: 139 | M39: 135 | N39: 380 | O39: 344 | P39: =SUM(D39:O39) -> 2613
C40: 기타 | D40: 55 | E40: 80 | F40: 50 | G40: 197 | H40: 112 | I40: 88 | J40: 174 | K40: 87 | L40: 252 | M40: 47 | N40: 69 | O40: 258 | P40: =SUM(D40:O40) -> 1469
...

Sheet 2017
A1: 2017년 자동차 선적현황
A2: 구 분 | D2: 1월 | E2: 2월 | F2: 3월 | G2: 4월 | H2: 5월 | I2: 6월 | J2: 7월 | K2: 8월 | L2: 9월 | M2: 10월 | N2: 11월 | O2: 12월 | P2: 합 계
A3: 수 출 차 | B3: 승 용 | C3: 기아 | D3: 42348 | E3: 50581 | F3: 54761 | G3: 52544 | H3: 47026 | I3: 43525 | J3: 53324 | K3: 37306 | L3: 57531 | M3: 31528 | N3: 57807 | O3: 44097 | P3: =SUM(D3:O3) -> 572378
C4: 현대 | D4: =1553+1285 -> 2838 | E4: =1603+232 -> 1835 | F4: =2989+149 -> 3138 | G4: =147+2253 -> 2400 | H4: 5611 | I4: =4554+1060 -> 5614 | J4: =3079+2720 -> 5799 | K4: =2551+971 -> 3522 | L4: =5326+1576 -> 6902 | M4: =4210+2256 -> 6466 | N4: =8004+346 -> 8350 | O4: 6571 | P4: =SUM(D4:O4) -> 59046
C5: 쌍용 | D5: 4045 | E5: 2555 | F5: 2808 | G5: 3142 | H5: 2275 | I5: 2421 | J5: 2450 | K5: 1953 | L5: 3772 | M5: 2488 | N5: 4035 | O5: 3665 | P5: =SUM(D5:O5) -> 35609
C6: GM KOREA | P6: =SUM(D6:O6) -> 0
C7: 르노삼성 | P7: =SUM(D7:O7) -> 0
C8: 기타 | D8: 427 | E8: 120 | F8: 1503 | G8: 2547 | H8: 1569 | I8: 48 | J8: 3 | K8: 1166 | L8: 2402 | M8: 4497 | N8: 1072 | O8: 58 | P8: =SUM(D8:O8) -> 15412
C9: 소 계 | D9: =SUM(D3:D8) -> 49658 | E9: =SUM(E3:E8) -> 55091 | F9: =SUM(F3:F8) -> 62210 | G9: =SUM(G3:G8) -> 60633 | H9: =SUM(H3:H8) -> 56481 | I9: =SUM(I3:I8) -> 51608 | J9: =SUM(J3:J8) -> 61576 | K9: =SUM(K3:K8) -> 43947 | ... N9: =SUM(N3:N8) -> 71264 | O9: 50668 | P9: =SUM(D9:O9) -> 678722
B10: 상 용 | C10: 두산 | D10: 14 | E10: 20 | F10: 0 | G10: 9 | H10: 10 | I10: 2 | J10: 14 | K10: 14 | L10: 24 | N10: 7 | O10: 27 | P10: =SUM(D10:O10) -> 141
C11: 현대 | E11: 51 | F11: 22 | G11: 50 | H11: 49 | I11: 18 | K11: 1 | M11: 3 | N11: 1 | O11: 22 | P11: =SUM(D11:O11) -> 217
C12: 타타대우 | D12: 11 | E12: 26 | F12: 5 | G12: 5 | H12: 2 | I12: 1 | L12: 7 | N12: 14 | P12: =SUM(D12:O12) -> 71
C13: 중고중장비 | D13: 102 | E13: 149 | F13: 208 | G13: 176 | H13: 137 | I13: 140 | J13: 170 | K13: 85 | L13: 487 | M13: 131 | N13: 362 | O13: 165 | P13: =SUM(D13:O13) -> 2312
C14: 신중장비 | D14: 48 | E14: 65 | F14: 12 | G14: 39 | H14: 7 | I14: 35 | J14: 17 | K14: 50 | L14: 65 | M14: 18 | N14: 32 | O14: 21 | P14: =SUM(D14:O14) -> 409
C15: 소 계 | D15: =SUM(D10:D14) -> 175 | E15: =SUM(E10:E14) -> 311 | F15: =SUM(F10:F14) -> 247 | G15: =SUM(G10:G14) -> 279 | H15: =SUM(H10:H14) -> 205 | I15: =SUM(I10:I14) -> 196 | J15: =SUM(J10:J14) -> 201 | K15: =SUM(K10:K14) -> 150 | ... O15: =SUM(O10:O14) -> 235 | P15: =SUM(D15:O15) -> 3150
B16: 중 고 차 | D16: 467 | E16: 686 | F16: 611 | G16: 967 | H16: 1054 | I16: 826 | J16: 743 | K16: 643 | L16: 1202 | M16: 826 | N16: 655 | O16: 62 | P16: =SUM(D16:O16) -> 8742
B17: 개품화물 | D17: 238 | E17: 83 | F17: 77 | G17: 107 | H17: 72 | I17: 121 | J17: 39 | K17: 121 | L17: 116 | M17: 108 | N17: 98 | O17: 139 | P17: =SUM(D17:O17) -> 1319
B18: 계(a) | D18: =D9+D17+D15+D16 -> 50538 | E18: =E9+E17+E15+E16 -> 56171 | F18: =F9+F17+F15+F16 -> 63145 | G18: =G9+G17+G15+G16 -> 61986 | H18: =H9+H17+H15+H16 -> 57812 | I18: =I9+I17+I15+I16 -> 52751 | J18: =J9+J17+J15+J16 -> 62559 | K18: =K9+K17+K15+K16 -> 44861 | ... O18: =O9+O17+O15+O16 -> 51104 | P18: =SUM(D18:O18) -> 691933
A19: 수 입 차 | B19: 승 용 | C19: BMW | D19: 1840 | E19: 1920 | F19: 6198 | G19: 6563 | H19: 5836 | I19: 6324 | J19: 7022 | K19: 5744 | L19: 2411 | M19: 4476 | N19: 7036 | O19: 8700 | P19: =SUM(D19:O19) -> 64070
C20: 벤츠 | D20: 6967 | E20: 1977 | F20: 5520 | G20: 4847 | H20: 5968 | I20: 6319 | J20: 5308 | K20: 6187 | L20: 3095 | M20: 7499 | N20: 6815 | O20: 8800 | P20: =SUM(D20:O20) -> 69302
C21: 아우디 | F21: 145 | G21: 92 | N21: 155 | O21: 1 | P21: =SUM(D21:O21) -> 393
C22: 폭스바겐 | F22: 0 | N22: 0 | P22: =SUM(D22:O22) -> 0
C23: 포드 | D23: 911 | E23: 1005 | F23: 862 | G23: 796 | H23: 1106 | I23: 1034 | J23: 922 | K23: 719 | L23: 506 | M23: 1323 | N23: 1000 | O23: 688 | P23: =SUM(D23:O23) -> 10872
C24: 재규어 | D24: 310 | E24: 268 | F24: 309 | G24: 256 | H24: 158 | I24: 120 | J24: 68 | K24: 223 | L24: 163 | M24: 252 | N24: 446 | O24: 342 | P24: =SUM(D24:O24) -> 2915
C25: 랜드로버 | D25: 1103 | E25: 343 | F25: 643 | G25: 353 | H25: 437 | I25: 1083 | J25: 462 | K25: 1354 | L25: 837 | M25: 1618 | N25: 1194 | O25: 927 | P25: =SUM(D25:O25) -> 10354
C26: 닛산 | D26: 867 | E26: 439 | F26: 870 | G26: 1204 | H26: 1519 | I26: 300 | J26: 792 | K26: 664 | L26: 1790 | M26: 197 | N26: 329 | O26: 506 | P26: =SUM(D26:O26) -> 9477
C27: 포르쉐 | D27: 216 | E27: 197 | F27: 86 | G27: 264 | H27: 300 | I27: 192 | J27: 127 | K27: 185 | L27: 314 | M27: 117 | N27: 636 | O27: 512 | P27: =SUM(D27:O27) -> 3146
C28: 볼보 | D28: 845 | E28: 248 | F28: 766 | G28: 534 | H28: 702 | I28: 644 | J28: 436 | K28: 441 | L28: 179 | M28: 609 | N28: 891 | O28: 1164 | P28: =SUM(D28:O28) -> 7459
C29: 도요타&렉서스 | D29: 1117 | E29: 1199 | F29: 1418 | G29: 1767 | H29: 1677 | I29: 2040 | J29: 2640 | K29: 2024 | L29: 2012 | M29: 2758 | N29: 4932 | O29: 2760 | P29: =SUM(D29:O29) -> 26344
C30: 크라이슬러 | D30: 84 | E30: 128 | F30: 1466 | G30: 1039 | H30: 400 | I30: 594 | J30: 395 | K30: 306 | L30: 765 | M30: 7 | N30: 2363 | O30: 407 | P30: =SUM(D30:O30) -> 7954
C31: 푸조 | D31: 646 | E31: 124 | F31: 431 | G31: 122 | H31: 49 | I31: 335 | J31: 411 | K31: 644 | L31: 558 | M31: 170 | N31: 477 | O31: 752 | P31: =SUM(D31:O31) -> 4719
C32: 캐딜락 | D32: 457 | F32: 621 | G32: 639 | H32: 763 | I32: 474 | J32: 221 | K32: 487 | L32: 823 | M32: 264 | N32: 242 | O32: 114 | P32: =SUM(D32:O32) -> 5105
C33: 혼다 | D33: 592 | E33: 440 | F33: 767 | G33: 489 | H33: 2127 | I33: 1511 | J33: 1184 | K33: 1595 | L33: 1232 | M33: 630 | N33: 397 | O33: 555 | P33: =SUM(D33:O33) -> 11519
C34: 미쓰비씨 | P34: =SUM(D34:O34) -> 0
C35: 기타 | D35: 464 | E35: 389 | F35: 145 | G35: 411 | H35: 522 | I35: 527 | J35: 142 | K35: 156 | L35: 204 | M35: 461 | N35: 450 | O35: 753 | P35: =SUM(D35:O35) -> 4624
C36: 소계 | D36: =SUM(D19:D35) -> 16419 | E36: =SUM(E19:E35) -> 8677 | F36: =SUM(F19:F35) -> 20247 | G36: =SUM(G19:G35) -> 19376 | H36: =SUM(H19:H35) -> 21564 | I36: =SUM(I19:I35) -> 21497 | J36: =SUM(J19:J35) -> 20130 | K36: =SUM(K19:K35) -> 20729 | ... O36: =SUM(O19:O35) -> 26981 | P36: =SUM(D36:O36) -> 238253
B37: 상 용 | C37: 벤츠트럭 | D37: 103 | E37: 20 | F37: 69 | G37: 89 | H37: 67 | I37: 187 | J37: 88 | K37: 155 | L37: 166 | M37: 82 | N37: 89 | O37: 78 | P37: =SUM(D37:O37) -> 1193
C38: 만트럭 | D38: 2 | E38: 1 | F38: 154 | G38: 185 | H38: 330 | I38: 147 | J38: 38 | K38: 216 | L38: 249 | M38: 57 | N38: 244 | O38: 138 | P38: =SUM(D38:O38) -> 1761
C39: 볼보트럭 | D39: 351 | E39: 95 | F39: 336 | G39: 331 | H39: 166 | I39: 321 | J39: 291 | K39: 230 | L39: 142 | M39: 357 | N39: 245 | O39: 292 | P39: =SUM(D39:O39) -> 3157
C40: 기타 | D40: 114 | E40: 47 | F40: 115 | G40: 144 | H40: 80 | I40: 87 | J40: 74 | K40: 128 | L40: 89 | M40: 107 | N40: 155 | O40: 178 | P40: =SUM(D40:O40) -> 1318
...

Sheet 2018
A1: 2018년 자동차 선적현황
A2: 구 분 | D2: 1월 | E2: 2월 | F2: 3월 | G2: 4월 | H2: 5월 | I2: 6월 | J2: 7월 | K2: 8월 | L2: 9월 | M2: 10월 | N2: 11월 | O2: 12월 | P2: 합 계
A3: 수 출 차 | B3: 승 용 | C3: 기아 | D3: 38687 | E3: 31637 | F3: 44896 | G3: 47431 | H3: 43227 | I3: 47780 | J3: =1+43245 -> 43246 | K3: 31326 | L3: =33437+1 -> 33438 | M3: =47215+55 -> 47270 | N3: =37+51010 -> 51047 | O3: =235+50498 -> 50733 | P3: =SUM(D3:O3) -> 510718
C4: 현대 | D4: 2893 | E4: =773+2724 -> 3497 | F4: =1382+3417 -> 4799 | G4: =2315+1280 -> 3595 | H4: =494+3309 -> 3803 | I4: =166+1508 -> 1674 | J4: =345+2323 -> 2668 | K4: =1406+1153 -> 2559 | L4: =414+5+4269 -> 4688 | M4: =5+148+3791 -> 3944 | N4: =787+1523+1439 -> 3749 | O4: =69+1551+65 -> 1685 | P4: =SUM(D4:O4) -> 39554
C5: 쌍용 | D5: 2716 | E5: 2605 | F5: =1934+8 -> 1942 | G5: 2580 | H5: =2873+6 -> 2879 | I5: 2830 | J5: =1+2695 -> 2696 | K5: =1811+10 -> 1821 | L5: =1708+19 -> 1727 | M5: 3132 | N5: =12+3309 -> 3321 | O5: 2890 | P5: =SUM(D5:O5) -> 31139
C6: GM KOREA | F6: 35 | I6: 63 | P6: =SUM(D6:O6) -> 98
C7: 르노삼성 | P7: =SUM(D7:O7) -> 0
C8: 기타 | D8: 46 | E8: 373 | F8: 665 | G8: 63 | H8: 2 | I8: =138+1 -> 139 | J8: 13 | K8: =33+27 -> 60 | L8: 32 | M8: =354+741 -> 1095 | N8: =703+204 -> 907 | O8: =156+2 -> 158 | P8: =SUM(D8:O8) -> 3553
C9: 소 계 | D9: =SUM(D3:D8) -> 44342 | E9: =SUM(E3:E8) -> 38112 | F9: =SUM(F3:F8) -> 52337 | G9: =SUM(G3:G8) -> 53669 | H9: =SUM(H3:H8) -> 49911 | I9: =SUM(I3:I8) -> 52486 | J9: =SUM(J3:J8) -> 48623 | K9: =SUM(K3:K8) -> 35766 | ... O9: =SUM(O3:O8) -> 55466 | P9: =SUM(D9:O9) -> 585062
