Workbook

Sheet 2009
A1: 2009년 자동차 선적현황
A3: 구 분 | D3: 1월 | E3: 2월 | F3: 3월 | G3: 4월 | H3: 5월 | I3: 6월 | J3: 7월 | K3: 8월 | L3: 9월 | M3: 10월 | N3: 11월 | O3: 12월 | P3: 합 계
A4: 수 출 차 | B4: 신 차 | C4: 기아 | D4: 32682 | E4: 31975 | F4: 39321 | G4: 41726 | H4: 31521 | I4: 39038 | J4: 40027 | K4: 26820 | L4: 57227 | M4: 47962 | N4: 52162 | O4: 47163 | P4: =SUM(D4:O4) -> 487624
C5: 현대 | D5: 1593 | E5: 1627 | F5: 2162 | G5: 1282 | H5: 1316 | I5: 2657 | J5: 2087 | K5: 2352 | L5: 3945 | M5: 2513 | N5: 4219 | O5: 4010 | P5: =SUM(D5:O5) -> 29763
C6: GM대우 | F6: 66 | P6: =SUM(D6:O6) -> 66
C7: 쌍용 | D7: 237 | E7: 329 | G7: 426 | H7: 97 | I7: 4 | L7: 965 | M7: 1724 | N7: 1455 | O7: 655 | P7: =SUM(D7:O7) -> 5892
C8: 기타 | D8: 1 | P8: =SUM(D8:O8) -> 1
C9: 소 계 | D9: =SUM(D4:D8) -> 34513 | E9: =SUM(E4:E8) -> 33931 | F9: =SUM(F4:F8) -> 41549 | G9: =SUM(G4:G8) -> 43434 | H9: =SUM(H4:H8) -> 32934 | I9: =SUM(I4:I8) -> 41699 | J9: =SUM(J4:J8) -> 42114 | K9: =SUM(K4:K8) -> 29172 | ... O9: =SUM(O4:O8) -> 51828 | P9: =SUM(D9:O9) -> 523346
B10: 중 고 차 | D10: 140 | E10: 187 | F10: 173 | G10: 51 | H10: 110 | I10: 207 | J10: 162 | K10: 76 | L10: 229 | M10: 215 | N10: 177 | O10: 328 | P10: =SUM(D10:O10) -> 2055
B11: 계(a) | D11: =D9+D10 -> 34653 | E11: =E9+E10 -> 34118 | F11: =F9+F10 -> 41722 | G11: =G9+G10 -> 43485 | H11: =H9+H10 -> 33044 | I11: =I9+I10 -> 41906 | J11: =J9+J10 -> 42276 | K11: =K9+K10 -> 29248 | ... O11: =O9+O10 -> 52156 | P11: =SUM(D11:O11) -> 525401
A12: 수 입 차 | B12: 승 용 차 | C12: 아우디 | D12: 369 | E12: 41 | F12: 22 | G12: 17 | H12: 140 | I12: 24 | J12: 7 | L12: 84 | M12: 60 | N12: 26 | O12: 56 | P12: =SUM(D12:O12) -> 846
C13: 폭스바겐 | D13: 428 | E13: 176 | F13: 15 | G13: 119 | H13: 126 | I13: 453 | J13: 282 | M13: 30 | N13: 4 | O13: 16 | P13: =SUM(D13:O13) -> 1649
C14: BMW | D14: 484 | E14: 265 | F14: 599 | G14: 1084 | H14: 288 | I14: 949 | J14: 886 | K14: 666 | L14: 1801 | M14: 809 | N14: 1156 | O14: 789 | P14: =SUM(D14:O14) -> 9776
C15: 벤츠 | G15: 75 | H15: 113 | I15: 30 | J15: 33 | K15: 809 | L15: 43 | M15: 3 | N15: 532 | O15: 984 | P15: =SUM(D15:O15) -> 2622
C16: 크라이슬러 | E16: 100 | F16: 71 | H16: 71 | J16: 76 | L16: 240 | M16: 284 | N16: 210 | O16: 461 | P16: =SUM(D16:O16) -> 1513
C17: 포드 | D17: 299 | E17: 280 | F17: 100 | G17: 172 | H17: 223 | J17: 96 | K17: 65 | L17: 24 | M17: 97 | N17: 277 | O17: 238 | P17: =SUM(D17:O17) -> 1871
C18: 재규어 | D18: 26 | E18: 24 | F18: 1 | G18: 68 | H18: 45 | I18: 6 | L18: 43 | M18: 73 | N18: 108 | O18: 45 | P18: =SUM(D18:O18) -> 439
C19: 랜드로버 | D19: 23 | E19: 20 | F19: 31 | G19: 4 | H19: 31 | I19: 33 | J19: 5 | K19: 21 | L19: 21 | M19: 104 | N19: 66 | O19: 48 | P19: =SUM(D19:O19) -> 407
C20: 볼보 | D20: 5 | E20: 3 | F20: 10 | G20: 5 | H20: 1 | I20: 50 | J20: 50 | K20: 166 | L20: 5 | M20: 180 | N20: 209 | O20: 290 | P20: =SUM(D20:O20) -> 974
C21: 푸조 | G21: 1 | I21: 24 | J21: 44 | K21: 25 | L21: 22 | M21: 8 | N21: 104 | O21: 53 | P21: =SUM(D21:O21) -> 281
C22: 포르쉐 | D22: 10 | E22: 8 | F22: 18 | G22: 43 | H22: 15 | I22: 49 | J22: 22 | K22: 55 | L22: 28 | M22: 22 | N22: 59 | O22: 12 | P22: =SUM(D22:O22) -> 341
C23: 닛산 | E23: 180 | P23: =SUM(D23:O23) -> 180
B24: H & H | C24: 벤츠트럭 | D24: 77 | E24: 46 | F24: 22 | G24: 64 | H24: 19 | I24: 82 | J24: 37 | K24: 27 | L24: 19 | M24: 34 | N24: 63 | O24: 32 | P24: =SUM(D24:O24) -> 522
C25: 만트럭 | F25: 35 | G25: 22 | I25: 22 | M25: 22 | O25: 1 | P25: =SUM(D25:O25) -> 102
C26: 존디어 | D26: 5 | F26: 27 | G26: 56 | H26: 34 | I26: 18 | K26: 2 | L26: 17 | M26: 48 | O26: - | P26: =SUM(D26:O26) -> 207
C27: 캐터필라 | K27: 6 | L27: 6 | N27: 9 | O27: - | P27: =SUM(D27:O27) -> 21
C28: 기 타 | G28: 58 | H28: 54 | I28: 19 | J28: 33 | K28: 61 | L28: 43 | M28: 53 | N28: 113 | O28: 33 | P28: =SUM(D28:O28) -> 467
B29: 계(b) | D29: =SUM(D12:D28) -> 1726 | E29: =SUM(E12:E28) -> 1143 | F29: =SUM(F12:F28) -> 951 | G29: =SUM(G12:G28) -> 1788 | H29: =SUM(H12:H28) -> 1160 | I29: =SUM(I12:I28) -> 1759 | J29: =SUM(J12:J28) -> 1571 | K29: =SUM(K12:K28) -> 1903 | ... O29: =SUM(O12:O28) -> 3058 | P29: =SUM(D29:O29) -> 22218
A30: 합 계(a+b) | D30: =D11+D29 -> 36379 | E30: =E11+E29 -> 35261 | F30: =F11+F29 -> 42673 | G30: =G11+G29 -> 45273 | H30: =H11+H29 -> 34204 | I30: =I11+I29 -> 43665 | J30: =J11+J29 -> 43847 | K30: =K11+K29 -> 31151 | ... O30: =O11+O29 -> 55214 | P30: =SUM(D30:O30) -> 547619
A31: T/S(c) | D31: 851 | E31: 3369 | F31: 10604 | G31: 6635 | H31: 12242 | I31: 8344 | J31: 7054 | K31: 12181 | L31: 10138 | M31: 12682 | N31: 15643 | O31: 12287 | P31: =SUM(D31:O31) -> 112030
A32: 총 계(a+b+c) | D32: =D30+D31 -> 37230 | E32: =E30+E31 -> 38630 | F32: =F30+F31 -> 53277 | G32: =G30+G31 -> 51908 | H32: =H30+H31 -> 46446 | I32: =I30+I31 -> 52009 | J32: =J30+J31 -> 50901 | K32: =K30+K31 -> 43332 | ... O32: =O30+O31 -> 67501 | P32: =SUM(D32:O32) -> 659649

Sheet 2010
A1: 2010년 자동차 선적현황
A2: 구 분 | D2: 1월 | E2: 2월 | F2: 3월 | G2: 4월 | H2: 5월 | I2: 6월 | J2: 7월 | K2: 8월 | L2: 9월 | M2: 10월 | N2: 11월 | O2: 12월 | P2: 합 계
A3: 수 출 차 | B3: 신 차 | C3: 기아 | D3: 43340 | E3: 37740 | F3: 45922 | G3: 50474 | H3: 48238 | I3: 51863 | J3: 59090 | K3: 34483 | L3: 43592 | M3: 54098 | N3: 60755 | O3: 59059 | P3: =SUM(D3:O3) -> 588654
C4: 현대 | D4: 5649 | E4: 2095 | F4: 4527 | G4: 7906 | H4: 10346 | I4: 10531 | J4: 10078 | K4: 7778 | L4: 9150 | M4: 9998 | N4: 8354 | O4: 6686 | P4: =SUM(D4:O4) -> 93098
C5: GM대우 | D5: 94 | E5: 0 | F5: 0 | G5: 0 | H5: 0 | I5: 108 | J5: 0 | K5: 21 | L5: 0 | M5: 0 | N5: 81 | O5: 51 | P5: =SUM(D5:O5) -> 355
C6: 쌍용 | D6: 432 | E6: 2501 | F6: 2032 | G6: 2706 | H6: 2313 | I6: 3211 | J6: 2529 | K6: 2456 | L6: 2357 | M6: 3402 | N6: 2849 | O6: 2899 | P6: =SUM(D6:O6) -> 29687
C7: 기타 | P7: =SUM(D7:O7) -> 0
C8: 소 계 | D8: =SUM(D3:D7) -> 49515 | E8: =SUM(E3:E7) -> 42336 | F8: =SUM(F3:F7) -> 52481 | G8: =SUM(G3:G7) -> 61086 | H8: =SUM(H3:H7) -> 60897 | I8: =SUM(I3:I7) -> 65713 | J8: =SUM(J3:J7) -> 71697 | K8: =SUM(K3:K7) -> 44738 | ... O8: =SUM(O3:O7) -> 68695 | P8: =SUM(D8:O8) -> 711794
B9: 중 고 차 | D9: 184 | E9: 344 | F9: 331 | G9: 509 | H9: 538 | I9: 996 | J9: 529 | K9: 234 | L9: 599 | M9: 596 | N9: 365 | O9: 186 | P9: =SUM(D9:O9) -> 5411
B10: 계(a) | D10: =D8+D9 -> 49699 | E10: =E8+E9 -> 42680 | F10: =F8+F9 -> 52812 | G10: =G8+G9 -> 61595 | H10: =H8+H9 -> 61435 | I10: =I8+I9 -> 66709 | J10: =J8+J9 -> 72226 | K10: =K8+K9 -> 44972 | ... O10: =O8+O9 -> 68881 | P10: =SUM(D10:O10) -> 717205
A11: 수 입 차 | B11: 승 용 차 | C11: 아우디 | D11: 48 | E11: 56 | F11: 51 | G11: 68 | H11: 42 | I11: 380 | J11: 84 | K11: 911 | L11: 951 | M11: 653 | N11: 1090 | O11: 833 | P11: =SUM(D11:O11) -> 5167
C12: 폭스바겐 | D12: 312 | E12: 262 | F12: 310 | G12: 561 | H12: 373 | I12: 574 | J12: 370 | K12: 782 | L12: 1370 | M12: 745 | N12: 654 | O12: 617 | P12: =SUM(D12:O12) -> 6930
C13: BMW | D13: 841 | E13: 833 | F13: 1114 | G13: 1568 | H13: 1166 | I13: 1749 | J13: 1010 | K13: 2715 | L13: 2128 | M13: 1507 | N13: 1936 | O13: 2247 | P13: =SUM(D13:O13) -> 18814
C14: 벤츠 | D14: 1814 | E14: 75 | F14: 1023 | G14: 1425 | H14: 1049 | I14: 2207 | J14: 1034 | K14: 3521 | L14: 927 | M14: 1586 | N14: 1158 | O14: 1492 | P14: =SUM(D14:O14) -> 17311
C15: 크라이슬러 | D15: 408 | E15: 141 | F15: 18 | G15: 405 | H15: 49 | I15: 342 | J15: 0 | K15: 105 | L15: 44 | M15: 0 | N15: 0 | O15: 0 | P15: =SUM(D15:O15) -> 1512
C16: 포드 | D16: 251 | E16: 324 | F16: 0 | G16: 642 | H16: 1210 | I16: 0 | J16: 119 | K16: 338 | L16: 355 | M16: 238 | N16: 839 | O16: 0 | P16: =SUM(D16:O16) -> 4316
C17: 재규어 | D17: 52 | E17: 41 | F17: 72 | G17: 49 | H17: 40 | I17: 51 | J17: 128 | K17: 127 | L17: 63 | M17: 20 | N17: 143 | O17: 141 | P17: =SUM(D17:O17) -> 927
C18: 랜드로버 | D18: 55 | E18: 51 | F18: 127 | G18: 60 | H18: 124 | I18: 48 | J18: 92 | K18: 103 | L18: 110 | M18: 42 | N18: 121 | O18: 111 | P18: =SUM(D18:O18) -> 1044
C19: 볼보 | D19: 216 | E19: 236 | F19: 253 | G19: 45 | H19: 10 | I19: 2 | J19: 32 | K19: 160 | L19: 77 | M19: 171 | N19: 129 | O19: 203 | P19: =SUM(D19:O19) -> 1534
C20: 푸조 | D20: 108 | E20: 73 | F20: 50 | G20: 107 | H20: 137 | I20: 108 | J20: 89 | K20: 191 | L20: 409 | M20: 44 | N20: 336 | O20: 297 | P20: =SUM(D20:O20) -> 1949
C21: 포르쉐 | D21: 41 | E21: 31 | F21: 76 | G21: 75 | H21: 11 | I21: 57 | J21: 20 | K21: 74 | L21: 96 | M21: 63 | N21: 106 | O21: 62 | P21: =SUM(D21:O21) -> 712
C22: 캐딜락 | D22: 0 | E22: 0 | F22: 0 | G22: 66 | H22: 0 | I22: 0 | J22: 0 | K22: 14 | M22: 0 | N22: 0 | O22: 0 | P22: =SUM(D22:O22) -> 80
C23: 토요타&렉서스 | D23: 0 | E23: 0 | F23: 0 | G23: 575 | H23: 419 | I23: 691 | J23: 672 | K23: 560 | L23: 915 | M23: 767 | N23: 1137 | O23: 1119 | P23: =SUM(D23:O23) -> 6855
C24: 스바루 | D24: 0 | E24: 0 | F24: 0 | G24: 40 | H24: 0 | I24: 0 | J24: 0 | K24: 116 | L24: 0 | M24: 0 | N24: 0 | O24: 0 | P24: =SUM(D24:O24) -> 156
C25: 롤스로이스 | D25: 0 | E25: 0 | F25: 0 | G25: 0 | H25: 1 | I25: 2 | J25: 1 | K25: 3 | L25: 0 | M25: 1 | N25: 1 | O25: 0 | P25: =SUM(D25:O25) -> 9
C26: 닛산 | D26: 136 | E26: 199 | F26: 147 | G26: 259 | H26: 584 | I26: 217 | J26: 81 | K26: 0 | L26: 0 | M26: 0 | N26: 0 | O26: 0 | P26: =SUM(D26:O26) -> 1623
B27: H & H | C27: 벤츠트럭 | D27: 59 | E27: 18 | F27: 56 | G27: 55 | H27: 134 | I27: 59 | J27: 47 | K27: 49 | L27: 78 | M27: 71 | N27: 65 | O27: 38 | P27: =SUM(D27:O27) -> 729
C28: 만트럭 | D28: 0 | E28: 10 | F28: 23 | G28: 22 | H28: 74 | I28: 37 | J28: 0 | K28: 58 | L28: 0 | M28: 0 | N28: 24 | O28: 26 | P28: =SUM(D28:O28) -> 274
C29: 존디어 | D29: 0 | E29: 0 | F29: 0 | G29: 0 | H29: 0 | I29: 0 | J29: 0 | K29: 0 | L29: 0 | M29: 0 | N29: 0 | O29: 0 | P29: =SUM(D29:O29) -> 0
C30: 캐터필라 | D30: 0 | E30: 0 | F30: 0 | G30: 0 | H30: 0 | I30: 0 | J30: 0 | K30: 0 | L30: 0 | M30: 0 | N30: 0 | O30: 0 | P30: =SUM(D30:O30) -> 0
C31: 기 타 | D31: 86 | E31: 58 | F31: 93 | G31: 94 | H31: 120 | I31: 57 | J31: 70 | K31: 112 | L31: 143 | M31: 95 | N31: 213 | O31: 88 | P31: =SUM(D31:O31) -> 1229
B32: 계(b) | D32: =SUM(D11:D31) -> 4427 | E32: =SUM(E11:E31) -> 2408 | F32: =SUM(F11:F31) -> 3413 | G32: =SUM(G11:G31) -> 6116 | H32: =SUM(H11:H31) -> 5543 | I32: =SUM(I11:I31) -> 6581 | J32: =SUM(J11:J31) -> 3849 | K32: =SUM(K11:K31) -> 9939 | ... O32: =SUM(O11:O31) -> 7274 | P32: =SUM(D32:O32) -> 71171
A33: 합 계(a+b) | D33: =SUM(D10,D32) -> 54126 | E33: =SUM(E10,E32) -> 45088 | F33: =SUM(F10,F32) -> 56225 | G33: =SUM(G10,G32) -> 67711 | H33: =SUM(H10,H32) -> 66978 | I33: =SUM(I10,I32) -> 73290 | J33: =SUM(J10,J32) -> 76075 | K33: =SUM(K10,K32) -> 54911 | ... O33: =SUM(O10,O32) -> 76155 | P33: =SUM(D33:O33) -> 788376
A34: T/S(c) | D34: 11304 | E34: 12838 | F34: 15010 | G34: 15121 | H34: 10260 | I34: 11081 | J34: 14857 | K34: 9987 | L34: 13224 | M34: 10026 | N34: 14115 | O34: 20750 | P34: =SUM(D34:O34) -> 158573
A35: 총 계(a+b+c) | D35: =D33+D34 -> 65430 | E35: =E33+E34 -> 57926 | F35: =F33+F34 -> 71235 | G35: =G33+G34 -> 82832 | H35: =H33+H34 -> 77238 | I35: =I33+I34 -> 84371 | J35: =J33+J34 -> 90932 | K35: =K33+K34 -> 64898 | ... O35: =O33+O34 -> 96905 | P35: =SUM(D35:O35) -> 946949

Sheet 2011
A1: 2011년 자동차 선적현황
A2: 구 분 | D2: 1월 | E2: 2월 | F2: 3월 | G2: 4월 | H2: 5월 | I2: 6월 | J2: 7월 | K2: 8월 | L2: 9월 | M2: 10월 | N2: 11월 | O2: 12월 | P2: 합 계
A3: 수 출 차 | B3: 신 차 | C3: 기아 | D3: 62324 | E3: 43168 | F3: 61917 | G3: 58416 | H3: 52039 | I3: 60664 | J3: 71400 | K3: 45462 | L3: 50190 | M3: 55268 | N3: 69636 | O3: 72864 | P3: =SUM(D3:O3) -> 703348
C4: 현대 | D4: 5999 | E4: 6643 | F4: 9334 | G4: 9184 | H4: 6628 | I4: 7621 | J4: 9204 | K4: 2341 | L4: 3915 | M4: 9494 | N4: 7069 | O4: 10107 | P4: =SUM(D4:O4) -> 87539
C5: GM대우 | D5: 132 | E5: 0 | F5: 0 | G5: 0 | H5: 0 | I5: 194 | J5: 0 | K5: 0 | L5: 1 | M5: 0 | N5: 0 | O5: 0 | P5: =SUM(D5:O5) -> 327
C6: 쌍용 | D6: 3352 | E6: 1491 | F6: 3588 | G6: 2409 | H6: 3123 | I6: 4610 | J6: 4777 | K6: 3176 | L6: 3356 | M6: 5147 | N6: 3270 | O6: 2391 | P6: =SUM(D6:O6) -> 40690
C7: 기타 | D7: 1 | E7: 3 | F7: 17 | G7: 30 | H7: 36 | I7: 8 | J7: 101 | K7: 28 | L7: 83 | M7: 47 | N7: 16 | O7: 35 | P7: =SUM(D7:O7) -> 405
C8: 소 계 | D8: =SUM(D3:D7) -> 71808 | E8: =SUM(E3:E7) -> 51305 | F8: =SUM(F3:F7) -> 74856 | G8: =SUM(G3:G7) -> 70039 | H8: =SUM(H3:H7) -> 61826 | I8: =SUM(I3:I7) -> 73097 | J8: =SUM(J3:J7) -> 85482 | K8: =SUM(K3:K7) -> 51007 | ... O8: =SUM(O3:O7) -> 85397 | P8: =SUM(D8:O8) -> 832309
B9: 중 고 차 | D9: 357 | E9: 288 | F9: 105 | G9: 426 | H9: 671 | I9: 307 | J9: 434 | K9: 721 | L9: 612 | M9: 273 | N9: 129 | O9: 229 | P9: =SUM(D9:O9) -> 4552
B10: 계(a) | D10: =D8+D9 -> 72165 | E10: =E8+E9 -> 51593 | F10: =F8+F9 -> 74961 | G10: =G8+G9 -> 70465 | H10: =H8+H9 -> 62497 | I10: =I8+I9 -> 73404 | J10: =J8+J9 -> 85916 | K10: =K8+K9 -> 51728 | ... O10: =O8+O9 -> 85626 | P10: =SUM(D10:O10) -> 836861
A11: 수 입 차 | B11: 승 용 차 | C11: 아우디 | D11: 531 | E11: 1245 | F11: 746 | G11: 680 | H11: 1028 | I11: 635 | J11: 316 | K11: 1108 | L11: 1186 | M11: 417 | N11: 1295 | O11: 1330 | P11: =SUM(D11:O11) -> 10517
C12: 폭스바겐 | D12: 158 | E12: 1015 | F12: 483 | G12: 1370 | H12: 831 | I12: 1274 | J12: 876 | K12: 2154 | L12: 1219 | M12: 834 | N12: 961 | O12: 1355 | P12: =SUM(D12:O12) -> 12530
C13: BMW | D13: 923 | E13: 3446 | F13: 3168 | G13: 2760 | H13: 4019 | I13: 2616 | J13: 1509 | K13: 2032 | L13: 3780 | M13: 1684 | N13: 1772 | O13: 1560 | P13: =SUM(D13:O13) -> 29269
C14: 벤츠 | D14: 1399 | E14: 2619 | F14: 2157 | G14: 1696 | H14: 2941 | I14: 1677 | J14: 752 | K14: 1132 | L14: 2983 | M14: 1121 | N14: 1433 | O14: 1550 | P14: =SUM(D14:O14) -> 21460
C15: 크라이슬러 | D15: 0 | E15: 0 | F15: 0 | G15: 0 | H15: 0 | I15: 63 | J15: 358 | K15: 655 | L15: 192 | M15: 202 | N15: 330 | O15: 503 | P15: =SUM(D15:O15) -> 2303
C16: 포드 | D16: 910 | E16: 131 | F16: 0 | G16: 296 | H16: 450 | I16: 716 | J16: 805 | K16: 628 | L16: 261 | M16: 665 | N16: 0 | O16: 296 | P16: =SUM(D16:O16) -> 5158
C17: 재규어 | D17: 135 | E17: 85 | F17: 85 | G17: 47 | H17: 81 | I17: 33 | J17: 45 | K17: 77 | L17: 48 | M17: 96 | N17: 83 | O17: 163 | P17: =SUM(D17:O17) -> 978
C18: 랜드로버 | D18: 72 | E18: 180 | F18: 100 | G18: 59 | H18: 242 | I18: 31 | J18: 92 | K18: 133 | L18: 45 | M18: 97 | N18: 144 | O18: 137 | P18: =SUM(D18:O18) -> 1332
C19: 볼보 | D19: 77 | E19: 114 | F19: 475 | G19: 135 | H19: 260 | I19: 161 | J19: 202 | K19: 80 | L19: 57 | M19: 109 | N19: 118 | O19: 156 | P19: =SUM(D19:O19) -> 1944
C20: 푸조 | D20: 372 | E20: 152 | F20: 204 | G20: 237 | H20: 260 | I20: 367 | J20: 270 | K20: 437 | L20: 247 | M20: 270 | N20: 158 | O20: 164 | P20: =SUM(D20:O20) -> 3138
C21: 포르쉐 | D21: 60 | E21: 113 | F21: 73 | G21: 177 | H21: 214 | I21: 129 | J21: 109 | K21: 105 | L21: 115 | M21: 98 | N21: 108 | O21: 87 | P21: =SUM(D21:O21) -> 1388
C22: 캐딜락 | D22: 0 | E22: 0 | F22: 0 | G22: 0 | H22: 0 | I22: 0 | J22: 14 | K22: 18 | L22: 41 | M22: 7 | N22: 44 | O22: 51 | P22: =SUM(D22:O22) -> 175
C23: 토요타&렉서스 | D23: 900 | E23: 603 | F23: 684 | G23: 264 | H23: 202 | I23: 665 | J23: 905 | K23: 728 | L23: 362 | M23: 543 | N23: 831 | O23: 665 | P23: =SUM(D23:O23) -> 7352
... C27: 닛산 | D27: 21 | E27: 0 | F27: 0 | G27: 350 | H27: 70 | I27: 327 | J27: 173 | K27: 613 | L27: 724 | M27: 431 | N27: 774 | O27: 875 | P27: =SUM(D27:O27) -> 4358
B28: H & H | C28: 벤츠트럭 | D28: 66 | E28: 41 | F28: 60 | G28: 94 | H28: 77 | I28: 78 | J28: 83 | K28: 31 | L28: 128 | M28: 38 | N28: 45 | O28: 25 | P28: =SUM(D28:O28) -> 766
C29: 만트럭 | D29: 0 | E29: 0 | F29: 45 | G29: 86 | H29: 76 | I29: 25 | J29: 32 | K29: 46 | L29: 0 | M29: 0 | N29: 10 | O29: 16 | P29: =SUM(D29:O29) -> 336
C30: 존디어 | D30: 0 | E30: 0 | F30: 0 | G30: 0 | H30: 0 | I30: 0 | J30: 0 | K30: 0 | L30: 0 | M30: 0 | N30: 0 | O30: 0 | P30: =SUM(D30:O30) -> 0
C31: 캐터필라 | D31: 0 | E31: 0 | F31: 0 | G31: 0 | H31: 0 | I31: 0 | J31: 0 | K31: 0 | L31: 0 | M31: 0 | N31: 0 | O31: 0 | P31: =SUM(D31:O31) -> 0
C32: 기 타 | D32: 73 | E32: 130 | F32: 86 | G32: 261 | H32: 406 | I32: 190 | J32: 266 | K32: 171 | L32: 107 | M32: 193 | N32: 148 | O32: 124 | P32: =SUM(D32:O32) -> 2155
B33: 계(b) | D33: =SUM(D11:D32) -> 5697 | E33: =SUM(E11:E32) -> 9875 | F33: =SUM(F11:F32) -> 8367 | G33: =SUM(G11:G32) -> 8513 | H33: =SUM(H11:H32) -> 11274 | I33: =SUM(I11:I32) -> 9070 | J33: =SUM(J11:J32) -> 6870 | K33: =SUM(K11:K32) -> 10369 | ... O33: =SUM(O11:O32) -> 9570 | P33: =SUM(D33:O33) -> 107428
A34: 합 계(a+b) | D34: =SUM(D10,D33) -> 77862 | E34: =SUM(E10,E33) -> 61468 | F34: =SUM(F10,F33) -> 83328 | G34: =SUM(G10,G33) -> 78978 | H34: =SUM(H10,H33) -> 73771 | I34: =SUM(I10,I33) -> 82474 | J34: =SUM(J10,J33) -> 92786 | K34: =SUM(K10,K33) -> 62097 | ... O34: =SUM(O10,O33) -> 95196 | P34: =SUM(D34:O34) -> 944289
A35: T/S(c) | D35: 27486 | E35: 20314 | F35: 25131 | G35: 32124 | H35: 22212 | I35: 29358 | J35: 30257 | K35: 21940 | L35: 27255 | M35: 31089 | N35: 25849 | O35: 35050 | P35: =SUM(D35:O35) -> 328065
A36: 총 계(a+b+c) | D36: =D34+D35 -> 105348 | E36: =E34+E35 -> 81782 | F36: =F34+F35 -> 108459 | G36: =G34+G35 -> 111102 | H36: =H34+H35 -> 95983 | I36: =I34+I35 -> 111832 | J36: =J34+J35 -> 123043 | K36: =K34+K35 -> 84037 | ... O36: =O34+O35 -> 130246 | P36: =SUM(D36:O36) -> 1272354

Sheet 2012
A1: 2012년 자동차 선적현황
A2: 구 분 | D2: 1월 | E2: 2월 | F2: 3월 | G2: 4월 | H2: 5월 | I2: 6월 | J2: 7월 | K2: 8월 | L2: 9월 | M2: 10월 | N2: 11월 | O2: 12월 | P2: 합 계
A3: 수 출 차 | B3: 승 용 | C3: 기아 | D3: 56648 | E3: 74658 | F3: 70746 | G3: 61859 | H3: =64155 -> 64155 | I3: 66269 | J3: 61189 | K3: 29346 | L3: 51689 | M3: 52730 | N3: 65092 | O3: 58608 | P3: =SUM(D3:O3) -> 712989
C4: 현대 | D4: 7383 | E4: 9710 | F4: =2295+4914 -> 7209 | G4: =4660+5818 -> 10478 | H4: =3764+4696 -> 8460 | I4: =3064+5385 -> 8449 | J4: =3439+6278 -> 9717 | K4: =1764+1534 -> 3298 | L4: =2698+5242 -> 7940 | M4: =2639+3094 -> 5733 | N4: =4969+5860 -> 10829 | O4: =3800+5702 -> 9502 | P4: =SUM(D4:O4) -> 98708
C5: 쌍용 | D5: 2721 | E5: 2135 | F5: 1661 | G5: =2804 -> 2804 | H5: 2249 | I5: =2453 -> 2453 | J5: 2436 | K5: 1715 | L5: 2175 | M5: =2287 -> 2287 | N5: 3094 | O5: 4109 | P5: =SUM(D5:O5) -> 29839
C6: GM KOREA | D6: 0 | E6: 0 | F6: 0 | P6: =SUM(D6:O6) -> 0
C7: 르노삼성 | D7: 0 | E7: 0 | F7: 0 | P7: =SUM(D7:O7) -> 0
C8: 기타 | D8: 0 | E8: 0 | F8: 0 | G8: 86 | I8: 34 | J8: 1 | M8: =6 -> 6 | N8: 20 | O8: 437 | P8: =SUM(D8:O8) -> 584
C9: 소 계 | D9: =SUM(D3:D8) -> 66752 | E9: =SUM(E3:E8) -> 86503 | F9: =SUM(F3:F8) -> 79616 | G9: =SUM(G3:G8) -> 75227 | H9: =SUM(H3:H8) -> 74864 | I9: =SUM(I3:I8) -> 77205 | J9: =SUM(J3:J8) -> 73343 | K9: =SUM(K3:K8) -> 34359 | ... O9: =SUM(O3:O8) -> 72656 | P9: =SUM(D9:O9) -> 842120
B10: 상 용 | C10: 두산 | D10: 105 | E10: 7 | F10: 146 | G10: =121 -> 121 | H10: 217 | I10: 104 | J10: 79 | K10: 141 | L10: 78 | M10: 51 | N10: 80 | O10: 124 | P10: =SUM(D10:O10) -> 1253
C11: 현대 | D11: 110 | E11: 37 | F11: 106 | G11: =107 -> 107 | I11: 63 | J11: =50 -> 50 | K11: 29 | L11: 25 | M11: 35 | N11: 1 | O11: 87 | P11: =SUM(D11:O11) -> 650
C12: 타타대우 | E12: 35 | F12: 113 | G12: 96 | I12: 145 | J12: 4 | K12: =58 -> 58 | L12: 45 | M12: 25 | N12: 50 | O12: 59
C13: 기타 | D13: 4 | E13: 17 | F13: =51 -> 51 | G13: 49 | I13: =28 -> 28 | K13: =3 -> 3 | L13: =3+103 -> 106 | M13: 1 | N13: 9 | O13: 13 | P13: =SUM(D13:O13) -> 281
C14: 소 계 | D14: =SUM(D10:D13) -> 219 | E14: =SUM(E10:E13) -> 96 | F14: =SUM(F10:F13) -> 416 | G14: =SUM(G10:G13) -> 373 | H14: =SUM(H10:H13) -> 217 | I14: =SUM(I10:I13) -> 340 | J14: =SUM(J10:J13) -> 133 | K14: =SUM(K10:K13) -> 231 | ... O14: =SUM(O10:O13) -> 283 | P14: =SUM(D14:O14) -> 2814
B15: 중 고 차 | D15: 71 | E15: 235 | F15: =246+1 -> 247 | G15: =103+49 -> 152 | H15: =247+228+10 -> 485 | I15: =372+186+9 -> 567 | J15: =43+48+3 -> 94 | K15: =63+86+22 -> 171 | L15: =431+190+26 -> 647 | M15: =377+380+22 -> 779 | N15: =266+130+9 -> 405 | O15: =5+119+334 -> 458 | P15: =SUM(D15:O15) -> 4311
B16: 개품화물 | D16: 63 | E16: 62 | F16: 155 | G16: 76 | H16: 42 | I16: 45 | J16: 24 | K16: 36 | L16: 95 | M16: 34 | N16: 205 | O16: 171 | P16: =SUM(D16:O16) -> 1008
B17: 계(a) | D17: =D9+D16+D14+D15 -> 67105 | E17: =E9+E16+E14+E15 -> 86896 | F17: =F9+F16+F14+F15 -> 80434 | G17: =G9+G16+G14+G15 -> 75828 | H17: =H9+H16+H14+H15 -> 75608 | I17: =I9+I16+I14+I15 -> 78157 | J17: =J9+J16+J14+J15 -> 73594 | K17: =K9+K14+K15+K16 -> 34797 | L17: =L9+L16+L14+L15 -> 62800 | M17: =M9+M16+M14+M15 -> 61681 | N17: =N9+N16+N14+N15 -> 79785 | O17: =O9+O16+O14+O15 -> 73568 | P17: =SUM(D17:O17) -> 850253
A18: 수 입 차 | B18: 승 용 | C18: BMW | D18: 2526 | E18: 1295 | F18: 5343 | G18: 2874 | H18: 3861 | I18: 2474 | J18: 1210 | K18: 3504 | L18: 3349 | M18: 2248 | N18: 3520 | O18: 1778 | P18: =SUM(D18:O18) -> 33982
C19: 벤츠 | D19: 1999 | E19: 2058 | F19: 2728 | G19: 1766 | H19: 1399 | I19: 819 | J19: 484 | K19: 1155 | L19: 1877 | M19: 1890 | N19: 2622 | O19: 1460 | P19: =SUM(D19:O19) -> 20257
C20: 아우디 | D20: 873 | E20: 992 | F20: 1582 | G20: 1480 | H20: 1495 | I20: 749 | J20: 832 | K20: 1988 | L20: 1018 | M20: 1735 | N20: 1282 | O20: 683 | P20: =SUM(D20:O20) -> 14709
C21: 폭스바겐 | D21: 836 | E21: 506 | F21: 1341 | G21: 1827 | H21: 1466 | I21: 739 | J21: 1007 | K21: 3057 | L21: 1795 | M21: 2067 | N21: 2381 | O21: 1605 | P21: =SUM(D21:O21) -> 18627
C22: 포드 | D22: 829 | E22: 50 | F22: 347 | G22: 82 | H22: 179 | I22: 260 | J22: 392 | K22: 202 | L22: 733 | M22: 430 | N22: 904 | O22: 271 | P22: =SUM(D22:O22) -> 4679
C23: 재규어 | D23: 117 | E23: 59 | F23: 89 | G23: 79 | H23: 161 | I23: 64 | J23: 100 | K23: 77 | L23: 59 | M23: 98 | N23: 60 | O23: 169 | P23: =SUM(D23:O23) -> 1132
C24: 닛산 | D24: 123 | E24: 104 | F24: 243 | G24: 273 | H24: 250 | I24: 275 | J24: 47 | K24: 205 | L24: 77 | M24: 266 | N24: 546 | O24: 517 | P24: =SUM(D24:O24) -> 2926
C25: 포르쉐 | D25: 42 | E25: 116 | F25: 160 | G25: 96 | H25: 56 | I25: 171 | J25: 108 | K25: 159 | L25: 167 | M25: 50 | N25: 89 | O25: 254 | P25: =SUM(D25:O25) -> 1468
C26: 볼보 | D26: 219 | E26: 58 | F26: 208 | G26: 194 | H26: 103 | I26: 96 | J26: 115 | K26: 178 | L26: 16 | M26: 51 | N26: 196 | O26: 230 | P26: =SUM(D26:O26) -> 1664
C27: 랜드로버 | D27: 138 | E27: 52 | F27: 194 | G27: 29 | H27: 205 | I27: 140 | J27: 239 | K27: 113 | L27: 147 | M27: 145 | N27: 106 | O27: 333 | P27: =SUM(D27:O27) -> 1841
C28: 도요타&렉서스 | D28: 1852 | E28: 1419 | F28: 1754 | G28: 1686 | H28: 2018 | I28: 1419 | J28: 962 | K28: 1016 | L28: 1287 | M28: 961 | N28: 1395 | O28: 1401 | P28: =SUM(D28:O28) -> 17170
C29: 크라이슬러 | D29: 409 | E29: 231 | F29: 593 | G29: 364 | H29: 789 | I29: 330 | J29: 233 | K29: 396 | L29: 318 | M29: 545 | N29: 338 | O29: 908 | P29: =SUM(D29:O29) -> 5454
C30: 푸조 | D30: 141 | E30: 0 | F30: 249 | G30: 217 | H30: 282 | I30: 232 | J30: 79 | K30: 356 | L30: 240 | M30: 142 | N30: 207 | O30: 200 | P30: =SUM(D30:O30) -> 2345
C31: 캐딜락 | E31: 34 | F31: 116 | G31: 0 | H31: 68 | I31: 97 | J31: 35 | K31: 5 | L31: 71 | M31: 141 | N31: 20 | O31: 50 | P31: =SUM(D31:O31) -> 637
C32: 혼다 | D32: 573 | E32: 256 | F32: 98 | G32: 0 | H32: 57 | I32: 150 | J32: 224 | K32: 459 | L32: 459 | M32: 1 | N32: 99 | O32: 904 | P32: =SUM(D32:O32) -> 3280
C33: 미쓰비씨 | G33: 50 | H33: 68 | L33: 68 | O33: 0
C34: 기타 | D34: 14 | E34: 97 | F34: =50+42 -> 92 | H34: 10 | I34: 7 | J34: 12 | K34: 5 | L34: 18 | M34: 48 | N34: 7 | O34: 6 | P34: =SUM(D34:O34) -> 316
C35: 소계 | D35: =SUM(D18:D34) -> 10691 | E35: =SUM(E18:E34) -> 7327 | F35: =SUM(F18:F34) -> 15137 | G35: =SUM(G18:G34) -> 11017 | H35: =SUM(H18:H34) -> 12467 | I35: =SUM(I18:I34) -> 8022 | J35: =SUM(J18:J34) -> 6079 | K35: =SUM(K18:K34) -> 12875 | ... O35: =SUM(O18:O34) -> 10769 | P35: =SUM(D35:O35) -> 130673
B36: 상 용 | C36: 벤츠트럭 | D36: 47 | E36: 86 | F36: 44 | G36: 92 | H36: 54 | I36: 50 | J36: 33 | K36: 76 | L36: 72 | M36: 81 | N36: 83 | O36: 34 | P36: =SUM(D36:O36) -> 752
C37: 만트럭 | D37: 47 | E37: 41 | F37: 38 | G37: 48 | H37: 40 | I37: 35 | J37: 11 | K37: 53 | L37: 33 | M37: 80 | N37: 38 | O37: 31 | P37: =SUM(D37:O37) -> 495
C38: 크레인 | D38: 16 | E38: 12 | F38: 15 | G38: 22 | H38: 5 | J38: 3 | K38: 8 | L38: 19 | M38: 32 | N38: 11 | O38: 11 | P38: =SUM(D38:O38) -> 154
C39: 기타 | D39: 10 | E39: 7 | F39: 43 | G39: 81 | H39: 146 | I39: 36 | J39: 50 | K39: 59 | L39: 44 | M39: 83 | N39: 66 | O39: 67 | P39: =SUM(D39:O39) -> 692
C40: 소계 | D40: =SUM(D36:D39) -> 120 | E40: =SUM(E36:E39) -> 146 | F40: =SUM(F36:F39) -> 140 | G40: =SUM(G36:G39) -> 243 | H40: =SUM(H36:H39) -> 245 | I40: =SUM(I36:I39) -> 121 | J40: =SUM(J36:J39) -> 97 | K40: =SUM(K36:K39) -> 196 | ... O40: =SUM(O36:O39) -> 143 | P40: =SUM(D40:O40) -> 2093
B41: 개품화물 | D41: 113 | E41: 111 | F41: 96 | G41: 188 | H41: 120 | I41: 36 | J41: 40 | K41: 100 | L41: 41 | M41: 98 | N41: 116 | O41: 76 | P41: =SUM(D41:O41) -> 1135
B42: 계(b) | D42: =D35+D40+D41 -> 10924 | E42: =E35+E40+E41 -> 7584 | F42: =F35+F40+F41 -> 15373 | G42: =G35+G40+G41 -> 11448 | H42: =H35+H40+H41 -> 12832 | I42: =I35+I40+I41 -> 8179 | J42: =J35+J40+J41 -> 6216 | K42: =K35+K40+K41 -> 13171 | ... O42: =O35+O40+O41 -> 10988 | P42: =SUM(D42:O42) -> 133901
A43: 합 계(a+b) | D43: =SUM(D17,D42) -> 78029 | E43: =SUM(E17,E42) -> 94480 | F43: =SUM(F17,F42) -> 95807 | G43: =SUM(G17,G42) -> 87276 | H43: =SUM(H17,H42) -> 88440 | I43: =SUM(I17,I42) -> 86336 | J43: =SUM(J17,J42) -> 79810 | K43: =SUM(K17,K42) -> 47968 | ... O43: =SUM(O17,O42) -> 84556 | P43: =SUM(D43:O43) -> 984154
A44: T/S(c) | D44: 32076 | E44: 37496 | F44: 34053 | G44: 27974 | H44: 32479 | I44: 29402 | J44: 31475 | K44: 19802 | L44: 30037 | M44: 34108 | N44: 35609 | O44: 35563 | P44: =SUM(D44:O44) -> 380074
A45: 기타 | D45: 1734 | E45: 577 | F45: 969 | G45: 911 | H45: 1262 | I45: 2110 | J45: 1252 | K45: 1051 | L45: 1051 | M45: 681 | N45: 1892 | O45: 1147 | P45: =SUM(D45:O45) -> 14637
A46: 총 계(a+b+c) | D46: =D43+D44+D45 -> 111839 | E46: =E43+E44+E45 -> 132553 | F46: =F43+F44+F45 -> 130829 | G46: =G43+G44+G45 -> 116161 | H46: =H43+H44+H45 -> 122181 | I46: =I43+I44+I45 -> 117848 | J46: =J43+J44+J45 -> 112537 | K46: =K43+K44+K45 -> 68821 | ... O46: =O43+O44+O45 -> 121266 | P46: =SUM(D46:O46) -> 1378865

Sheet 2013
A1: 2013년 자동차 선적현황
A2: 구 분 | D2: 1월 | E2: 2월 | F2: 3월 | G2: 4월 | H2: 5월 | I2: 6월 | J2: 7월 | K2: 8월 | L2: 9월 | M2: 10월 | N2: 11월 | O2: 12월 | P2: 합 계
A3: 수 출 차 | B3: 승 용 | C3: 기아 | D3: 65583 | E3: 51592 | F3: 66493 | G3: 59519 | H3: 65181 | I3: 65516 | J3: 60531 | K3: 45157 | L3: 39862 | M3: 51840 | N3: 67891 | O3: 71915 | P3: =SUM(D3:O3) -> 711080
C4: 현대 | D4: =4242+4160 -> 8402 | E4: =4470+5977 -> 10447 | F4: =1774+4669 -> 6443 | G4: =551+6012 -> 6563 | H4: =82+6298 -> 6380 | I4: =2044+6073 -> 8117 | J4: =2937+3613 -> 6550 | K4: =1594+3792 -> 5386 | L4: =819+4413 -> 5232 | M4: =3124+5284 -> 8408 | N4: =1824+4851 -> 6675 | O4: =2775+7004 -> 9779 | P4: =SUM(D4:O4) -> 88382
C5: 쌍용 | D5: 2848 | E5: 1509 | F5: 2722 | G5: 2185 | H5: 2953 | I5: 2627 | J5: 2863 | K5: 2807 | L5: 2609 | M5: 3161 | N5: 3581 | O5: 4485 | P5: =SUM(D5:O5) -> 34350
C6: GM KOREA | P6: =SUM(D6:O6) -> 0
C7: 르노삼성 | P7: =SUM(D7:O7) -> 0
C8: 기타 | D8: 0 | E8: 0 | F8: 77 | G8: 104 | H8: 601 | I8: 8 | J8: 6 | K8: 100 | L8: 363 | M8: 147 | N8: 210 | O8: 214 | P8: =SUM(D8:O8) -> 1830
C9: 소 계 | D9: =SUM(D3:D8) -> 76833 | E9: =SUM(E3:E8) -> 63548 | F9: =SUM(F3:F8) -> 75735 | G9: =SUM(G3:G8) -> 68371 | H9: =SUM(H3:H8) -> 75115 | I9: =SUM(I3:I8) -> 76268 | J9: =SUM(J3:J8) -> 69950 | K9: =SUM(K3:K8) -> 53450 | ... O9: =SUM(O3:O8) -> 86393 | P9: =SUM(D9:O9) -> 835642
B10: 상 용 | C10: 두산 | D10: 17 | E10: 84 | F10: 133 | G10: 28 | H10: 125 | I10: 61 | J10: 211 | K10: 46 | L10: 18 | M10: 23 | N10: 33 | O10: 24 | P10: =SUM(D10:O10) -> 803
C11: 현대 | D11: 37 | E11: 53 | F11: 89 | G11: 23 | H11: 17 | I11: 33 | J11: 47 | K11: 19 | L11: 4 | M11: 16 | N11: 4 | O11: 110 | P11: =SUM(D11:O11) -> 452
C12: 타타대우 | D12: 108 | E12: 27 | F12: 3 | G12: 50 | H12: 4 | I12: 10 | J12: 3 | K12: 44 | L12: 25 | M12: 8 | P12: =SUM(D12:O12) -> 282
C13: 기타 | D13: 136 | E13: 19 | F13: 68 | G13: 26 | H13: 26 | I13: 21 | J13: 29 | K13: 29 | L13: 109 | M13: 28 | N13: 45 | O13: 67 | P13: =SUM(D13:O13) -> 603
C14: 소 계 | D14: =SUM(D10:D13) -> 298 | E14: =SUM(E10:E13) -> 183 | F14: =SUM(F10:F13) -> 293 | G14: =SUM(G10:G13) -> 127 | H14: =SUM(H10:H13) -> 172 | I14: =SUM(I10:I13) -> 125 | J14: =SUM(J10:J13) -> 290 | K14: =SUM(K10:K13) -> 138 | ... O14: =SUM(O10:O13) -> 201 | P14: =SUM(D14:O14) -> 2140
B15: 중 고 차 | D15: =217+97+8 -> 322 | E15: =179+67+2 -> 248 | F15: =958+349+5 -> 1312 | G15: =506+183+6 -> 695 | H15: =381+86+9 -> 476 | I15: =469+178+10 -> 657 | J15: =325+70+21 -> 416 | K15: =432+59+56 -> 547 | L15: =567+153+23 -> 743 | M15: =1067+289+13 -> 1369 | N15: =280+151+13 -> 444 | O15: =640+134+5 -> 779 | P15: =SUM(D15:O15) -> 8008
B16: 개품화물 | D16: 30 | E16: 102 | F16: 95 | G16: 16 | H16: 342 | I16: 186 | J16: 116 | K16: 67 | L16: 35 | M16: 62 | N16: 35 | O16: 60 | P16: =SUM(D16:O16) -> 1146
B17: 계(a) | D17: =D9+D16+D14+D15 -> 77483 | E17: =E9+E16+E14+E15 -> 64081 | F17: =F9+F16+F14+F15 -> 77435 | G17: =G9+G16+G14+G15 -> 69209 | H17: =H9+H16+H14+H15 -> 76105 | I17: =I9+I16+I14+I15 -> 77236 | J17: =J9+J16+J14+J15 -> 70772 | K17: =K9+K14+K15+K16 -> 54202 | L17: =L9+L16+L14+L15 -> 49000 | M17: =M9+M16+M14+M15 -> 65062 | N17: =N9+N16+N14+N15 -> 78918 | O17: =O9+O16+O14+O15 -> 87433 | P17: =SUM(D17:O17) -> 846936
A18: 수 입 차 | B18: 승 용 | C18: BMW | D18: 3604 | E18: 3243 | F18: 3550 | G18: 5377 | H18: 2806 | I18: 4160 | J18: 1686 | K18: 1954 | L18: 4210 | M18: 3962 | N18: 3074 | O18: 4288 | P18: =SUM(D18:O18) -> 41914
C19: 벤츠 | D19: 1933 | E19: 1678 | F19: 1759 | G19: 2649 | H19: 417 | I19: 3259 | J19: 1319 | K19: 1573 | L19: 2625 | M19: 2382 | N19: 2130 | O19: 2778 | P19: =SUM(D19:O19) -> 24502
C20: 아우디 | D20: 1895 | E20: 1704 | F20: 672 | G20: 2231 | H20: 1605 | I20: 1909 | J20: 1436 | K20: 1580 | L20: 2535 | M20: 1492 | N20: 1464 | O20: 3046 | P20: =SUM(D20:O20) -> 21569
C21: 폭스바겐 | D21: 2044 | E21: 1608 | F21: 1605 | G21: 2785 | H21: 2314 | I21: 2228 | J21: 3244 | K21: 2197 | L21: 2472 | M21: 2356 | N21: 1561 | O21: 2312 | P21: =SUM(D21:O21) -> 26726
C22: 포드 | D22: 813 | E22: 496 | F22: 339 | G22: 326 | H22: 690 | I22: 402 | J22: 640 | K22: 589 | L22: 498 | M22: 413 | N22: 1494 | O22: 784 | P22: =SUM(D22:O22) -> 7484
C23: 재규어 | D23: 310 | E23: 77 | F23: 240 | G23: 223 | H23: 160 | I23: 132 | J23: 75 | K23: 204 | L23: 84 | M23: 103 | N23: 137 | O23: 306 | P23: =SUM(D23:O23) -> 2051
C24: 닛산 | D24: 468 | E24: 640 | F24: 511 | G24: 261 | H24: 24 | I24: 39 | J24: 25 | K24: 59 | L24: 414 | M24: 333 | N24: 569 | O24: 399 | P24: =SUM(D24:O24) -> 3742
C25: 포르쉐 | D25: 150 | E25: 221 | F25: 118 | G25: 190 | H25: 230 | I25: 253 | J25: 192 | K25: 215 | L25: 217 | M25: 283 | N25: 138 | O25: 89 | P25: =SUM(D25:O25) -> 2296
C26: 볼보 | D26: 284 | E26: 67 | F26: 218 | G26: 159 | H26: 12 | I26: 34 | J26: 47 | K26: 138 | L26: 271 | M26: 117 | N26: 251 | O26: 433 | P26: =SUM(D26:O26) -> 2031
C27: 랜드로버 | D27: 227 | E27: 335 | F27: 243 | G27: 324 | H27: 260 | I27: 317 | J27: 119 | K27: 257 | L27: 191 | M27: 237 | N27: 227 | O27: 468 | P27: =SUM(D27:O27) -> 3205
C28: 도요타&렉서스 | D28: 590 | E28: 784 | F28: 896 | G28: 733 | H28: 645 | I28: 932 | J28: 808 | K28: 521 | L28: 534 | M28: 787 | N28: 762 | O28: 1083 | P28: =SUM(D28:O28) -> 9075
C29: 크라이슬러 | D29: 1142 | E29: 266 | F29: 317 | G29: 296 | H29: 332 | I29: 170 | J29: 569 | K29: 310 | L29: 298 | M29: 441 | N29: 483 | O29: 697 | P29: =SUM(D29:O29) -> 5321
C30: 푸조 | D30: 394 | E30: 93 | F30: 146 | G30: 336 | H30: 261 | I30: 225 | J30: 238 | K30: 335 | L30: 294 | M30: 164 | N30: 347 | O30: 436 | P30: =SUM(D30:O30) -> 3269
C31: 캐딜락 | E31: 116 | F31: 25 | G31: 53 | H31: 18 | J31: 0 | K31: 6 | L31: 7 | M31: 7 | N31: 19 | P31: =SUM(D31:O31) -> 251
C32: 혼다 | D32: 447 | E32: 858 | F32: 854 | G32: 801 | H32: 467 | J32: 287 | K32: 0 | L32: 204 | N32: 356 | O32: 246 | P32: =SUM(D32:O32) -> 4520
C33: 미쓰비씨 | J33: 0 | K33: 0 | L33: 0
C34: 기타 | D34: 21 | E34: 13 | F34: 42 | G34: 7 | H34: 6 | I34: 6 | J34: 15 | K34: 9 | L34: 16 | M34: 11 | N34: 10 | O34: 45 | P34: =SUM(D34:O34) -> 201
C35: 소계 | D35: =SUM(D18:D34) -> 14322 | E35: =SUM(E18:E34) -> 12199 | F35: =SUM(F18:F34) -> 11535 | G35: =SUM(G18:G34) -> 16751 | H35: =SUM(H18:H34) -> 10247 | I35: =SUM(I18:I34) -> 14066 | J35: =SUM(J18:J34) -> 10700 | K35: =SUM(K18:K34) -> 9947 | ... O35: =SUM(O18:O34) -> 17410 | P35: =SUM(D35:O35) -> 158157
B36: 상 용 | C36: 벤츠트럭 | D36: 104 | E36: 38 | F36: 58 | G36: 90 | H36: 45 | I36: 96 | J36: 75 | K36: 104 | L36: 50 | M36: 70 | N36: 70 | O36: 96 | P36: =SUM(D36:O36) -> 896
C37: 만트럭 | D37: 46 | E37: 40 | F37: 23 | G37: 21 | H37: 130 | I37: 21 | J37: 35 | K37: 100 | L37: 72 | M37: 51 | N37: 80 | O37: 113 | P37: =SUM(D37:O37) -> 732
C38: 크레인 | D38: 19 | E38: 10 | F38: 14 | G38: 7 | H38: 20 | I38: 15 | J38: 5 | K38: 15 | L38: 10 | M38: 1 | N38: 7 | O38: 13 | P38: =SUM(D38:O38) -> 136
C39: 기타 | D39: 165 | E39: 63 | F39: 34 | G39: 106 | H39: 35 | I39: 51 | J39: 58 | K39: 29 | L39: 60 | M39: 65 | N39: 46 | O39: 112 | P39: =SUM(D39:O39) -> 824
C40: 소계 | D40: =SUM(D36:D39) -> 334 | E40: =SUM(E36:E39) -> 151 | F40: =SUM(F36:F39) -> 129 | G40: =SUM(G36:G39) -> 224 | H40: =SUM(H36:H39) -> 230 | I40: =SUM(I36:I39) -> 183 | J40: =SUM(J36:J39) -> 173 | K40: =SUM(K36:K39) -> 248 | ... O40: =SUM(O36:O39) -> 334 | P40: =SUM(D40:O40) -> 2588
B41: 개품화물 | D41: 242 | E41: 108 | F41: 73 | G41: 117 | H41: 113 | I41: 98 | J41: 120 | K41: 137 | L41: 113 | M41: 79 | N41: 126 | O41: 61 | P41: =SUM(D41:O41) -> 1387
B42: 계(b) | D42: =D35+D40+D41 -> 14898 | E42: =E35+E40+E41 -> 12458 | F42: =F35+F40+F41 -> 11737 | G42: =G35+G40+G41 -> 17092 | H42: =H35+H40+H41 -> 10590 | I42: =I35+I40+I41 -> 14347 | J42: =J35+J40+J41 -> 10993 | K42: =K35+K40+K41 -> 10332 | ... O42: =O35+O40+O41 -> 17805 | P42: =SUM(D42:O42) -> 162132
A43: 합 계(a+b) | D43: =SUM(D17,D42) -> 92381 | E43: =SUM(E17,E42) -> 76539 | F43: =SUM(F17,F42) -> 89172 | G43: =SUM(G17,G42) -> 86301 | H43: =SUM(H17,H42) -> 86695 | I43: =SUM(I17,I42) -> 91583 | J43: =SUM(J17,J42) -> 81765 | K43: =SUM(K17,K42) -> 64534 | ... O43: =SUM(O17,O42) -> 105238 | P43: =SUM(D43:O43) -> 1009068
A44: T/S(c) | D44: 32591 | E44: 32794 | F44: 34856 | G44: 32714 | H44: 37898 | I44: 38280 | J44: 39222 | K44: 35835 | L44: 32124 | M44: 29854 | N44: 39711 | O44: 31984 | P44: =SUM(D44:O44) -> 417863
A45: 기타 | D45: 1112 | E45: 2984 | F45: 479 | G45: 912 | H45: 2993 | I45: 483 | J45: 2016 | K45: 2427 | L45: 1537 | M45: 457 | N45: 1253 | O45: 2593 | P45: =SUM(D45:O45) -> 19246
A46: 총 계(a+b+c) | D46: =D43+D44+D45 -> 126084 | E46: =E43+E44+E45 -> 112317 | F46: =F43+F44+F45 -> 124507 | G46: =G43+G44+G45 -> 119927 | H46: =H43+H44+H45 -> 127586 | I46: =I43+I44+I45 -> 130346 | J46: =J43+J44+J45 -> 123003 | K46: =K43+K44+K45 -> 102796 | ... O46: =O43+O44+O45 -> 139815 | P46: =SUM(D46:O46) -> 1446177

Sheet 2014
A1: 2014년 자동차 선적현황
A2: 구 분 | D2: 1월 | E2: 2월 | F2: 3월 | G2: 4월 | H2: 5월 | I2: 6월 | J2: 7월 | K2: 8월 | L2: 9월 | M2: 10월 | N2: 11월 | O2: 12월 | P2: 합 계
A3: 수 출 차 | B3: 승 용 | C3: 기아 | D3: 60993 | E3: 61933 | F3: 73398 | G3: 73324 | H3: 69533 | I3: 68610 | J3: 73694 | K3: 50281 | L3: 49591 | M3: 41979 | N3: 74196 | O3: 73051 | P3: =SUM(D3:O3) -> 770583
C4: 현대 | D4: =2801+4766 -> 7567 | E4: =1118+4860 -> 5978 | F4: =1745+4348 -> 6093 | G4: =1235+4554 -> 5789 | H4: =1776+4354 -> 6130 | I4: =6930+1951 -> 8881 | J4: =4313+2264 -> 6577 | K4: =3630+798 -> 4428 | L4: =3286+1620 -> 4906 | M4: =5717+1548 -> 7265 | N4: =3022+3778 -> 6800 | O4: =5325+1782 -> 7107 | P4: =SUM(D4:O4) -> 77521
C5: 쌍용 | D5: 5691 | E5: 2995 | F5: 4234 | G5: 5030 | H5: 3269 | I5: 3449 | J5: 4039 | K5: 3570 | L5: 3256 | M5: 3379 | N5: 4089 | O5: 3634 | P5: =SUM(D5:O5) -> 46635
C6: GM KOREA | P6: =SUM(D6:O6) -> 0
C7: 르노삼성 | P7: =SUM(D7:O7) -> 0
C8: 기타 | D8: 162 | E8: 34 | F8: 86 | G8: 49 | H8: 20 | I8: 261 | J8: 244 | K8: 42 | L8: 147 | M8: 0 | N8: 35 | O8: 9 | P8: =SUM(D8:O8) -> 1089
C9: 소 계 | D9: =SUM(D3:D8) -> 74413 | E9: =SUM(E3:E8) -> 70940 | F9: =SUM(F3:F8) -> 83811 | G9: =SUM(G3:G8) -> 84192 | H9: =SUM(H3:H8) -> 78952 | I9: =SUM(I3:I8) -> 81201 | J9: =SUM(J3:J8) -> 84554 | K9: =SUM(K3:K8) -> 58321 | ... O9: =SUM(O3:O8) -> 83801 | P9: =SUM(D9:O9) -> 895828
B10: 상 용 | C10: 두산 | D10: 38 | E10: 56 | F10: 64 | G10: 90 | H10: 44 | I10: 27 | J10: 35 | K10: 9 | L10: 7 | M10: 25 | N10: 23 | O10: 7 | P10: =SUM(D10:O10) -> 425
C11: 현대 | D11: 69 | E11: 72 | F11: 60 | G11: 33 | H11: 49 | I11: 15 | J11: 40 | K11: 9 | L11: 145 | M11: 58 | N11: 35 | O11: 70 | P11: =SUM(D11:O11) -> 655
C12: 타타대우 | D12: 38 | E12: 46 | F12: 1 | G12: 6 | H12: 0 | I12: 0 | J12: 10 | K12: 0 | L12: 48 | M12: 49 | N12: 34 | O12: 24 | P12: =SUM(D12:O12) -> 256
C13: 중고중장비 | D13: 144 | E13: 33 | F13: 48 | G13: 58 | H13: 82 | I13: 113 | J13: 267 | K13: 171 | L13: 162 | M13: 133 | N13: 58 | O13: 145
C14: 신중장비 | D14: 42 | E14: 38 | F14: 34 | G14: 64 | H14: 46 | I14: 34 | J14: 29 | K14: 25 | L14: 41 | M14: 70 | N14: 68 | O14: 40 | P14: =SUM(D14:O14) -> 531
C15: 소 계 | D15: =SUM(D10:D14) -> 331 | E15: =SUM(E10:E14) -> 245 | F15: =SUM(F10:F14) -> 207 | G15: =SUM(G10:G14) -> 251 | H15: =SUM(H10:H14) -> 221 | I15: =SUM(I10:I14) -> 189 | J15: =SUM(J10:J14) -> 381 | K15: =SUM(K10:K14) -> 214 | ... O15: =SUM(O10:O14) -> 286 | P15: =SUM(D15:O15) -> 3281
B16: 중 고 차 | D16: =349 -> 349 | E16: =39 -> 39 | F16: =146 -> 146 | G16: 166 | H16: 191 | I16: 447 | J16: 171 | K16: 88 | L16: 127 | M16: 234 | N16: 241 | O16: 149 | P16: =SUM(D16:O16) -> 2348
B17: 개품화물 | D17: 102 | E17: 22 | F17: 139 | G17: 234 | H17: 60 | I17: 110 | J17: 104 | K17: 121 | L17: 131 | M17: 53 | N17: 203 | O17: 413 | P17: =SUM(D17:O17) -> 1692
B18: 계(a) | D18: =D9+D17+D15+D16 -> 75195 | E18: =E9+E17+E15+E16 -> 71246 | F18: =F9+F17+F15+F16 -> 84303 | G18: =G9+G17+G15+G16 -> 84843 | H18: =H9+H17+H15+H16 -> 79424 | I18: =I9+I17+I15+I16 -> 81947 | J18: =J9+J17+J15+J16 -> 85210 | K18: =K9+K17+K15+K16 -> 58744 | ... O18: =O9+O17+O15+O16 -> 84649 | P18: =SUM(D18:O18) -> 903149
A19: 수 입 차 | B19: 승 용 | C19: BMW | D19: 1748 | E19: 3822 | F19: 3893 | G19: 4258 | H19: 4535 | I19: 4202 | J19: 2853 | K19: 3940 | L19: 3536 | M19: 2296 | N19: 5507 | O19: 5585 | P19: =SUM(D19:O19) -> 46175
C20: 벤츠 | D20: 2399 | E20: 2365 | F20: 2593 | G20: 2595 | H20: 1973 | I20: 2569 | J20: 2827 | K20: 5176 | L20: 2383 | M20: 2536 | N20: 2388 | O20: 6326 | P20: =SUM(D20:O20) -> 36130
C21: 아우디 | D21: 1370 | E21: 2643 | F21: 2890 | G21: 1734 | H21: 2628 | I21: 2826 | J21: 1587 | K21: 3050 | L21: 2350 | M21: 1123 | N21: 2620 | O21: 3911 | P21: =SUM(D21:O21) -> 28732
C22: 폭스바겐 | D22: 834 | E22: 2029 | F22: 3214 | G22: 2688 | H22: 2815 | I22: 2230 | J22: 2287 | K22: 2661 | L22: 1832 | M22: 2088 | N22: 3241 | O22: 5264 | P22: =SUM(D22:O22) -> 31183
C23: 포드 | D23: 846 | E23: 1006 | F23: 780 | G23: 496 | H23: 403 | I23: 395 | J23: 730 | K23: 288 | L23: 692 | M23: 1016 | N23: 879 | O23: 589 | P23: =SUM(D23:O23) -> 8120
C24: 재규어 | D24: 109 | E24: 236 | F24: 141 | G24: 276 | H24: 132 | I24: 148 | J24: 42 | K24: 185 | L24: 190 | M24: 204 | N24: 139 | O24: 369 | P24: =SUM(D24:O24) -> 2171
C25: 랜드로버 | D25: 168 | E25: 337 | F25: 279 | G25: 268 | H25: 504 | I25: 565 | J25: 330 | K25: 449 | L25: 301 | M25: 569 | N25: 411 | O25: 504 | P25: =SUM(D25:O25) -> 4685
C26: 닛산 | D26: 783 | E26: 688 | F26: 525 | G26: 758 | H26: 225 | I26: 895 | J26: 964 | K26: 431 | L26: 480 | M26: 439 | N26: 742 | O26: 1074 | P26: =SUM(D26:O26) -> 8004
C27: 포르쉐 | D27: 0 | E27: 290 | F27: 214 | G27: 215 | H27: 346 | I27: 231 | J27: 129 | K27: 402 | L27: 211 | M27: 71 | N27: 249 | O27: 506 | P27: =SUM(D27:O27) -> 2864
C28: 볼보 | D28: 202 | E28: 339 | F28: 133 | G28: 254 | H28: 147 | I28: 248 | J28: 415 | K28: 194 | L28: 208 | M28: 294 | N28: 261 | O28: 307 | P28: =SUM(D28:O28) -> 3002
C29: 도요타&렉서스 | D29: 522 | E29: 222 | F29: 725 | G29: 709 | H29: 1024 | I29: 906 | J29: 675 | K29: 650 | L29: 796 | M29: 526 | N29: 922 | O29: 1451 | P29: =SUM(D29:O29) -> 9128
C30: 크라이슬러 | D30: 202 | E30: 120 | F30: 160 | G30: 458 | H30: 373 | I30: 299 | J30: 470 | K30: 1079 | L30: 164 | M30: 873 | N30: 660 | O30: 757 | P30: =SUM(D30:O30) -> 5615
C31: 푸조 | D31: 97 | E31: 233 | F31: 293 | G31: 462 | H31: 165 | I31: 288 | J31: 231 | K31: 328 | L31: 405 | M31: 74 | N31: 686 | O31: 392 | P31: =SUM(D31:O31) -> 3654
C32: 캐딜락 | D32: 0 | G32: 83 | H32: 62 | I32: 20 | J32: 2 | K32: 40 | L32: 45 | M32: 21 | N32: 1 | O32: 95 | P32: =SUM(D32:O32) -> 369
C33: 혼다 | D33: 377 | E33: 359 | F33: 377 | G33: 336 | H33: 280 | I33: 155 | J33: 283 | K33: 315 | L33: 0 | M33: 217 | N33: 327 | O33: 246 | P33: =SUM(D33:O33) -> 3272
C34: 미쓰비씨
C35: 기타 | D35: 18 | E35: 30 | F35: 48 | G35: 11 | H35: 19 | I35: 13 | J35: 13 | K35: 31 | L35: 12 | M35: 37 | N35: 32 | O35: 33 | P35: =SUM(D35:O35) -> 297
C36: 소계 | D36: =SUM(D19:D35) -> 9675 | E36: =SUM(E19:E35) -> 14719 | F36: =SUM(F19:F35) -> 16265 | G36: =SUM(G19:G35) -> 15601 | H36: =SUM(H19:H35) -> 15631 | I36: =SUM(I19:I35) -> 15990 | J36: =SUM(J19:J35) -> 13838 | K36: =SUM(K19:K35) -> 19219 | ... O36: =SUM(O19:O35) -> 27409 | P36: =SUM(D36:O36) -> 193401
B37: 상 용 | C37: 벤츠트럭 | D37: 48 | E37: 22 | F37: 126 | G37: 122 | H37: 25 | I37: 66 | J37: 93 | K37: 106 | L37: 128 | M37: 92 | N37: 132 | O37: 46 | P37: =SUM(D37:O37) -> 1006
C38: 만트럭 | D38: 6 | E38: 56 | F38: 79 | G38: 115 | H38: 129 | I38: 124 | J38: 66 | K38: 67 | L38: 122 | M38: 264 | N38: 259 | O38: 85 | P38: =SUM(D38:O38) -> 1372
C39: 볼보트럭 | D39: 21 | E39: 36 | F39: 92 | G39: 100 | H39: 101 | I39: 105 | J39: 131 | K39: 129 | L39: 107 | M39: 132 | N39: 165 | O39: 280 | P39: =SUM(D39:O39) -> 1399
C40: 기타 | D40: 70 | E40: 46 | F40: 124 | G40: 62 | H40: 124 | I40: 96 | J40: 191 | K40: 101 | L40: 72 | M40: 177 | N40: 187 | O40: 233 | P40: =SUM(D40:O40) -> 1483
C41: 소계 | D41: =SUM(D37:D40) -> 145 | E41: =SUM(E37:E40) -> 160 | F41: =SUM(F37:F40) -> 421 | G41: =SUM(G37:G40) -> 399 | H41: =SUM(H37:H40) -> 379 | I41: =SUM(I37:I40) -> 391 | J41: =SUM(J37:J40) -> 481 | K41: =SUM(K37:K40) -> 403 | ... O41: =SUM(O37:O40) -> 644 | P41: =SUM(D41:O41) -> 5260
B42: 개품화물 | D42: 171 | E42: 94 | F42: 144 | G42: 174 | H42: 180 | I42: 119 | J42: 139 | K42: 192 | L42: 84 | M42: 165 | N42: 218 | O42: 508 | P42: =SUM(D42:O42) -> 2188
B43: 계(b) | D43: =D36+D41+D42 -> 9991 | E43: =E36+E41+E42 -> 14973 | F43: =F36+F41+F42 -> 16830 | G43: =G36+G41+G42 -> 16174 | H43: =H36+H41+H42 -> 16190 | I43: =I36+I41+I42 -> 16500 | J43: =J36+J41+J42 -> 14458 | K43: =K36+K41+K42 -> 19814 | ... O43: =O36+O41+O42 -> 28561 | P43: =SUM(D43:O43) -> 200849
A44: 합 계(a+b) | D44: =SUM(D18,D43) -> 85186 | E44: =SUM(E18,E43) -> 86219 | F44: =SUM(F18,F43) -> 101133 | G44: =SUM(G18,G43) -> 101017 | H44: =SUM(H18,H43) -> 95614 | I44: =SUM(I18,I43) -> 98447 | J44: =SUM(J18,J43) -> 99668 | K44: =SUM(K18,K43) -> 78558 | ... O44: =SUM(O18,O43) -> 113210 | P44: =SUM(D44:O44) -> 1103998
A45: T/S(c) | D45: 31488 | E45: 32204 | F45: 35108 | G45: 36422 | H45: 36659 | I45: 36616 | J45: 28465 | K45: 26327 | L45: 24287 | M45: 34029 | N45: 27277 | O45: 33156 | P45: =SUM(D45:O45) -> 382038
A46: 기타 | D46: 1942 | E46: 1019 | F46: 2986 | G46: 1140 | H46: 1621 | I46: 1602 | J46: 2716 | K46: 740 | L46: 1312 | M46: 1027 | N46: 2100 | O46: 1539 | P46: =SUM(D46:O46) -> 19744
A47: 총 계(a+b+c) | D47: =D44+D45+D46 -> 118616 | E47: =E44+E45+E46 -> 119442 | F47: =F44+F45+F46 -> 139227 | G47: =G44+G45+G46 -> 138579 | H47: =H44+H45+H46 -> 133894 | I47: =I44+I45+I46 -> 136665 | J47: =J44+J45+J46 -> 130849 | K47: =K44+K45+K46 -> 105625 | ... O47: =O44+O45+O46 -> 147905 | P47: =SUM(D47:O47) -> 1505780

Sheet 2015
A1: 2015년 자동차 선적현황
A2: 구 분 | D2: 1월 | E2: 2월 | F2: 3월 | G2: 4월 | H2: 5월 | I2: 6월 | J2: 7월 | K2: 8월 | L2: 9월 | M2: 10월 | N2: 11월 | O2: 12월 | P2: 합 계
A3: 수 출 차 | B3: 승 용 | C3: 기아 | D3: 67238 | E3: 52029 | F3: 68678 | G3: 71548 | H3: 67127 | I3: 70560 | J3: 60420 | K3: 42580 | L3: 56291 | M3: 60820 | N3: 67269 | O3: 65023 | P3: =SUM(D3:O3) -> 749583
C4: 현대 | D4: =2987+2702 -> 5689 | E4: =649+2776 -> 3425 | F4: =4964+189 -> 5153 | G4: =5744+851 -> 6595 | H4: =6023+441 -> 6464 | I4: =4961+578 -> 5539 | J4: =5392+125 -> 5517 | K4: =4649+1190 -> 5839 | L4: =4468+1580 -> 6048 | M4: =1309+5691 -> 7000 | N4: =158+7037 -> 7195 | O4: =260+6312 -> 6572 | P4: =SUM(D4:O4) -> 71036
C5: 쌍용 | D5: 4131 | E5: 2565 | F5: 3666 | G5: 4420 | H5: 5264 | I5: 3061 | J5: 3508 | K5: 3900 | L5: 2891 | M5: 3933 | N5: 3398 | O5: 3128 | P5: =SUM(D5:O5) -> 43865
C6: GM KOREA | P6: =SUM(D6:O6) -> 0
C7: 르노삼성 | P7: =SUM(D7:O7) -> 0
C8: 기타 | D8: 10 | E8: 132 | F8: 21 | G8: 120 | H8: 1 | I8: 69 | J8: 34 | K8: 4 | L8: 205 | M8: 25 | N8: 133 | O8: 741 | P8: =SUM(D8:O8) -> 1495
C9: 소 계 | D9: =SUM(D3:D8) -> 77068 | E9: =SUM(E3:E8) -> 58151 | F9: =SUM(F3:F8) -> 77518 | G9: =SUM(G3:G8) -> 82683 | H9: =SUM(H3:H8) -> 78856 | I9: =SUM(I3:I8) -> 79229 | J9: =SUM(J3:J8) -> 69479 | K9: =SUM(K3:K8) -> 52323 | ... O9: =SUM(O3:O8) -> 75464 | P9: =SUM(D9:O9) -> 865979
B10: 상 용 | C10: 두산 | D10: 31 | E10: 29 | F10: 28 | G10: 41 | H10: 4 | I10: 14 | J10: 8 | K10: 7 | L10: 0 | M10: 38 | N10: 3 | O10: 26 | P10: =SUM(D10:O10) -> 229
C11: 현대 | E11: 18 | F11: 84 | G11: 126 | H11: 63 | I11: 13 | J11: 4 | K11: 14 | L11: 4 | M11: 45 | N11: 64 | O11: 129 | P11: =SUM(D11:O11) -> 564
C12: 타타대우 | E12: 88 | F12: 64 | G12: 8 | H12: 11 | I12: 13 | J12: 5 | K12: 0 | L12: 0 | M12: 4 | N12: 16 | O12: 7 | P12: =SUM(D12:O12) -> 216
C13: 중고중장비 | D13: 53 | E13: 96 | F13: 195 | G13: 59 | H13: 80 | I13: 85 | J13: 161 | K13: 99 | L13: 85 | M13: 39 | N13: 211 | O13: 247 | P13: =SUM(D13:O13) -> 1410
C14: 신중장비 | D14: 14 | E14: 38 | F14: 55 | G14: 29 | H14: 83 | I14: 13 | J14: 46 | K14: 25 | L14: 21 | M14: 128 | N14: 15 | O14: 27 | P14: =SUM(D14:O14) -> 494
C15: 소 계 | D15: =SUM(D10:D14) -> 98 | E15: =SUM(E10:E14) -> 269 | F15: =SUM(F10:F14) -> 426 | G15: =SUM(G10:G14) -> 263 | H15: =SUM(H10:H14) -> 241 | I15: =SUM(I10:I14) -> 138 | J15: =SUM(J10:J14) -> 224 | K15: =SUM(K10:K14) -> 145 | ... O15: =SUM(O10:O14) -> 436 | P15: =SUM(D15:O15) -> 2913
B16: 중 고 차 | D16: 163 | E16: 177 | F16: 354 | G16: 177 | H16: 299 | I16: 272 | J16: 241 | K16: 304 | L16: 334 | M16: 650 | N16: 367 | O16: 151 | P16: =SUM(D16:O16) -> 3489
B17: 개품화물 | D17: 43 | E17: 123 | F17: 138 | G17: 106 | H17: 105 | I17: 85 | J17: 66 | K17: 162 | L17: 64 | M17: 48 | N17: 251 | O17: 80 | P17: =SUM(D17:O17) -> 1271
B18: 계(a) | D18: =D9+D17+D15+D16 -> 77372 | E18: =E9+E17+E15+E16 -> 58720 | F18: =F9+F17+F15+F16 -> 78436 | G18: =G9+G17+G15+G16 -> 83229 | H18: =H9+H17+H15+H16 -> 79501 | I18: =I9+I17+I15+I16 -> 79724 | J18: =J9+J17+J15+J16 -> 70010 | K18: =K9+K17+K15+K16 -> 52934 | ... O18: =O9+O17+O15+O16 -> 76131 | P18: =SUM(D18:O18) -> 873652
A19: 수 입 차 | B19: 승 용 | C19: BMW | D19: 4035 | E19: 5071 | F19: 4772 | G19: 4928 | H19: 2777 | I19: 6395 | J19: 3645 | K19: 3933 | L19: 7060 | M19: 4107 | N19: 5237 | O19: 5361 | P19: =SUM(D19:O19) -> 57321
C20: 벤츠 | D20: 1767 | E20: 2672 | F20: 2814 | G20: 5745 | H20: 3271 | I20: 4641 | J20: 2509 | K20: 4705 | L20: 6571 | M20: 2855 | N20: 4754 | O20: 4989 | P20: =SUM(D20:O20) -> 47293
C21: 아우디 | D21: 2355 | E21: 2199 | F21: 1918 | G21: 3607 | H21: 2174 | I21: 2791 | J21: 4192 | K21: 4513 | L21: 3416 | M21: 2035 | N21: 3337 | O21: 3119 | P21: =SUM(D21:O21) -> 35656
C22: 폭스바겐 | D22: 3073 | E22: 3485 | F22: 4291 | G22: 4202 | H22: 2604 | I22: 2718 | J22: 2836 | K22: 3617 | L22: 3214 | M22: 2168 | N22: 2531 | O22: 3962 | P22: =SUM(D22:O22) -> 38701
C23: 포드 | D23: 1768 | E23: 712 | F23: 769 | G23: 1108 | H23: 1557 | I23: 436 | J23: 297 | K23: 315 | L23: 647 | M23: 892 | N23: 745 | O23: 1253 | P23: =SUM(D23:O23) -> 10499
C24: 재규어 | D24: 71 | E24: 251 | F24: 261 | G24: 349 | H24: 144 | I24: 338 | J24: 91 | K24: 92 | L24: 300 | M24: 278 | N24: 930 | O24: 262 | P24: =SUM(D24:O24) -> 3367
C25: 랜드로버 | D25: 340 | E25: 788 | F25: 464 | G25: 461 | H25: 255 | I25: 1198 | J25: 268 | K25: 157 | L25: 307 | M25: 889 | N25: 1118 | O25: 1704 | P25: =SUM(D25:O25) -> 7949
C26: 닛산 | D26: 258 | E26: 271 | F26: 1525 | G26: 485 | H26: 631 | I26: 757 | J26: 1044 | K26: 292 | L26: 421 | M26: 1043 | N26: 1282 | O26: 1517 | P26: =SUM(D26:O26) -> 9526
C27: 포르쉐 | D27: 87 | E27: 178 | F27: 271 | G27: 522 | H27: 279 | I27: 345 | J27: 310 | K27: 515 | L27: 447 | M27: 112 | N27: 287 | O27: 151 | P27: =SUM(D27:O27) -> 3504
C28: 볼보 | D28: 217 | E28: 216 | F28: 451 | G28: 401 | H28: 517 | I28: 688 | J28: 164 | K28: 158 | L28: 198 | M28: 332 | N28: 790 | O28: 645 | P28: =SUM(D28:O28) -> 4777
C29: 도요타&렉서스 | D29: 786 | E29: 833 | F29: 835 | G29: 718 | H29: 602 | I29: 1086 | J29: 601 | K29: 1016 | L29: 856 | M29: 1015 | N29: 760 | O29: 1186 | P29: =SUM(D29:O29) -> 10294
C30: 크라이슬러 | D30: 844 | E30: 119 | F30: 739 | G30: 300 | H30: 694 | I30: 405 | J30: 373 | K30: 946 | L30: 412 | M30: 483 | N30: 493 | O30: 1658 | P30: =SUM(D30:O30) -> 7466
C31: 푸조 | D31: 518 | E31: 608 | F31: 775 | G31: 824 | H31: 1385 | I31: 558 | J31: 606 | K31: 1457 | L31: 31 | M31: 67 | N31: 354 | O31: 335 | P31: =SUM(D31:O31) -> 7518
... C33: 혼다 | D33: 539 | E33: 241 | F33: 432 | G33: 328 | H33: 458 | I33: 643 | J33: 452 | K33: 313 | L33: 274 | M33: 192 | N33: 339 | O33: 297 | P33: =SUM(D33:O33) -> 4508
C34: 미쓰비씨 | P34: =SUM(D34:O34) -> 0
C35: 기타 | D35: 54 | E35: 9 | F35: 48 | G35: 25 | H35: 81 | I35: 111 | J35: 145 | K35: 114 | L35: 309 | M35: 72 | N35: 299 | O35: 255 | P35: =SUM(D35:O35) -> 1522
C36: 소계 | D36: =SUM(D19:D35) -> 16827 | E36: =SUM(E19:E35) -> 17719 | F36: =SUM(F19:F35) -> 20365 | G36: =SUM(G19:G35) -> 24003 | H36: =SUM(H19:H35) -> 17525 | I36: =SUM(I19:I35) -> 23234 | J36: =SUM(J19:J35) -> 17659 | K36: =SUM(K19:K35) -> 23625 | ... O36: =SUM(O19:O35) -> 29289 | P36: =SUM(D36:O36) -> 258398
B37: 상 용 | C37: 벤츠트럭 | D37: 95 | E37: 79 | F37: 12 | G37: 84 | H37: 59 | I37: 61 | J37: 10 | K37: 56 | L37: 77 | M37: 51 | N37: 53 | O37: 130 | P37: =SUM(D37:O37) -> 767
C38: 만트럭 | D38: 17 | E38: 4 | F38: 6 | G38: 25 | H38: 24 | I38: 120 | J38: 76 | K38: 103 | L38: 214 | M38: 23 | N38: 92 | O38: 190 | P38: =SUM(D38:O38) -> 894
C39: 볼보트럭 | D39: 47 | E39: 118 | F39: 105 | G39: 157 | H39: 152 | I39: 200 | J39: 161 | K39: 220 | L39: 54 | M39: 142 | N39: 306 | O39: 330 | P39: =SUM(D39:O39) -> 1992
C40: 기타 | D40: 31 | E40: 69 | F40: 102 | G40: 99 | H40: 90 | I40: 221 | J40: 73 | K40: 175 | L40: 90 | M40: 154 | N40: 107 | O40: 309 | P40: =SUM(D40:O40) -> 1520
C41: 소계 | D41: =SUM(D37:D40) -> 190 | E41: =SUM(E37:E40) -> 270 | F41: =SUM(F37:F40) -> 225 | G41: =SUM(G37:G40) -> 365 | H41: =SUM(H37:H40) -> 325 | I41: =SUM(I37:I40) -> 602 | J41: =SUM(J37:J40) -> 320 | K41: =SUM(K37:K40) -> 554 | ... O41: =SUM(O37:O40) -> 959 | P41: =SUM(D41:O41) -> 5173
B42: 개품화물 | D42: 120 | E42: 72 | F42: 228 | G42: 235 | H42: 330 | I42: 255 | J42: 264 | K42: 464 | L42: 200 | M42: 275 | N42: 222 | O42: 260 | P42: =SUM(D42:O42) -> 2925
B43: 계(b) | D43: =D36+D41+D42 -> 17137 | E43: =E36+E41+E42 -> 18061 | F43: =F36+F41+F42 -> 20818 | G43: =G36+G41+G42 -> 24603 | H43: =H36+H41+H42 -> 18180 | I43: =I36+I41+I42 -> 24091 | J43: =J36+J41+J42 -> 18243 | K43: =K36+K41+K42 -> 24643 | ... O43: =O36+O41+O42 -> 30508 | P43: =SUM(D43:O43) -> 266496
A44: 합 계(a+b) | D44: =SUM(D18,D43) -> 94509 | E44: =SUM(E18,E43) -> 76781 | F44: =SUM(F18,F43) -> 99254 | G44: =SUM(G18,G43) -> 107832 | H44: =SUM(H18,H43) -> 97681 | I44: =SUM(I18,I43) -> 103815 | J44: =SUM(J18,J43) -> 88253 | K44: =SUM(K18,K43) -> 77577 | ... O44: =SUM(O18,O43) -> 106639 | P44: =SUM(D44:O44) -> 1140148
A45: T/S(c) | D45: 27967 | E45: 26176 | F45: 30370 | G45: 24201 | H45: 34100 | I45: 29415 | J45: 37719 | K45: 22465 | L45: 22553 | M45: 33252 | N45: 26200 | O45: 25861 | P45: =SUM(D45:O45) -> 340279
A46: 기타 | D46: 1348 | E46: 1444 | F46: 1791 | G46: 1854 | H46: 2352 | I46: 1890 | J46: 2063 | K46: 2032 | L46: 981 | M46: 2835 | N46: 1338 | O46: 2528 | P46: =SUM(D46:O46) -> 22456
A47: 총계(a+b+c) | D47: =D44+D45+D46 -> 123824 | E47: =E44+E45+E46 -> 104401 | F47: =F44+F45+F46 -> 131415 | G47: =G44+G45+G46 -> 133887 | H47: =H44+H45+H46 -> 134133 | I47: =I44+I45+I46 -> 135120 | J47: =J44+J45+J46 -> 128035 | K47: =K44+K45+K46 -> 102074 | ... O47: =O44+O45+O46 -> 135028 | P47: =SUM(D47:O47) -> 1502883

Sheet 2016
A1: 2016년 자동차 선적현황
A2: 구 분 | D2: 1월 | E2: 2월 | F2: 3월 | G2: 4월 | H2: 5월 | I2: 6월 | J2: 7월 | K2: 8월 | L2: 9월 | M2: 10월 | N2: 11월 | O2: 12월 | P2: 합 계
A3: 수 출 차 | B3: 승 용 | C3: 기아 | D3: 54141 | E3: 50206 | F3: 65789 | G3: 53582 | H3: 43019 | I3: 55951 | J3: 58083 | K3: 30459 | L3: 36617 | M3: 48177 | N3: 58383 | O3: 72191 | P3: =SUM(D3:O3) -> 626598
C4: 현대 | D4: =1501+3345 -> 4846 | E4: =114+2389 -> 2503 | F4: =2753+249 -> 3002 | G4: =6236+1145 -> 7381 | H4: =4574+500 -> 5074 | I4: =5335+11 -> 5346 | J4: =4679+866 -> 5545 | K4: =3210+2298 -> 5508 | L4: 4940 | M4: =884+4706 -> 5590 | N4: =4683+834 -> 5517 | O4: =5022+1437 -> 6459 | P4: =SUM(D4:O4) -> 61711
C5: 쌍용 | D5: 2970 | E5: 2379 | F5: 3490 | G5: 3934 | H5: 3372 | I5: 4013 | J5: 3505 | K5: 4083 | L5: 4627 | M5: 3550 | N5: 4081 | O5: 6249 | P5: =SUM(D5:O5) -> 46253
C6: GM KOREA | P6: =SUM(D6:O6) -> 0
C7: 르노삼성 | P7: =SUM(D7:O7) -> 0
C8: 기타 | D8: 14 | E8: 180 | F8: 372 | G8: 6 | H8: 17 | I8: 215 | J8: 113 | K8: 211 | L8: 300 | M8: 1541 | N8: 164 | O8: 1311 | P8: =SUM(D8:O8) -> 4444
C9: 소 계 | D9: =SUM(D3:D8) -> 61971 | E9: =SUM(E3:E8) -> 55268 | F9: =SUM(F3:F8) -> 72653 | G9: =SUM(G3:G8) -> 64903 | H9: =SUM(H3:H8) -> 51482 | I9: =SUM(I3:I8) -> 65525 | J9: =SUM(J3:J8) -> 67246 | K9: =SUM(K3:K8) -> 40261 | ... O9: =SUM(O3:O8) -> 86210 | P9: =SUM(D9:O9) -> 739006
B10: 상 용 | C10: 두산 | F10: 1 | G10: 1 | H10: 17 | J10: 7 | K10: 5 | L10: 9 | M10: 2 | N10: 45 | O10: 15 | P10: =SUM(D10:O10) -> 102
C11: 현대 | D11: 11 | E11: 50 | F11: 26 | G11: 3 | H11: 13 | I11: 59 | J11: 34 | K11: 18 | L11: 26 | M11: 29 | N11: 16 | O11: 80 | P11: =SUM(D11:O11) -> 365
C12: 타타대우 | E12: 1 | F12: 5 | K12: 1 | M12: 13 | N12: 15 | O12: 1 | P12: =SUM(D12:O12) -> 36
C13: 중고중장비 | D13: 131 | E13: 42 | F13: 81 | G13: 73 | H13: 123 | I13: 103 | J13: 156 | K13: 199 | L13: 77 | M13: 170 | N13: 227 | O13: 99 | P13: =SUM(D13:O13) -> 1481
C14: 신중장비 | D14: 11 | E14: 27 | F14: 46 | G14: 58 | H14: 47 | I14: 4 | J14: 22 | K14: 40 | L14: 13 | M14: 16 | N14: 19 | O14: 19 | P14: =SUM(D14:O14) -> 322
C15: 소 계 | D15: =SUM(D10:D14) -> 153 | E15: =SUM(E10:E14) -> 120 | F15: =SUM(F10:F14) -> 159 | G15: =SUM(G10:G14) -> 135 | H15: =SUM(H10:H14) -> 200 | I15: =SUM(I10:I14) -> 166 | J15: =SUM(J10:J14) -> 219 | K15: =SUM(K10:K14) -> 263 | ... O15: =SUM(O10:O14) -> 214 | P15: =SUM(D15:O15) -> 2306
B16: 중 고 차 | D16: 440 | E16: 126 | F16: 147 | G16: 200 | H16: 410 | I16: 309 | J16: 186 | K16: 319 | L16: 178 | M16: 528 | N16: 546 | O16: 438 | P16: =SUM(D16:O16) -> 3827
B17: 개품화물 | D17: 161 | E17: 161 | F17: 70 | G17: 94 | H17: 247 | I17: 81 | J17: 103 | K17: 44 | L17: 137 | M17: 168 | N17: 80 | O17: 50 | P17: =SUM(D17:O17) -> 1396
B18: 계(a) | D18: =D9+D17+D15+D16 -> 62725 | E18: =E9+E17+E15+E16 -> 55675 | F18: =F9+F17+F15+F16 -> 73029 | G18: =G9+G17+G15+G16 -> 65332 | H18: =H9+H17+H15+H16 -> 52339 | I18: =I9+I17+I15+I16 -> 66081 | J18: =J9+J17+J15+J16 -> 67754 | K18: =K9+K17+K15+K16 -> 40887 | ... O18: =O9+O17+O15+O16 -> 86912 | P18: =SUM(D18:O18) -> 746535
A19: 수 입 차 | B19: 승 용 | C19: BMW | D19: 3009 | E19: 5658 | F19: 5113 | G19: 5189 | H19: 6450 | I19: 6053 | J19: 6559 | K19: 5698 | L19: 5987 | M19: 3961 | N19: 5354 | O19: 3546 | P19: =SUM(D19:O19) -> 62577
C20: 벤츠 | D20: 4885 | E20: 5028 | F20: 2669 | G20: 3326 | H20: 2941 | I20: 4774 | J20: 5944 | K20: 5660 | L20: 7038 | M20: 8225 | N20: 7573 | O20: 6331 | P20: =SUM(D20:O20) -> 64394
C21: 아우디 | D21: 3275 | E21: 1518 | F21: 1601 | G21: 2340 | H21: 2743 | I21: 1820 | J21: 3045 | K21: 2252 | L21: 550 | M21: 15 | N21: 4 | O21: 47 | P21: =SUM(D21:O21) -> 19210
C22: 폭스바겐 | D22: 2522 | E22: 1888 | F22: 993 | G22: 2766 | H22: 2687 | I22: 1552 | J22: 1522 | K22: 933 | L22: 44 | P22: =SUM(D22:O22) -> 14907
C23: 포드 | D23: 1922 | E23: 514 | F23: 1496 | G23: 1339 | H23: 967 | I23: 315 | J23: 838 | K23: 1271 | L23: 647 | M23: 540 | N23: 677 | O23: 1701 | P23: =SUM(D23:O23) -> 12227
C24: 재규어 | D24: 142 | E24: 585 | F24: 370 | G24: 308 | H24: 486 | I24: 402 | J24: 485 | K24: 554 | L24: 397 | M24: 541 | N24: 686 | O24: 446 | P24: =SUM(D24:O24) -> 5402
C25: 랜드로버 | D25: 985 | E25: 1023 | F25: 965 | G25: 939 | H25: 1051 | I25: 1169 | J25: 792 | K25: 1305 | L25: 565 | M25: 696 | N25: 784 | O25: 788 | P25: =SUM(D25:O25) -> 11062
C26: 닛산 | D26: 386 | E26: 754 | F26: 1254 | G26: 813 | H26: 553 | I26: 1228 | J26: 793 | K26: 496 | L26: 406 | M26: 1042 | N26: 446 | O26: 564 | P26: =SUM(D26:O26) -> 8735
C27: 포르쉐 | D27: 269 | E27: 363 | F27: 281 | G27: 215 | H27: 468 | I27: 248 | J27: 401 | K27: 351 | L27: 223 | M27: 354 | N27: 346 | O27: 200 | P27: =SUM(D27:O27) -> 3719
C28: 볼보 | D28: 589 | E28: 360 | F28: 458 | G28: 452 | H28: 218 | I28: 292 | J28: 468 | K28: 302 | L28: 297 | M28: 634 | N28: 565 | O28: 453 | P28: =SUM(D28:O28) -> 5088
C29: 도요타&렉서스 | D29: 413 | E29: 927 | F29: 1116 | G29: 1344 | H29: 468 | I29: 1846 | J29: 811 | K29: 1409 | L29: 1328 | M29: 2050 | N29: 2786 | O29: 1833 | P29: =SUM(D29:O29) -> 16331
C30: 크라이슬러 | D30: 278 | E30: 39 | F30: 609 | G30: 867 | H30: 991 | I30: 839 | J30: 654 | K30: 318 | L30: 925 | M30: 373 | N30: 242 | O30: 697 | P30: =SUM(D30:O30) -> 6832
C31: 푸조 | D31: 729 | E31: 307 | F31: 486 | G31: 593 | H31: 659 | I31: 430 | J31: 640 | K31: 640 | L31: 394 | M31: 125 | N31: 407 | O31: 400 | P31: =SUM(D31:O31) -> 5810
C32: 캐딜락 | D32: 1629 | E32: 1718 | F32: 2482 | G32: 1825 | H32: 1851 | I32: 385 | J32: 127 | K32: 1111 | L32: 1248 | M32: 2077 | N32: 743 | O32: 615 | P32: =SUM(D32:O32) -> 15811
C33: 혼다 | D33: 431 | E33: 520 | F33: 585 | G33: 92 | H33: 801 | I33: 749 | J33: 748 | K33: 642 | L33: 401 | M33: 914 | N33: 273 | O33: 560 | P33: =SUM(D33:O33) -> 6716
C34: 미쓰비씨 | P34: =SUM(D34:O34) -> 0
C35: 기타 | D35: 144 | E35: 166 | F35: 64 | G35: 85 | H35: 231 | I35: 199 | J35: 408 | K35: 124 | L35: 89 | M35: 200 | N35: 260 | O35: 64 | P35: =SUM(D35:O35) -> 2034
C36: 소계 | D36: =SUM(D19:D35) -> 21608 | E36: =SUM(E19:E35) -> 21368 | F36: =SUM(F19:F35) -> 20542 | G36: =SUM(G19:G35) -> 22493 | H36: =SUM(H19:H35) -> 23565 | I36: =SUM(I19:I35) -> 22301 | J36: =SUM(J19:J35) -> 24235 | K36: =SUM(K19:K35) -> 23066 | ... O36: =SUM(O19:O35) -> 18245 | P36: =SUM(D36:O36) -> 260855
B37: 상 용 | C37: 벤츠트럭 | D37: 27 | E37: 78 | F37: 55 | G37: 175 | H37: 110 | I37: 98 | J37: 132 | K37: 115 | L37: 301 | M37: 141 | N37: 186 | O37: 112 | P37: =SUM(D37:O37) -> 1530
C38: 만트럭 | D38: 30 | E38: 112 | F38: 97 | G38: 191 | H38: 116 | I38: 178 | J38: 172 | K38: 158 | L38: 213 | M38: 130 | N38: 330 | O38: 167 | P38: =SUM(D38:O38) -> 1894
C39: 볼보트럭 | D39: 100 | E39: 136 | F39: 220 | G39: 202 | H39: 213 | I39: 242 | J39: 268 | K39: 234 | L39: 139 | M39: 135 | N39: 380 | O39: 344 | P39: =SUM(D39:O39) -> 2613
C40: 기타 | D40: 55 | E40: 80 | F40: 50 | G40: 197 | H40: 112 | I40: 88 | J40: 174 | K40: 87 | L40: 252 | M40: 47 | N40: 69 | O40: 258 | P40: =SUM(D40:O40) -> 1469
C41: 소계 | D41: =SUM(D37:D40) -> 212 | E41: =SUM(E37:E40) -> 406 | F41: =SUM(F37:F40) -> 422 | G41: =SUM(G37:G40) -> 765 | H41: =SUM(H37:H40) -> 551 | I41: =SUM(I37:I40) -> 606 | J41: =SUM(J37:J40) -> 746 | K41: =SUM(K37:K40) -> 594 | ... O41: =SUM(O37:O40) -> 881 | P41: =SUM(D41:O41) -> 7506
B42: 개품화물 | D42: 142 | E42: 201 | F42: 144 | G42: 257 | H42: 176 | I42: 141 | J42: 222 | K42: 87 | L42: 72 | M42: 129 | N42: 90 | O42: 174 | P42: =SUM(D42:O42) -> 1835
B43: 계(b) | D43: =D36+D41+D42 -> 21962 | E43: =E36+E41+E42 -> 21975 | F43: =F36+F41+F42 -> 21108 | G43: =G36+G41+G42 -> 23515 | H43: =H36+H41+H42 -> 24292 | I43: =I36+I41+I42 -> 23048 | J43: =J36+J41+J42 -> 25203 | K43: =K36+K41+K42 -> 23747 | ... O43: =O36+O41+O42 -> 19300 | P43: =SUM(D43:O43) -> 270196
A44: 합 계(a+b) | D44: =SUM(D18,D43) -> 84687 | E44: =SUM(E18,E43) -> 77650 | F44: =SUM(F18,F43) -> 94137 | G44: =SUM(G18,G43) -> 88847 | H44: =SUM(H18,H43) -> 76631 | I44: =SUM(I18,I43) -> 89129 | J44: =SUM(J18,J43) -> 92957 | K44: =SUM(K18,K43) -> 64634 | ... O44: =SUM(O18,O43) -> 106212 | P44: =SUM(D44:O44) -> 1016731
A45: T/S(c) | D45: 22181 | E45: 23420 | F45: 28756 | G45: 23287 | H45: 23618 | I45: 24975 | J45: 21586 | K45: 19608 | L45: 22611 | M45: 22315 | N45: 36473 | O45: 34280 | P45: =SUM(D45:O45) -> 303110
A46: 기타 | D46: 1914 | E46: 572 | F46: 1034 | G46: 1247 | H46: 1071 | I46: 1537 | J46: 1470 | K46: 1356 | L46: 1988 | M46: 1259 | N46: 1454 | O46: 2351 | P46: =SUM(D46:O46) -> 17253
A47: 총 계(a+b+c) | D47: =D44+D45+D46 -> 108782 | E47: =E44+E45+E46 -> 101642 | F47: =F44+F45+F46 -> 123927 | G47: =G44+G45+G46 -> 113381 | H47: =H44+H45+H46 -> 101320 | I47: =I44+I45+I46 -> 115641 | J47: =J44+J45+J46 -> 116013 | K47: =K44+K45+K46 -> 85598 | ... O47: =O44+O45+O46 -> 142843 | P47: =SUM(D47:O47) -> 1337094

Sheet 2017
A1: 2017년 자동차 선적현황
A2: 구 분 | D2: 1월 | E2: 2월 | F2: 3월 | G2: 4월 | H2: 5월 | I2: 6월 | J2: 7월 | K2: 8월 | L2: 9월 | M2: 10월 | N2: 11월 | O2: 12월 | P2: 합 계
A3: 수 출 차 | B3: 승 용 | C3: 기아 | D3: 42348 | E3: 50581 | F3: 54761 | G3: 52544 | H3: 47026 | I3: 43525 | J3: 53324 | K3: 37306 | L3: 57531 | M3: 31528 | N3: 57807 | O3: 44097 | P3: =SUM(D3:O3) -> 572378
C4: 현대 | D4: =1553+1285 -> 2838 | E4: =1603+232 -> 1835 | F4: =2989+149 -> 3138 | G4: =147+2253 -> 2400 | H4: 5611 | I4: =4554+1060 -> 5614 | J4: =3079+2720 -> 5799 | K4: =2551+971 -> 3522 | L4: =5326+1576 -> 6902 | M4: =4210+2256 -> 6466 | N4: =8004+346 -> 8350 | O4: 6571 | P4: =SUM(D4:O4) -> 59046
C5: 쌍용 | D5: 4045 | E5: 2555 | F5: 2808 | G5: 3142 | H5: 2275 | I5: 2421 | J5: 2450 | K5: 1953 | L5: 3772 | M5: 2488 | N5: 4035 | O5: 3665 | P5: =SUM(D5:O5) -> 35609
C6: GM KOREA | P6: =SUM(D6:O6) -> 0
C7: 르노삼성 | P7: =SUM(D7:O7) -> 0
C8: 기타 | D8: 427 | E8: 120 | F8: 1503 | G8: 2547 | H8: 1569 | I8: 48 | J8: 3 | K8: 1166 | L8: 2402 | M8: 4497 | N8: 1072 | O8: 58 | P8: =SUM(D8:O8) -> 15412
C9: 소 계 | D9: =SUM(D3:D8) -> 49658 | E9: =SUM(E3:E8) -> 55091 | F9: =SUM(F3:F8) -> 62210 | G9: =SUM(G3:G8) -> 60633 | H9: =SUM(H3:H8) -> 56481 | I9: =SUM(I3:I8) -> 51608 | J9: =SUM(J3:J8) -> 61576 | K9: =SUM(K3:K8) -> 43947 | ... N9: =SUM(N3:N8) -> 71264 | O9: 50668 | P9: =SUM(D9:O9) -> 678722
B10: 상 용 | C10: 두산 | D10: 14 | E10: 20 | F10: 0 | G10: 9 | H10: 10 | I10: 2 | J10: 14 | K10: 14 | L10: 24 | N10: 7 | O10: 27 | P10: =SUM(D10:O10) -> 141
C11: 현대 | E11: 51 | F11: 22 | G11: 50 | H11: 49 | I11: 18 | K11: 1 | M11: 3 | N11: 1 | O11: 22 | P11: =SUM(D11:O11) -> 217
C12: 타타대우 | D12: 11 | E12: 26 | F12: 5 | G12: 5 | H12: 2 | I12: 1 | L12: 7 | N12: 14 | P12: =SUM(D12:O12) -> 71
C13: 중고중장비 | D13: 102 | E13: 149 | F13: 208 | G13: 176 | H13: 137 | I13: 140 | J13: 170 | K13: 85 | L13: 487 | M13: 131 | N13: 362 | O13: 165 | P13: =SUM(D13:O13) -> 2312
C14: 신중장비 | D14: 48 | E14: 65 | F14: 12 | G14: 39 | H14: 7 | I14: 35 | J14: 17 | K14: 50 | L14: 65 | M14: 18 | N14: 32 | O14: 21 | P14: =SUM(D14:O14) -> 409
C15: 소 계 | D15: =SUM(D10:D14) -> 175 | E15: =SUM(E10:E14) -> 311 | F15: =SUM(F10:F14) -> 247 | G15: =SUM(G10:G14) -> 279 | H15: =SUM(H10:H14) -> 205 | I15: =SUM(I10:I14) -> 196 | J15: =SUM(J10:J14) -> 201 | K15: =SUM(K10:K14) -> 150 | ... O15: =SUM(O10:O14) -> 235 | P15: =SUM(D15:O15) -> 3150
B16: 중 고 차 | D16: 467 | E16: 686 | F16: 611 | G16: 967 | H16: 1054 | I16: 826 | J16: 743 | K16: 643 | L16: 1202 | M16: 826 | N16: 655 | O16: 62 | P16: =SUM(D16:O16) -> 8742
B17: 개품화물 | D17: 238 | E17: 83 | F17: 77 | G17: 107 | H17: 72 | I17: 121 | J17: 39 | K17: 121 | L17: 116 | M17: 108 | N17: 98 | O17: 139 | P17: =SUM(D17:O17) -> 1319
B18: 계(a) | D18: =D9+D17+D15+D16 -> 50538 | E18: =E9+E17+E15+E16 -> 56171 | F18: =F9+F17+F15+F16 -> 63145 | G18: =G9+G17+G15+G16 -> 61986 | H18: =H9+H17+H15+H16 -> 57812 | I18: =I9+I17+I15+I16 -> 52751 | J18: =J9+J17+J15+J16 -> 62559 | K18: =K9+K17+K15+K16 -> 44861 | ... O18: =O9+O17+O15+O16 -> 51104 | P18: =SUM(D18:O18) -> 691933
A19: 수 입 차 | B19: 승 용 | C19: BMW | D19: 1840 | E19: 1920 | F19: 6198 | G19: 6563 | H19: 5836 | I19: 6324 | J19: 7022 | K19: 5744 | L19: 2411 | M19: 4476 | N19: 7036 | O19: 8700 | P19: =SUM(D19:O19) -> 64070
C20: 벤츠 | D20: 6967 | E20: 1977 | F20: 5520 | G20: 4847 | H20: 5968 | I20: 6319 | J20: 5308 | K20: 6187 | L20: 3095 | M20: 7499 | N20: 6815 | O20: 8800 | P20: =SUM(D20:O20) -> 69302
C21: 아우디 | F21: 145 | G21: 92 | N21: 155 | O21: 1 | P21: =SUM(D21:O21) -> 393
C22: 폭스바겐 | F22: 0 | N22: 0 | P22: =SUM(D22:O22) -> 0
C23: 포드 | D23: 911 | E23: 1005 | F23: 862 | G23: 796 | H23: 1106 | I23: 1034 | J23: 922 | K23: 719 | L23: 506 | M23: 1323 | N23: 1000 | O23: 688 | P23: =SUM(D23:O23) -> 10872
C24: 재규어 | D24: 310 | E24: 268 | F24: 309 | G24: 256 | H24: 158 | I24: 120 | J24: 68 | K24: 223 | L24: 163 | M24: 252 | N24: 446 | O24: 342 | P24: =SUM(D24:O24) -> 2915
C25: 랜드로버 | D25: 1103 | E25: 343 | F25: 643 | G25: 353 | H25: 437 | I25: 1083 | J25: 462 | K25: 1354 | L25: 837 | M25: 1618 | N25: 1194 | O25: 927 | P25: =SUM(D25:O25) -> 10354
C26: 닛산 | D26: 867 | E26: 439 | F26: 870 | G26: 1204 | H26: 1519 | I26: 300 | J26: 792 | K26: 664 | L26: 1790 | M26: 197 | N26: 329 | O26: 506 | P26: =SUM(D26:O26) -> 9477
C27: 포르쉐 | D27: 216 | E27: 197 | F27: 86 | G27: 264 | H27: 300 | I27: 192 | J27: 127 | K27: 185 | L27: 314 | M27: 117 | N27: 636 | O27: 512 | P27: =SUM(D27:O27) -> 3146
C28: 볼보 | D28: 845 | E28: 248 | F28: 766 | G28: 534 | H28: 702 | I28: 644 | J28: 436 | K28: 441 | L28: 179 | M28: 609 | N28: 891 | O28: 1164 | P28: =SUM(D28:O28) -> 7459
C29: 도요타&렉서스 | D29: 1117 | E29: 1199 | F29: 1418 | G29: 1767 | H29: 1677 | I29: 2040 | J29: 2640 | K29: 2024 | L29: 2012 | M29: 2758 | N29: 4932 | O29: 2760 | P29: =SUM(D29:O29) -> 26344
C30: 크라이슬러 | D30: 84 | E30: 128 | F30: 1466 | G30: 1039 | H30: 400 | I30: 594 | J30: 395 | K30: 306 | L30: 765 | M30: 7 | N30: 2363 | O30: 407 | P30: =SUM(D30:O30) -> 7954
C31: 푸조 | D31: 646 | E31: 124 | F31: 431 | G31: 122 | H31: 49 | I31: 335 | J31: 411 | K31: 644 | L31: 558 | M31: 170 | N31: 477 | O31: 752 | P31: =SUM(D31:O31) -> 4719
C32: 캐딜락 | D32: 457 | F32: 621 | G32: 639 | H32: 763 | I32: 474 | J32: 221 | K32: 487 | L32: 823 | M32: 264 | N32: 242 | O32: 114 | P32: =SUM(D32:O32) -> 5105
C33: 혼다 | D33: 592 | E33: 440 | F33: 767 | G33: 489 | H33: 2127 | I33: 1511 | J33: 1184 | K33: 1595 | L33: 1232 | M33: 630 | N33: 397 | O33: 555 | P33: =SUM(D33:O33) -> 11519
C34: 미쓰비씨 | P34: =SUM(D34:O34) -> 0
C35: 기타 | D35: 464 | E35: 389 | F35: 145 | G35: 411 | H35: 522 | I35: 527 | J35: 142 | K35: 156 | L35: 204 | M35: 461 | N35: 450 | O35: 753 | P35: =SUM(D35:O35) -> 4624
C36: 소계 | D36: =SUM(D19:D35) -> 16419 | E36: =SUM(E19:E35) -> 8677 | F36: =SUM(F19:F35) -> 20247 | G36: =SUM(G19:G35) -> 19376 | H36: =SUM(H19:H35) -> 21564 | I36: =SUM(I19:I35) -> 21497 | J36: =SUM(J19:J35) -> 20130 | K36: =SUM(K19:K35) -> 20729 | ... O36: =SUM(O19:O35) -> 26981 | P36: =SUM(D36:O36) -> 238253
B37: 상 용 | C37: 벤츠트럭 | D37: 103 | E37: 20 | F37: 69 | G37: 89 | H37: 67 | I37: 187 | J37: 88 | K37: 155 | L37: 166 | M37: 82 | N37: 89 | O37: 78 | P37: =SUM(D37:O37) -> 1193
C38: 만트럭 | D38: 2 | E38: 1 | F38: 154 | G38: 185 | H38: 330 | I38: 147 | J38: 38 | K38: 216 | L38: 249 | M38: 57 | N38: 244 | O38: 138 | P38: =SUM(D38:O38) -> 1761
C39: 볼보트럭 | D39: 351 | E39: 95 | F39: 336 | G39: 331 | H39: 166 | I39: 321 | J39: 291 | K39: 230 | L39: 142 | M39: 357 | N39: 245 | O39: 292 | P39: =SUM(D39:O39) -> 3157
C40: 기타 | D40: 114 | E40: 47 | F40: 115 | G40: 144 | H40: 80 | I40: 87 | J40: 74 | K40: 128 | L40: 89 | M40: 107 | N40: 155 | O40: 178 | P40: =SUM(D40:O40) -> 1318
C41: 소계 | D41: =SUM(D37:D40) -> 570 | E41: =SUM(E37:E40) -> 163 | F41: =SUM(F37:F40) -> 674 | G41: =SUM(G37:G40) -> 749 | H41: =SUM(H37:H40) -> 643 | I41: =SUM(I37:I40) -> 742 | J41: =SUM(J37:J40) -> 491 | K41: =SUM(K37:K40) -> 729 | ... O41: =SUM(O37:O40) -> 686 | P41: =SUM(D41:O41) -> 7429
B42: 개품화물 | D42: 124 | E42: 158 | F42: 177 | G42: 201 | H42: 199 | I42: 272 | J42: 183 | K42: 145 | L42: 166 | M42: 76 | N42: 185 | O42: 121 | P42: =SUM(D42:O42) -> 2007
B43: 계(b) | D43: =D36+D41+D42 -> 17113 | E43: =E36+E41+E42 -> 8998 | F43: =F36+F41+F42 -> 21098 | G43: =G36+G41+G42 -> 20326 | H43: =H36+H41+H42 -> 22406 | I43: =I36+I41+I42 -> 22511 | J43: =J36+J41+J42 -> 20804 | K43: =K36+K41+K42 -> 21603 | ... O43: =O36+O41+O42 -> 27788 | P43: =SUM(D43:O43) -> 247689
A44: 합 계(a+b) | D44: =SUM(D18,D43) -> 67651 | E44: =SUM(E18,E43) -> 65169 | F44: =SUM(F18,F43) -> 84243 | G44: =SUM(G18,G43) -> 82312 | H44: =SUM(H18,H43) -> 80218 | I44: =SUM(I18,I43) -> 75262 | J44: =SUM(J18,J43) -> 83363 | K44: =SUM(K18,K43) -> 66464 | ... O44: =SUM(O18,O43) -> 78892 | P44: =SUM(D44:O44) -> 939622
A45: T/S(c) | D45: 25040 | E45: 39707 | F45: 30134 | G45: 31437 | H45: 26743 | I45: 27743 | J45: 28894 | K45: 27339 | L45: 30352 | M45: 23632 | N45: 17950 | O45: 22104 | P45: =SUM(D45:O45) -> 331075
A46: 기타 | D46: 1546 | E46: 1606 | F46: 889 | G46: 804 | H46: 1190 | I46: 2156 | J46: 1963 | K46: 891 | L46: 1417 | M46: 1415 | N46: 1292 | O46: 1543 | P46: =SUM(D46:O46) -> 16712
A47: 총 계(a+b+c) | D47: =D44+D45+D46 -> 94237 | E47: =E44+E45+E46 -> 106482 | F47: =F44+F45+F46 -> 115266 | G47: =G44+G45+G46 -> 114553 | H47: =H44+H45+H46 -> 108151 | I47: =I44+I45+I46 -> 105161 | J47: =J44+J45+J46 -> 114220 | K47: =K44+K45+K46 -> 94694 | ... O47: =O44+O45+O46 -> 102539 | P47: =SUM(D47:O47) -> 1287409

Sheet 2018
A1: 2018년 자동차 선적현황
A2: 구 분 | D2: 1월 | E2: 2월 | F2: 3월 | G2: 4월 | H2: 5월 | I2: 6월 | J2: 7월 | K2: 8월 | L2: 9월 | M2: 10월 | N2: 11월 | O2: 12월 | P2: 합 계
A3: 수 출 차 | B3: 승 용 | C3: 기아 | D3: 38687 | E3: 31637 | F3: 44896 | G3: 47431 | H3: 43227 | I3: 47780 | J3: =1+43245 -> 43246 | K3: 31326 | L3: =33437+1 -> 33438 | M3: =47215+55 -> 47270 | N3: =37+51010 -> 51047 | O3: =235+50498 -> 50733 | P3: =SUM(D3:O3) -> 510718
C4: 현대 | D4: 2893 | E4: =773+2724 -> 3497 | F4: =1382+3417 -> 4799 | G4: =2315+1280 -> 3595 | H4: =494+3309 -> 3803 | I4: =166+1508 -> 1674 | J4: =345+2323 -> 2668 | K4: =1406+1153 -> 2559 | L4: =414+5+4269 -> 4688 | M4: =5+148+3791 -> 3944 | N4: =787+1523+1439 -> 3749 | O4: =69+1551+65 -> 1685 | P4: =SUM(D4:O4) -> 39554
C5: 쌍용 | D5: 2716 | E5: 2605 | F5: =1934+8 -> 1942 | G5: 2580 | H5: =2873+6 -> 2879 | I5: 2830 | J5: =1+2695 -> 2696 | K5: =1811+10 -> 1821 | L5: =1708+19 -> 1727 | M5: 3132 | N5: =12+3309 -> 3321 | O5: 2890 | P5: =SUM(D5:O5) -> 31139
C6: GM KOREA | F6: 35 | I6: 63 | P6: =SUM(D6:O6) -> 98
C7: 르노삼성 | P7: =SUM(D7:O7) -> 0
C8: 기타 | D8: 46 | E8: 373 | F8: 665 | G8: 63 | H8: 2 | I8: =138+1 -> 139 | J8: 13 | K8: =33+27 -> 60 | L8: 32 | M8: =354+741 -> 1095 | N8: =703+204 -> 907 | O8: =156+2 -> 158 | P8: =SUM(D8:O8) -> 3553
C9: 소 계 | D9: =SUM(D3:D8) -> 44342 | E9: =SUM(E3:E8) -> 38112 | F9: =SUM(F3:F8) -> 52337 | G9: =SUM(G3:G8) -> 53669 | H9: =SUM(H3:H8) -> 49911 | I9: =SUM(I3:I8) -> 52486 | J9: =SUM(J3:J8) -> 48623 | K9: =SUM(K3:K8) -> 35766 | ... O9: =SUM(O3:O8) -> 55466 | P9: =SUM(D9:O9) -> 585062
B10: 상 용 | C10: 두산 | D10: 0 | E10: =39+3 -> 42 | F10: 0 | G10: =20+11 -> 31 | H10: 20 | I10: =48+7 -> 55 | J10: 9 | K10: 1 | L10: 5 | M10: 5 | N10: 10 | P10: =SUM(D10:O10) -> 178
C11: 현대 | D11: 2 | E11: 0 | F11: 25 | G11: 50 | H11: 13 | I11: 4 | J11: 40 | K11: 19 | L11: 80 | M11: 11 | N11: 3 | O11: 1 | P11: =SUM(D11:O11) -> 248
C12: 타타대우 | D12: 0 | E12: 0 | F12: 11 | G12: 10 | H12: 6 | I12: 10 | J12: 0 | K12: 0 | L12: 0 | M12: 0 | N12: 4 | P12: =SUM(D12:O12) -> 41
C13: 중고중장비 | D13: 125 | E13: 274 | F13: 357 | G13: 133 | H13: 126 | I13: 191 | J13: 186 | K13: 242 | L13: 276 | M13: 278 | N13: 320 | O13: 282 | P13: =SUM(D13:O13) -> 2790
C14: 신중장비 | D14: 36 | E14: 48 | F14: =22+6 -> 28 | G14: 9 | H14: =14+3 -> 17 | I14: 16 | J14: =5+3 -> 8 | K14: =33+5 -> 38 | L14: 27 | M14: =34+18 -> 52 | N14: 86 | O14: =33+14 -> 47 | P14: =SUM(D14:O14) -> 412
C15: 소 계 | D15: =SUM(D10:D14) -> 163 | E15: =SUM(E10:E14) -> 364 | F15: =SUM(F10:F14) -> 421 | G15: =SUM(G10:G14) -> 233 | H15: =SUM(H10:H14) -> 182 | I15: =SUM(I10:I14) -> 276 | J15: =SUM(J10:J14) -> 243 | K15: =SUM(K10:K14) -> 300 | ... O15: =SUM(O10:O14) -> 330 | P15: =SUM(D15:O15) -> 3669
B16: 중 고 차 | D16: 646 | E16: 831 | F16: =1124+718 -> 1842 | G16: =762+265 -> 1027 | H16: =857+12 -> 869 | I16: =1090+344 -> 1434 | J16: =536+1202 -> 1738 | K16: =1523+397 -> 1920 | L16: =959+708 -> 1667 | M16: =1454+868 -> 2322 | N16: 1132 | O16: =1134+796 -> 1930 | P16: =SUM(D16:O16) -> 17358
B17: 개품화물 | D17: 130 | E17: 144 | F17: 58 | G17: =135+1 -> 136 | H17: 83 | I17: 77 | J17: =1+45 -> 46 | K17: 28 | L17: 137 | M17: 125 | N17: 155 | O17: 89 | P17: =SUM(D17:O17) -> 1208
B18: 계(a) | D18: =D9+D17+D15+D16 -> 45281 | E18: =E9+E17+E15+E16 -> 39451 | F18: =F9+F17+F15+F16 -> 54658 | G18: =G9+G17+G15+G16 -> 55065 | H18: =H9+H17+H15+H16 -> 51045 | I18: =I9+I17+I15+I16 -> 54273 | J18: =J9+J17+J15+J16 -> 50650 | K18: =K9+K17+K15+K16 -> 38014 | ... O18: =O9+O17+O15+O16 -> 57815 | P18: =SUM(D18:O18) -> 607297
A19: 수 입 차 | B19: 승 용 | C19: BMW | D19: 6420 | E19: =3640+3280 -> 6920 | F19: =1460+8215 -> 9675 | G19: =1079+6523 -> 7602 | H19: =1004+6913 -> 7917 | I19: =670+5611 -> 6281 | J19: =8636+950 -> 9586 | K19: =695+3873 -> 4568 | L19: =435+3783 -> 4218 | M19: =4805+729 -> 5534 | N19: =1262+809 -> 2071 | O19: =559+1028 -> 1587 | P19: =SUM(D19:O19) -> 72379
C20: 벤츠 | D20: 6818 | E20: 4194 | F20: 8609 | G20: 5356 | H20: 6795 | I20: 5617 | J20: 5624 | K20: 1841 | L20: 7271 | M20: 9040 | N20: 8986 | O20: 4382 | P20: =SUM(D20:O20) -> 74533
C21: 아우디 | E21: 56 | F21: 1304 | G21: 1721 | H21: 799 | I21: 2576 | J21: 3487 | K21: 991 | L21: 2775 | M21: 700 | O21: 203 | P21: =SUM(D21:O21) -> 14612
C22: 폭스바겐 | E22: 0 | F22: 1424 | G22: 638 | H22: 4280 | I22: 1869 | J22: 3225 | K22: 864 | L22: 2183 | M22: 379 | N22: 855 | O22: 47 | P22: =SUM(D22:O22) -> 15764
C23: 포드 | D23: 879 | E23: 863 | F23: =5+1276 -> 1281 | G23: 493 | H23: 1460 | I23: 768 | J23: 452 | K23: =411+910 -> 1321 | L23: 1394 | M23: 904 | N23: 695 | O23: 1083 | P23: =SUM(D23:O23) -> 11593
C24: 재규어 | D24: 224 | E24: 314 | F24: 441 | G24: 258 | H24: 219 | I24: 385 | J24: 246 | K24: 468 | L24: 964 | M24: 393 | N24: 329 | O24: 237 | P24: =SUM(D24:O24) -> 4478
C25: 랜드로버 | D25: 428 | E25: 882 | F25: =1339+12 -> 1351 | G25: 1701 | H25: 1663 | I25: 1761 | J25: 859 | K25: 1883 | L25: 998 | M25: 865 | N25: 1324 | O25: 384 | P25: =SUM(D25:O25) -> 14099
C26: 닛산 | D26: 925 | E26: 792 | F26: 732 | G26: 443 | H26: 651 | I26: 254 | J26: 897 | K26: 121 | L26: 1459 | M26: 64 | N26: 558 | O26: 995 | P26: =SUM(D26:O26) -> 7891
C27: 포르쉐 | D27: 171 | E27: 0 | F27: 463 | G27: 132 | H27: 448 | I27: 515 | J27: 236 | K27: 214 | L27: 281 | M27: 325 | N27: 546 | O27: 1280 | P27: =SUM(D27:O27) -> 4611
C28: 볼보 | D28: 431 | E28: 373 | F28: 837 | G28: 957 | H28: 781 | I28: 674 | J28: 429 | K28: 960 | L28: 402 | M28: 607 | N28: 1142 | O28: 852 | P28: =SUM(D28:O28) -> 8445
C29: 도요타&렉서스 | D29: 950 | E29: 1345 | F29: 2562 | G29: 1814 | H29: 1190 | I29: 1540 | J29: =1+1762 -> 1763 | K29: 2110 | L29: 1815 | M29: 3720 | N29: 3340 | O29: 3654 | P29: =SUM(D29:O29) -> 25803
C30: 크라이슬러 | D30: 294 | E30: 418 | F30: 54 | G30: 720 | H30: 497 | I30: 879 | J30: 365 | K30: 1789 | L30: 943 | M30: 189 | N30: 1230 | O30: 787 | P30: =SUM(D30:O30) -> 8165
C31: 푸조 | D31: 475 | E31: 820 | F31: 319 | G31: 188 | H31: 306 | I31: 431 | J31: 477 | K31: 635 | L31: 0 | M31: 247 | N31: 1197 | O31: 313 | P31: =SUM(D31:O31) -> 5408
C32: 캐딜락 | D32: 251 | E32: 0 | F32: 195 | G32: 1707 | H32: 2202 | I32: 1806 | J32: =159+499 -> 658 | K32: 524 | L32: 896 | M32: 2275 | N32: 3 | O32: 194 | P32: =SUM(D32:O32) -> 10711
C33: 혼다 | D33: 112 | E33: 413 | F33: 90 | G33: 474 | H33: =644+65 -> 709 | I33: =426+106 -> 532 | J33: =154+545 -> 699 | K33: 212 | L33: =808+618 -> 1426 | M33: =615+26 -> 641 | N33: 1075 | O33: 493 | P33: =SUM(D33:O33) -> 6876
C34: 미쓰비씨 | E34: 0 | F34: 0 | G34: 0 | H34: 0 | I34: 0 | J34: 168 | K34: 0 | L34: 0 | M34: 0 | P34: =SUM(D34:O34) -> 168
C35: 기타 | D35: 417 | E35: 243 | F35: =275+79 -> 354 | G35: 192 | H35: =454+182 -> 636 | I35: =100+22 -> 122 | J35: 695 | K35: =324+129 -> 453 | L35: =225+360 -> 585 | M35: =145+170 -> 315 | N35: =212+275 -> 487 | O35: 24 | P35: =SUM(D35:O35) -> 4523
C36: 소계 | D36: =SUM(D19:D35) -> 18795 | E36: =SUM(E19:E35) -> 17633 | F36: =SUM(F19:F35) -> 29691 | G36: =SUM(G19:G35) -> 24396 | H36: =SUM(H19:H35) -> 30553 | I36: =SUM(I19:I35) -> 26010 | J36: =SUM(J19:J35) -> 29866 | K36: =SUM(K19:K35) -> 18954 | ... O36: =SUM(O19:O35) -> 16515 | P36: =SUM(D36:O36) -> 290059
B37: 상 용 | C37: 벤츠트럭 | D37: 38 | E37: 34 | F37: 80 | G37: 30 | H37: 111 | I37: 63 | J37: 66 | K37: 24 | L37: 51 | M37: 48 | N37: 40 | O37: 44 | P37: =SUM(D37:O37) -> 629
C38: 만트럭 | D38: 46 | E38: 33 | F38: 122 | G38: 102 | H38: 190 | I38: 76 | J38: 102 | K38: 184 | L38: 89 | M38: 131 | N38: 98 | O38: 86 | P38: =SUM(D38:O38) -> 1259
C39: 볼보트럭 | D39: 172 | E39: 240 | F39: 163 | G39: 293 | H39: 179 | I39: 259 | J39: 133 | K39: 287 | L39: 46 | M39: 345 | N39: 312 | O39: 238 | P39: =SUM(D39:O39) -> 2667
C40: 기타 | D40: 167 | E40: 102 | F40: =76+5 -> 81 | G40: =153+23 -> 176 | H40: 120 | I40: 263 | J40: 105 | K40: 148 | L40: 170 | M40: =14+108 -> 122 | N40: =15+142 -> 157 | O40: =178+165 -> 343 | P40: =SUM(D40:O40) -> 1954
C41: 소계 | D41: =SUM(D37:D40) -> 423 | E41: =SUM(E37:E40) -> 409 | F41: =SUM(F37:F40) -> 446 | G41: =SUM(G37:G40) -> 601 | H41: =SUM(H37:H40) -> 600 | I41: =SUM(I37:I40) -> 661 | J41: =SUM(J37:J40) -> 406 | K41: =SUM(K37:K40) -> 643 | ... O41: =SUM(O37:O40) -> 711 | P41: =SUM(D41:O41) -> 6509
B42: 개품화물 | D42: 104 | E42: 428 | F42: 85 | G42: =263+33 -> 296 | H42: 137 | I42: 120 | J42: 78 | K42: 91 | L42: 85 | M42: 152 | N42: 95 | O42: 127 | P42: =SUM(D42:O42) -> 1798
B43: 계(b) | D43: =D36+D41+D42 -> 19322 | E43: =E36+E41+E42 -> 18470 | F43: =F36+F41+F42 -> 30222 | G43: =G36+G41+G42 -> 25293 | H43: =H36+H41+H42 -> 31290 | I43: =I36+I41+I42 -> 26791 | J43: =J36+J41+J42 -> 30350 | K43: =K36+K41+K42 -> 19688 | ... O43: =O36+O41+O42 -> 17353 | P43: =SUM(D43:O43) -> 298366
A44: 합 계(a+b) | D44: =SUM(D18,D43) -> 64603 | E44: =SUM(E18,E43) -> 57921 | F44: =SUM(F18,F43) -> 84880 | G44: =SUM(G18,G43) -> 80358 | H44: =SUM(H18,H43) -> 82335 | I44: =SUM(I18,I43) -> 81064 | J44: =SUM(J18,J43) -> 81000 | K44: =SUM(K18,K43) -> 57702 | ... O44: =SUM(O18,O43) -> 75168 | P44: =SUM(D44:O44) -> 905663
A45: T/S(c) | D45: 25159 | E45: =24220+799 -> 25019 | F45: =23740+21924 -> 45664 | G45: =25441+26275 -> 51716 | H45: =27107+18443 -> 45550 | I45: =34989+16019 -> 51008 | J45: =15730+26573 -> 42303 | K45: =33542+9437 -> 42979 | L45: =23734+14763 -> 38497 | M45: =15065+28948 -> 44013 | N45: =16148+29901 -> 46049 | O45: =29149+22844 -> 51993 | P45: =SUM(D45:O45) -> 509950
A46: 기타 | D46: 1066 | E46: =1361+25 -> 1386 | F46: =2582+359 -> 2941 | G46: =2033+900 -> 2933 | H46: =1802+89 -> 1891 | I46: =1985+386 -> 2371 | J46: =791+1722 -> 2513 | K46: =1101+172 -> 1273 | L46: =1879+47 -> 1926 | M46: =1127+40 -> 1167 | N46: =627+2011 -> 2638 | O46: =2024+375 -> 2399 | P46: =SUM(D46:O46) -> 24504
A47: 총 계(a+b+c) | D47: =D44+D45+D46 -> 90828 | E47: =E44+E45+E46 -> 84326 | F47: =F44+F45+F46 -> 133485 | G47: =G44+G45+G46 -> 135007 | H47: =H44+H45+H46 -> 129776 | I47: =I44+I45+I46 -> 134443 | J47: =J44+J45+J46 -> 125816 | K47: =K44+K45+K46 -> 101954 | ... O47: =O44+O45+O46 -> 129560 | P47: =SUM(D47:O47) -> 1440117

Sheet 2019
A1: 2019년 자동차 선적현황
A2: 구 분 | D2: 1월 | E2: 2월 | F2: 3월 | G2: 4월 | H2: 5월 | I2: 6월 | J2: 7월 | K2: 8월 | L2: 9월 | M2: 10월 | N2: 11월 | O2: 12월 | P2: 합 계
A3: 수 출 차 | B3: 승 용 | C3: 기아 | D3: 46235 | E3: =37251+1 -> 37252 | F3: 43242 | G3: 47144 | H3: =109+49804 -> 49913 | I3: =46983+1 -> 46984 | J3: 48902 | K3: 37484 | L3: 41443 | M3: 45259 | N3: 49123 | O3: 42573 | P3: =SUM(D3:O3) -> 535554
C4: 현대 | D4: =690+9+1915 -> 2614 | E4: =986+1066 -> 2052 | F4: =422+464 -> 886 | G4: =43+293+34 -> 370 | H4: 511 | I4: =644+10 -> 654 | J4: =76+4493 -> 4569 | K4: =3535+33 -> 3568 | L4: 3547 | M4: 3951 | N4: 1588 | O4: 2489 | P4: =SUM(D4:O4) -> 26799
C5: 쌍용 | D5: 2806 | E5: 1714 | F5: =10+3484 -> 3494 | G5: =53+1912 -> 1965 | H5: 1834 | I5: 1851 | J5: =73+1511 -> 1584 | K5: 1491 | L5: 3387 | M5: 1897 | N5: 1316 | O5: 2110 | P5: =SUM(D5:O5) -> 25449
C6: GM KOREA | D6: 53 | E6: 0 | F6: 0 | G6: 0 | H6: 0 | I6: 0 | J6: 0 | K6: 0 | L6: 0 | M6: 2 | N6: 0 | O6: 0 | P6: =SUM(D6:O6) -> 55
C7: 르노삼성 | D7: 0 | E7: 0 | F7: 15 | G7: 0 | H7: 0 | I7: 0 | J7: 0 | K7: 0 | L7: 0 | M7: 0 | N7: 0 | O7: 0 | P7: =SUM(D7:O7) -> 15
C8: 기타 | D8: 354 | E8: =263+774 -> 1037 | F8: =698+110 -> 808 | G8: =110+44 -> 154 | H8: =6+343 -> 349 | I8: =73+162 -> 235 | J8: =207+262 -> 469 | K8: =191+333 -> 524 | L8: 100 | M8: 643 | N8: 267 | O8: 773 | P8: =SUM(D8:O8) -> 5713
C9: 소 계 | D9: =SUM(D3:D8) -> 52062 | E9: =SUM(E3:E8) -> 42055 | F9: =SUM(F3:F8) -> 48445 | G9: =SUM(G3:G8) -> 49633 | H9: =SUM(H3:H8) -> 52607 | I9: =SUM(I3:I8) -> 49724 | J9: =SUM(J3:J8) -> 55524 | K9: =SUM(K3:K8) -> 43067 | ... O9: =SUM(O3:O8) -> 47945 | P9: =SUM(D9:O9) -> 593585
B10: 상 용 | C10: 두산 | D10: =10+9 -> 19 | E10: 12 | F10: =13+14 -> 27 | G10: =2+29 -> 31 | H10: 2 | I10: 4 | J10: 8 | K10: 2 | L10: 6 | M10: 11 | N10: 7 | O10: 0 | P10: =SUM(D10:O10) -> 129
C11: 현대 | D11: 84 | E11: 214 | F11: 18 | G11: 48 | H11: =15+25 -> 40 | I11: 27 | J11: =19+26 -> 45 | K11: =8+24 -> 32 | L11: 47 | M11: 71 | N11: 13 | O11: 15 | P11: =SUM(D11:O11) -> 654
C12: 타타대우 | D12: =2+51 -> 53 | E12: 5 | F12: 42 | G12: 32 | H12: 0 | I12: =1+8 -> 9 | J12: 0 | K12: 1 | L12: 0 | M12: 6 | N12: 0 | O12: 6 | P12: =SUM(D12:O12) -> 154
C13: 중고중장비 | D13: =365+16 -> 381 | E13: 198 | F13: =14+238 -> 252 | G13: =360+23 -> 383 | H13: 210 | I13: 155 | J13: =2+321 -> 323 | K13: =269+4 -> 273 | L13: 143 | M13: 343 | N13: 364 | O13: 288 | P13: =SUM(D13:O13) -> 3313
C14: 신중장비 | D14: =44+2 -> 46 | E14: 38 | F14: 5 | G14: 35 | H14: 26 | I14: 56 | J14: =7+26 -> 33 | K14: 23 | L14: 36 | M14: 59 | N14: 63 | O14: 29 | P14: =SUM(D14:O14) -> 449
C15: 기타 | J15: 10 | K15: 20 | L15: 4 | M15: 16 | N15: 26 | O15: 4 | P15: =SUM(D15:O15) -> 80
C16: 소 계 | D16: =SUM(D10:D15) -> 583 | E16: =SUM(E10:E15) -> 467 | F16: =SUM(F10:F15) -> 344 | G16: =SUM(G10:G15) -> 529 | H16: =SUM(H10:H15) -> 278 | I16: =SUM(I10:I15) -> 251 | J16: =SUM(J10:J15) -> 419 | K16: =SUM(K10:K15) -> 351 | ... O16: =SUM(O10:O15) -> 342 | P16: =SUM(D16:O16) -> 4779
B17: 중 고 차 | D17: =1076+385 -> 1461 | E17: =1102+748 -> 1850 | F17: =566+1007 -> 1573 | G17: =1136+385 -> 1521 | H17: =331+1265 -> 1596 | I17: =10+912 -> 922 | J17: =270+1181 -> 1451 | K17: =1306+31 -> 1337 | L17: 1040 | M17: 1508 | N17: 2029 | O17: 1358 | P17: =SUM(D17:O17) -> 17646
B18: 개품화물 | D18: 178 | E18: 49 | F18: 122 | G18: 78 | H18: 34 | I18: 113 | J18: 20 | K18: =84+1 -> 85 | L18: 51 | M18: 81 | N18: 45 | O18: 75 | P18: =SUM(D18:O18) -> 931
B19: 계(a) | D19: =D9+D18+D16+D17 -> 54284 | E19: =E9+E18+E16+E17 -> 44421 | F19: =F9+F18+F16+F17 -> 50484 | G19: =G9+G18+G16+G17 -> 51761 | H19: =H9+H18+H16+H17 -> 54515 | I19: =I9+I18+I16+I17 -> 51010 | J19: =J9+J18+J16+J17 -> 57414 | K19: =K9+K18+K16+K17 -> 44840 | ... O19: =O9+O18+O16+O17 -> 49720 | P19: =SUM(D19:O19) -> 616941
A20: 수 입 차 | B20: 승 용 | C20: BMW | D20: =363+1567 -> 1930 | E20: 1267 | F20: =1731+189 -> 1920 | G20: =274+1660 -> 1934 | H20: =2487+768 -> 3255 | I20: 1300 | J20: =5229+892 -> 6121 | K20: 5463 | L20: 4346 | M20: 3280 | N20: 4529 | O20: 4434 | P20: =SUM(D20:O20) -> 39779
C21: 벤츠 | D21: 5958 | E21: =2815+48 -> 2863 | F21: =69+9030 -> 9099 | G21: 6474 | H21: 8020 | I21: 7189 | J21: =1+11153 -> 11154 | K21: 6737 | L21: 5568 | M21: 3778 | N21: 3715 | O21: 6385 | P21: =SUM(D21:O21) -> 76940
C22: 아우디 | D22: 0 | E22: 3 | F22: 0 | G22: 0 | H22: 0 | I22: 0 | J22: 0 | K22: 1769 | L22: 3698 | M22: 3011 | N22: 3702 | O22: 3451 | P22: =SUM(D22:O22) -> 15634
C23: 폭스바겐 | D23: =8+862 -> 870 | E23: 167 | F23: 700 | G23: 1918 | H23: 1781 | I23: 922 | J23: 401 | K23: 0 | L23: 0 | M23: 2692 | N23: 1860 | O23: 867 | P23: =SUM(D23:O23) -> 12178
C24: 포드 | D24: 1359 | E24: 790 | F24: 588 | G24: 329 | H24: =389+10 -> 399 | I24: 275 | J24: =275+2 -> 277 | K24: =4+705 -> 709 | L24: 527 | M24: 591 | N24: 649 | O24: 1544 | P24: =SUM(D24:O24) -> 8037
C25: 재규어 | D25: 369 | E25: 52 | F25: 93 | G25: 71 | H25: 59 | I25: 122 | J25: 64 | K25: 51 | L25: 32 | M25: 11 | N25: 6 | O25: 38 | P25: =SUM(D25:O25) -> 968
C26: 랜드로버 | D26: 1179 | E26: 575 | F26: 698 | G26: 250 | H26: 599 | I26: 865 | J26: 1137 | K26: 184 | L26: 173 | M26: 221 | N26: 168 | O26: 173 | P26: =SUM(D26:O26) -> 6222
C27: 닛산 | D27: 552 | E27: 509 | F27: 492 | G27: 406 | H27: 849 | I27: 1983 | J27: 89 | K27: 1154 | L27: 647 | M27: 15 | N27: 42 | O27: 6 | P27: =SUM(D27:O27) -> 6744
C28: 포르쉐 | D28: 408 | E28: 183 | F28: 33 | G28: 348 | H28: 160 | I28: 412 | J28: 276 | K28: 275 | L28: 0 | M28: 593 | N28: 529 | O28: 1169 | P28: =SUM(D28:O28) -> 4386
C29: 볼보 | D29: 938 | E29: 668 | F29: 1016 | G29: 964 | H29: 1129 | I29: 1316 | J29: 905 | K29: 712 | L29: 1033 | M29: 867 | N29: 1148 | O29: 1294 | P29: =SUM(D29:O29) -> 11990
C30: 도요타&렉서스 | D30: 1538 | E30: 2067 | F30: 2103 | G30: 3194 | H30: 2427 | I30: 2818 | J30: 2086 | K30: 2127 | L30: 1449 | M30: 1148 | N30: 810 | O30: 983 | P30: =SUM(D30:O30) -> 22750
C31: 크라이슬러 | D31: 166 | E31: 19 | F31: 522 | G31: 1679 | H31: 1069 | I31: 1501 | J31: 1106 | K31: 790 | L31: 1342 | M31: 663 | N31: 540 | O31: 888 | P31: =SUM(D31:O31) -> 10285
C32: 푸조 | D32: 491 | E32: 855 | F32: 498 | G32: 702 | H32: 575 | I32: 560 | J32: 444 | K32: 69 | L32: 55 | M32: 215 | N32: 263 | O32: 81 | P32: =SUM(D32:O32) -> 4808
C33: 캐딜락 | D33: 358 | E33: 0 | G33: 379 | H33: 238 | I33: 422 | J33: 0 | K33: 0 | L33: 0 | M33: 0 | N33: 0 | O33: 0 | P33: =SUM(D33:O33) -> 1397
C34: 혼다 | D34: 1063 | E34: 1223 | F34: 1612 | G34: 1009 | H34: 1063 | I34: 692 | J34: =1180+231 -> 1411 | K34: 675 | L34: 902 | M34: 74 | N34: 3 | O34: 618 | P34: =SUM(D34:O34) -> 10345
C35: 미쓰비씨 | D35: 0 | E35: 0 | F35: 0 | G35: 0 | H35: 0 | I35: 0 | J35: 0 | K35: 0 | L35: 0 | M35: 0 | N35: 0 | O35: 0 | P35: =SUM(D35:O35) -> 0
C36: 기타 | D36: =194+28 -> 222 | E36: =401+55 -> 456 | F36: =1241+22 -> 1263 | G36: =223+3032 -> 3255 | H36: =1797+170 -> 1967 | I36: =376+87 -> 463 | J36: =522+68 -> 590 | K36: =109+122 -> 231 | L36: 231 | M36: 2084 | N36: 1786 | O36: 1840 | P36: =SUM(D36:O36) -> 14388
C37: 소계 | D37: =SUM(D20:D36) -> 17401 | E37: =SUM(E20:E36) -> 11697 | F37: =SUM(F20:F36) -> 20637 | G37: =SUM(G20:G36) -> 22912 | H37: =SUM(H20:H36) -> 23590 | I37: =SUM(I20:I36) -> 20840 | J37: =SUM(J20:J36) -> 26061 | K37: =SUM(K20:K36) -> 20946 | ... O37: =SUM(O20:O36) -> 23771 | P37: =SUM(D37:O37) -> 246851
B38: 상 용 | C38: 벤츠트럭 | D38: 39 | E38: 34 | G38: 60 | H38: 146 | I38: 55 | J38: 85 | K38: 38 | L38: 3 | M38: 0 | N38: 62 | O38: 19 | P38: =SUM(D38:O38) -> 541
C39: 만트럭 | D39: 31 | E39: 13 | F39: 39 | G39: 12 | H39: 28 | I39: 13 | J39: 15 | K39: 24 | L39: 86 | M39: 9 | N39: 74 | O39: 54 | P39: =SUM(D39:O39) -> 398
C40: 볼보트럭 | D40: 237 | E40: 60 | F40: 160 | G40: 51 | H40: 168 | I40: 69 | J40: 54 | K40: 153 | L40: 112 | M40: 279 | N40: 247 | O40: 77 | P40: =SUM(D40:O40) -> 1667
C41: 기타 | D41: =348+10 -> 358 | E41: 41 | F41: 185 | G41: =151+22 -> 173 | H41: =67+111 -> 178 | I41: =64+112 -> 176 | J41: =44+141 -> 185 | K41: =154+10 -> 164 | L41: 82 | M41: 121 | N41: 100 | O41: 114 | P41: =SUM(D41:O41) -> 1877
C42: 소계 | D42: =SUM(D38:D41) -> 665 | E42: =SUM(E38:E41) -> 148 | F42: =SUM(F38:F41) -> 384 | G42: =SUM(G38:G41) -> 296 | H42: =SUM(H38:H41) -> 520 | I42: =SUM(I38:I41) -> 313 | J42: =SUM(J38:J41) -> 339 | K42: =SUM(K38:K41) -> 379 | ... O42: =SUM(O38:O41) -> 264 | P42: =SUM(D42:O42) -> 4483
B43: 개품화물 | D43: 169 | E43: 77 | F43: 214 | G43: 174 | H43: 178 | I43: 193 | J43: 197 | K43: =87+33 -> 120 | L43: 166 | M43: 170 | N43: 154 | O43: 167 | P43: =SUM(D43:O43) -> 1979
B44: 계(b) | D44: =D37+D42+D43 -> 18235 | E44: =E37+E42+E43 -> 11922 | F44: =F37+F42+F43 -> 21235 | G44: =G37+G42+G43 -> 23382 | H44: =H37+H42+H43 -> 24288 | I44: =I37+I42+I43 -> 21346 | J44: =J37+J42+J43 -> 26597 | K44: =K37+K42+K43 -> 21445 | ... O44: =O37+O42+O43 -> 24202 | P44: =SUM(D44:O44) -> 253313
A45: 합 계(a+b) | D45: =SUM(D19,D44) -> 72519 | E45: =SUM(E19,E44) -> 56343 | F45: =SUM(F19,F44) -> 71719 | G45: =SUM(G19,G44) -> 75143 | H45: =SUM(H19,H44) -> 78803 | I45: =SUM(I19,I44) -> 72356 | J45: =SUM(J19,J44) -> 84011 | K45: =SUM(K19,K44) -> 66285 | ... O45: =SUM(O19,O44) -> 73922 | P45: =SUM(D45:O45) -> 870254
A46: T/S(c) | D46: =23485+22789 -> 46274 | E46: =20892+10947 -> 31839 | F46: =25669+28827 -> 54496 | G46: =27876+26341 -> 54217 | H46: =21620+32309 -> 53929 | I46: =26823+35615 -> 62438 | J46: =27818+32014 -> 59832 | K46: =30273+35585 -> 65858 | L46: 44174 | M46: 58709 | N46: 50047 | O46: 46314 | P46: =SUM(D46:O46) -> 628127
A47: 기타 | D47: =3695+707 -> 4402 | E47: =1389+223 -> 1612 | F47: =142+1106 -> 1248 | G47: =1509+131 -> 1640 | H47: =147+1652 -> 1799 | I47: =1616+1977 -> 3593 | J47: =800+2556 -> 3356 | K47: =314+596 -> 910 | L47: 1275 | M47: 1816 | N47: 791 | O47: 2308 | P47: =SUM(D47:O47) -> 24750
A48: 총 계(a+b+c) | D48: =D45+D46+D47 -> 123195 | E48: =E45+E46+E47 -> 89794 | F48: =F45+F46+F47 -> 127463 | G48: =G45+G46+G47 -> 131000 | H48: =H45+H46+H47 -> 134531 | I48: =I45+I46+I47 -> 138387 | J48: =J45+J46+J47 -> 147199 | K48: =K45+K46+K47 -> 133053 | ... O48: =O45+O46+O47 -> 122544 | P48: =SUM(D48:O48) -> 1523131

Sheet 2020
A1: 2020년 자동차 선적현황
A2: 구 분 | D2: 1월 | E2: 2월 | F2: 3월 | G2: 4월 | H2: 5월 | I2: 6월 | J2: 7월 | K2: 8월 | L2: 9월 | M2: 10월 | N2: 11월 | O2: 12월 | P2: 합 계
A3: 수 출 차 | B3: 승 용 | C3: 기아 | D3: 30196 | E3: 23307 | F3: 44432 | G3: 27747 | H3: 19135 | I3: 31139 | J3: 40294 | K3: 23205 | L3: 39805 | M3: 42813 | N3: 45122 | O3: 33637 | P3: =SUM(D3:O3) -> 400832
C4: 현대 | D4: 1411 | E4: 1212 | F4: 1584 | G4: 1757 | H4: 1202 | I4: 1480 | J4: 1289 | K4: 1736 | L4: 1789 | M4: 2737 | N4: 2497 | O4: 2516 | P4: =SUM(D4:O4) -> 21210
C5: 쌍용 | D5: 1897 | E5: 2004 | F5: 2249 | G5: 902 | H5: 625 | I5: 378 | J5: 663 | K5: 1121 | L5: 1550 | M5: 1795 | N5: 2607 | O5: 2216 | P5: =SUM(D5:O5) -> 18007
C6: GM KOREA | D6: 0 | E6: 0 | F6: 0 | G6: 0 | H6: 33 | I6: 0 | J6: 0 | K6: 0 | L6: 0 | M6: 0 | N6: 0 | O6: 0 | P6: =SUM(D6:O6) -> 33
C7: 르노삼성 | D7: 0 | E7: 0 | F7: 0 | G7: 0 | H7: 0 | I7: 0 | J7: 0 | K7: 0 | L7: 0 | M7: 0 | N7: 0 | O7: 0 | P7: =SUM(D7:O7) -> 0
C8: 기타 | D8: 699 | E8: 246 | F8: 108 | G8: 146 | H8: 222 | I8: 633 | J8: 144 | K8: 19 | L8: 36 | M8: 142 | N8: 1 | O8: 223 | P8: =SUM(D8:O8) -> 2619
C9: 소 계 | D9: =SUM(D3:D8) -> 34203 | E9: =SUM(E3:E8) -> 26769 | F9: =SUM(F3:F8) -> 48373 | G9: =SUM(G3:G8) -> 30552 | H9: =SUM(H3:H8) -> 21217 | I9: =SUM(I3:I8) -> 33630 | J9: =SUM(J3:J8) -> 42390 | K9: =SUM(K3:K8) -> 26081 | ... O9: =SUM(O3:O8) -> 38592 | P9: =SUM(D9:O9) -> 442701
B10: 상 용 | C10: 두산 | D10: 19 | E10: 6 | F10: 18 | G10: 14 | H10: 0 | I10: 2 | J10: 1 | K10: 1 | L10: 6 | M10: 9 | N10: 8 | O10: 15 | P10: =SUM(D10:O10) -> 99
C11: 현대 | D11: 10 | E11: 20 | F11: 2 | G11: 47 | H11: 2 | I11: 16 | J11: 119 | K11: 62 | L11: 10 | M11: 31 | N11: 27 | O11: 19 | P11: =SUM(D11:O11) -> 365
C12: 타타대우 | D12: 12 | E12: 0 | F12: 0 | G12: 0 | H12: 2 | I12: 7 | J12: 0 | K12: 0 | L12: 2 | M12: 0 | N12: 0 | O12: 16 | P12: =SUM(D12:O12) -> 39
C13: 중고중장비 | D13: 252 | E13: 343 | F13: 328 | G13: 140 | H13: 56 | I13: 232 | J13: 152 | K13: 298 | L13: 383 | M13: 268 | N13: 146 | O13: 392 | P13: =SUM(D13:O13) -> 2990
C14: 신중장비 | D14: 108 | E14: 52 | F14: 85 | G14: 50 | H14: 95 | I14: 53 | J14: 61 | K14: 39 | L14: 70 | M14: 91 | N14: 33 | O14: 69 | P14: =SUM(D14:O14) -> 806
C15: 기타 | D15: 0 | E15: 15 | F15: 52 | G15: 0 | H15: 0 | I15: 2 | J15: 1 | K15: 3 | L15: 0 | M15: 19 | N15: 36 | O15: 26 | P15: =SUM(D15:O15) -> 154
C16: 소 계 | D16: =SUM(D10:D15) -> 401 | E16: =SUM(E10:E15) -> 436 | F16: =SUM(F10:F15) -> 485 | G16: =SUM(G10:G15) -> 251 | H16: =SUM(H10:H15) -> 155 | I16: =SUM(I10:I15) -> 312 | J16: =SUM(J10:J15) -> 334 | K16: =SUM(K10:K15) -> 403 | ... O16: =SUM(O10:O15) -> 537 | P16: =SUM(D16:O16) -> 4453
B17: 중 고 차 | D17: 1236 | E17: 1973 | F17: 1815 | G17: 434 | H17: 284 | I17: 812 | J17: 697 | K17: 766 | L17: 1602 | M17: 1590 | N17: 734 | O17: 1178 | P17: =SUM(D17:O17) -> 13121
B18: 개품화물 | D18: 153 | E18: 107 | F18: 122 | G18: 111 | H18: 60 | I18: 10 | J18: 38 | K18: 77 | L18: 106 | M18: 118 | N18: 156 | O18: 240 | P18: =SUM(D18:O18) -> 1298
B19: 계(a) | D19: =D9+D18+D16+D17 -> 35993 | E19: =E9+E18+E16+E17 -> 29285 | F19: =F9+F18+F16+F17 -> 50795 | G19: =G9+G18+G16+G17 -> 31348 | H19: =H9+H18+H16+H17 -> 21716 | I19: =I9+I18+I16+I17 -> 34764 | J19: =J9+J18+J16+J17 -> 43459 | K19: =K9+K18+K16+K17 -> 27327 | ... O19: =O9+O18+O16+O17 -> 40547 | P19: =SUM(D19:O19) -> 461573
A20: 수 입 차 | B20: 승 용 | C20: BMW | D20: 3598 | E20: 4092 | F20: 6473 | G20: 9179 | H20: 5087 | I20: 88 | J20: 5130 | K20: 10049 | L20: 11036 | M20: 5106 | N20: 5255 | O20: 11152 | P20: =SUM(D20:O20) -> 76245
C21: 벤츠 | D21: 6057 | E21: 4749 | F21: 8489 | G21: 9652 | H21: 1299 | I21: 1493 | J21: 5767 | K21: 5320 | L21: 8487 | M21: 6828 | N21: 10857 | O21: 4811 | P21: =SUM(D21:O21) -> 73809
C22: 아우디 | D22: 767 | E22: 1028 | F22: 2274 | G22: 7868 | H22: 2466 | I22: 3158 | J22: 214 | K22: 1038 | L22: 3254 | M22: 3716 | N22: 4340 | O22: 1575 | P22: =SUM(D22:O22) -> 31698
C23: 폭스바겐 | D23: 607 | E23: 515 | F23: 1542 | G23: 1950 | H23: 470 | I23: 371 | J23: 118 | K23: 1024 | L23: 3552 | M23: 5923 | N23: 2811 | O23: 1312 | P23: =SUM(D23:O23) -> 20195
C24: 포드 | D24: 1098 | E24: 1066 | F24: 1003 | G24: 973 | H24: 516 | I24: 20 | J24: 257 | K24: 848 | L24: 1338 | M24: 1636 | N24: 398 | O24: 1322 | P24: =SUM(D24:O24) -> 10475
C25: 재규어 | D25: 35 | E25: 177 | F25: 232 | G25: 61 | H25: 0 | I25: 71 | J25: 25 | K25: 28 | L25: 17 | M25: 4 | N25: 1 | O25: 13 | P25: =SUM(D25:O25) -> 664
C26: 랜드로버 | D26: 395 | E26: 479 | F26: 1025 | G26: 198 | H26: 7 | I26: 105 | J26: 25 | K26: 146 | L26: 230 | M26: 139 | N26: 235 | O26: 364 | P26: =SUM(D26:O26) -> 3348
C27: 닛산 | D27: 2 | E27: 0 | F27: 0 | G27: 28 | H27: 0 | I27: 0 | J27: 0 | K27: 0 | L27: 0 | M27: 0 | N27: 0 | O27: 0 | P27: =SUM(D27:O27) -> 30
C28: 포르쉐 | D28: 3 | E28: 490 | F28: 811 | G28: 2105 | H28: 747 | I28: 401 | J28: 140 | K28: 169 | L28: 90 | M28: 475 | N28: 521 | O28: 613 | P28: =SUM(D28:O28) -> 6565
C29: 볼보 | D29: 927 | E29: 631 | F29: 1981 | G29: 821 | H29: 648 | I29: 143 | J29: 577 | K29: 1564 | L29: 1205 | M29: 841 | N29: 1646 | O29: 2078 | P29: =SUM(D29:O29) -> 13062
C30: 도요타&렉서스 | D30: 40 | E30: 427 | F30: 1046 | G30: 1546 | H30: 775 | I30: 986 | J30: 1207 | K30: 1153 | L30: 1462 | M30: 1401 | N30: 1571 | O30: 1488 | P30: =SUM(D30:O30) -> 13102
C31: 크라이슬러 | D31: 100 | E31: 382 | F31: 662 | G31: 259 | H31: 310 | I31: 101 | J31: 588 | K31: 325 | L31: 1415 | M31: 368 | N31: 975 | O31: 1926 | P31: =SUM(D31:O31) -> 7411
C32: 푸조 | D32: 262 | E32: 158 | F32: 256 | G32: 182 | H32: 123 | I32: 1 | J32: 110 | K32: 265 | L32: 411 | M32: 355 | N32: 207 | O32: 814 | P32: =SUM(D32:O32) -> 3144
... C36: 기타 | D36: 3225 | E36: 4088 | F36: 1216 | G36: 1768 | H36: 1321 | I36: 2652 | J36: 234 | K36: 2956 | L36: 3404 | M36: 2831 | N36: 1035 | O36: 820 | P36: =SUM(D36:O36) -> 25550
C37: 소계 | D37: =SUM(D20:D36) -> 17212 | E37: =SUM(E20:E36) -> 18395 | F37: =SUM(F20:F36) -> 27777 | G37: =SUM(G20:G36) -> 36828 | H37: =SUM(H20:H36) -> 13811 | I37: =SUM(I20:I36) -> 9590 | J37: =SUM(J20:J36) -> 14533 | K37: =SUM(K20:K36) -> 25088 | ... O37: =SUM(O20:O36) -> 28310 | P37: =SUM(D37:O37) -> 287669
B38: 상 용 | C38: 벤츠트럭 | D38: 22 | E38: 32 | F38: 21 | G38: 53 | H38: 28 | I38: 12 | J38: 56 | K38: 36 | L38: 29 | M38: 59 | N38: 44 | O38: 116 | P38: =SUM(D38:O38) -> 508
C39: 만트럭 | D39: 89 | E39: 18 | F39: 101 | G39: 115 | H39: 4 | I39: 0 | J39: 49 | K39: 44 | L39: 25 | M39: 22 | N39: 106 | O39: 53 | P39: =SUM(D39:O39) -> 626
C40: 볼보트럭 | D40: 213 | E40: 65 | F40: 21 | G40: 104 | H40: 87 | I40: 0 | J40: 189 | K40: 303 | L40: 93 | M40: 183 | N40: 94 | O40: 124 | P40: =SUM(D40:O40) -> 1476
C41: 기타 | D41: 28 | E41: 204 | F41: 119 | G41: 116 | H41: 74 | I41: 71 | J41: 151 | K41: 62 | L41: 140 | M41: 77 | N41: 79 | O41: 256 | P41: =SUM(D41:O41) -> 1377
C42: 소계 | D42: =SUM(D38:D41) -> 352 | E42: =SUM(E38:E41) -> 319 | F42: =SUM(F38:F41) -> 262 | G42: =SUM(G38:G41) -> 388 | H42: =SUM(H38:H41) -> 193 | I42: =SUM(I38:I41) -> 83 | J42: =SUM(J38:J41) -> 445 | K42: =SUM(K38:K41) -> 445 | ... O42: =SUM(O38:O41) -> 549 | P42: =SUM(D42:O42) -> 3987
B43: 개품화물 | D43: 184 | E43: 80 | F43: 194 | G43: 327 | H43: 327 | I43: 182 | J43: 224 | K43: 179 | L43: 231 | M43: 221 | N43: 142 | O43: 250 | P43: =SUM(D43:O43) -> 2541
B44: 계(b) | D44: =D37+D42+D43 -> 17748 | E44: =E37+E42+E43 -> 18794 | F44: =F37+F42+F43 -> 28233 | G44: =G37+G42+G43 -> 37543 | H44: =H37+H42+H43 -> 14331 | I44: =I37+I42+I43 -> 9855 | J44: =J37+J42+J43 -> 15202 | K44: =K37+K42+K43 -> 25712 | ... O44: =O37+O42+O43 -> 29109 | P44: =SUM(D44:O44) -> 294197
A45: 합 계(a+b) | D45: =SUM(D19,D44) -> 53741 | E45: =SUM(E19,E44) -> 48079 | F45: =SUM(F19,F44) -> 79028 | G45: =SUM(G19,G44) -> 68891 | H45: =SUM(H19,H44) -> 36047 | I45: =SUM(I19,I44) -> 44619 | J45: =SUM(J19,J44) -> 58661 | K45: =SUM(K19,K44) -> 53039 | ... O45: =SUM(O19,O44) -> 69656 | P45: =SUM(D45:O45) -> 755770
A46: T/S(c) | D46: 48001 | E46: 41213 | F46: 40845 | G46: 46394 | H46: 26824 | I46: 24875 | J46: 42866 | K46: 26864 | L46: 48024 | M46: 46193 | N46: 56159 | O46: 39270 | P46: =SUM(D46:O46) -> 487528
A47: 기타 | D47: 2826 | E47: 1695 | F47: 1172 | G47: 1154 | H47: 591 | I47: 526 | J47: 1582 | K47: 1143 | L47: 2044 | M47: 797 | N47: 1459 | O47: 1841 | P47: =SUM(D47:O47) -> 16830
A48: 총 계(a+b+c) | D48: =D45+D46+D47 -> 104568 | E48: =E45+E46+E47 -> 90987 | F48: =F45+F46+F47 -> 121045 | G48: =G45+G46+G47 -> 116439 | H48: =H45+H46+H47 -> 63462 | I48: =I45+I46+I47 -> 70020 | J48: =J45+J46+J47 -> 103109 | K48: =K45+K46+K47 -> 81046 | ... O48: =O45+O46+O47 -> 110767 | P48: =SUM(D48:O48) -> 1260128

Sheet 2021
A1: 2021년 자동차 선적현황
A2: 구 분 | D2: 1월 | E2: 2월 | F2: 3월 | G2: 4월 | H2: 5월 | I2: 6월 | J2: 7월 | K2: 8월 | L2: 9월 | M2: 10월 | N2: 11월 | O2: 12월 | P2: 합 계
A3: 수 출 차 | B3: 승 용 | C3: 기아 | D3: 41577 | E3: 40701 | F3: =46210+20 -> 46230 | G3: =47743 -> 47743 | H3: =2+38677 -> 38679 | I3: =45726+3 -> 45729 | J3: 47166 | K3: =31065 -> 31065 | L3: =36790+43 -> 36833 | M3: 42756 | N3: 41455 | O3: 51227 | P3: =SUM(D3:O3) -> 511161
C4: 현대 | D4: 1906 | E4: 3826 | F4: =198+2746 -> 2944 | G4: =360+4670 -> 5030 | H4: =204+3138 -> 3342 | I4: =3139+8+389 -> 3536 | J4: =3196+793 -> 3989 | K4: =1975+720 -> 2695 | L4: =1986+387 -> 2373 | M4: =5151+60 -> 5211 | N4: =862+2131 -> 2993 | O4: =916+2996 -> 3912 | P4: =SUM(D4:O4) -> 41757
C5: 쌍용 | D5: 2758 | E5: 470 | F5: 2249 | G5: =1480 -> 1480 | H5: =2180 -> 2180 | I5: 2513 | J5: =2895 -> 2895 | K5: 3175 | L5: =1491 -> 1491 | M5: 2409 | N5: =1497 -> 1497 | O5: 3134 | P5: =SUM(D5:O5) -> 26251
C6: GM KOREA | J6: 333 | K6: 250 | P6: =SUM(D6:O6) -> 583
C7: 르노삼성 | P7: =SUM(D7:O7) -> 0
C8: 기타 | D8: 103 | E8: 104 | F8: 338 | G8: =901+1 -> 902 | H8: =86+672 -> 758 | I8: =7+158 -> 165 | J8: =21+58 -> 79 | K8: =35+8 -> 43 | L8: 17 | M8: =13+8 -> 21 | N8: =40+48 -> 88 | O8: =421+16 -> 437 | P8: =SUM(D8:O8) -> 3055
C9: 소 계 | D9: =SUM(D3:D8) -> 46344 | E9: =SUM(E3:E8) -> 45101 | F9: =SUM(F3:F8) -> 51761 | G9: =SUM(G3:G8) -> 55155 | H9: =SUM(H3:H8) -> 44959 | I9: =SUM(I3:I8) -> 51943 | J9: =SUM(J3:J8) -> 54462 | K9: =SUM(K3:K8) -> 37228 | ... O9: =SUM(O3:O8) -> 58710 | P9: =SUM(D9:O9) -> 582807
B10: 상 용 | C10: 두산 | D10: 28 | E10: 42 | F10: 32 | G10: =31 -> 31 | H10: 12 | I10: 6 | J10: 22 | K10: 9 | L10: 20 | M10: =44 -> 44 | N10: 24 | O10: 20 | P10: =SUM(D10:O10) -> 290
C11: 현대 | D11: 30 | E11: 18 | F11: =13+184 -> 197 | G11: =2+19 -> 21 | H11: =140+8 -> 148 | I11: 3 | J11: 8 | K11: =17+24 -> 41 | L11: =1+30 -> 31 | M11: 48 | N11: 45 | O11: 9 | P11: =SUM(D11:O11) -> 599
C12: 타타대우 | G12: =8 -> 8 | H12: =5 -> 5 | K12: 13 | L12: =37+1 -> 38 | N12: 16 | O12: =15+12 -> 27 | P12: =SUM(D12:O12) -> 107
C13: 중고중장비 | D13: 329 | E13: 119 | F13: 154 | G13: =256+4 -> 260 | H13: =3+263 -> 266 | I13: 214 | J13: 180 | K13: =2+244 -> 246 | L13: =77 -> 77 | M13: 39 | N13: 71 | O13: 59 | P13: =SUM(D13:O13) -> 2014
C14: 신중장비 | D14: 83 | E14: 59 | F14: 29 | G14: =81+34 -> 115 | H14: =34+44 -> 78 | I14: =45+53 -> 98 | J14: 46 | K14: =1+50 -> 51 | L14: =37+14 -> 51 | M14: =25+32 -> 57 | N14: =17+47 -> 64 | O14: =15+4 -> 19 | P14: =SUM(D14:O14) -> 750
C15: 기타 | E15: 4 | F15: 1 | H15: 20 | I15: =16 -> 16 | L15: 4 | M15: 7 | N15: 2 | O15: 60 | P15: =SUM(D15:O15) -> 114
C16: 소 계 | D16: =SUM(D10:D15) -> 470 | E16: =SUM(E10:E15) -> 242 | F16: =SUM(F10:F15) -> 413 | G16: =SUM(G10:G15) -> 435 | H16: =SUM(H10:H15) -> 529 | I16: =SUM(I10:I15) -> 337 | J16: =SUM(J10:J15) -> 256 | K16: =SUM(K10:K15) -> 360 | ... O16: =SUM(O10:O15) -> 194 | P16: =SUM(D16:O16) -> 3874
B17: 중 고 차 | D17: 1896 | E17: 804 | F17: 1019 | G17: =1428+76 -> 1504 | H17: 1738 | I17: =7+1247 -> 1254 | J17: 506 | K17: =60+1214 -> 1274 | L17: =522+24 -> 546 | M17: 292 | N17: 420 | O17: 287 | P17: =SUM(D17:O17) -> 11540
B18: 개품화물 | D18: 606 | E18: 111 | F18: =154+47 -> 201 | G18: =93+94 -> 187 | H18: =21+93 -> 114 | I18: =258+452 -> 710 | J18: 330 | K18: =49+219 -> 268 | L18: =101+46 -> 147 | M18: =89+198 -> 287 | N18: =60+197 -> 257 | O18: =44+122 -> 166 | P18: =SUM(D18:O18) -> 3384
B19: 계(a) | D19: =D9+D18+D16+D17 -> 49316 | E19: =E9+E18+E16+E17 -> 46258 | F19: =F9+F18+F16+F17 -> 53394 | G19: =G9+G18+G16+G17 -> 57281 | H19: =H9+H18+H16+H17 -> 47340 | I19: =I9+I18+I16+I17 -> 54244 | J19: =J9+J18+J16+J17 -> 55554 | K19: =K9+K18+K16+K17 -> 39130 | ... O19: =O9+O18+O16+O17 -> 59357 | P19: =SUM(D19:O19) -> 601605
A20: 수 입 차 | B20: 승 용 | C20: BMW | D20: 3625 | E20: 4306 | F20: =4082+4565 -> 8647 | G20: =1939+6009 -> 7948 | H20: =4108+3109 -> 7217 | I20: =7174+2588 -> 9762 | J20: 5453 | K20: =2834 -> 2834 | L20: =2344+2633 -> 4977 | M20: =2146+3369 -> 5515 | N20: =1393+3734 -> 5127 | O20: =1579+3961 -> 5540 | P20: =SUM(D20:O20) -> 70951
C21: 벤츠 | D21: 8940 | E21: 4118 | F21: =6660+277 -> 6937 | G21: =7928+648 -> 8576 | H21: =349+5129 -> 5478 | I21: =221+3455 -> 3676 | J21: 7071 | K21: =118+5952 -> 6070 | L21: =3459 -> 3459 | M21: =2703+423 -> 3126 | N21: =4557+283 -> 4840 | O21: =6259+1043 -> 7302 | P21: =SUM(D21:O21) -> 69593
C22: 아우디 | D22: 2297 | E22: 830 | F22: 501 | G22: =1674 -> 1674 | H22: =168+1549 -> 1717 | I22: =351+1547 -> 1898 | J22: 1118 | K22: =436+1249 -> 1685 | L22: =811+219 -> 1030 | M22: =555+135 -> 690 | N22: =843+56 -> 899 | O22: =1375+188 -> 1563 | P22: =SUM(D22:O22) -> 15902
C23: 폭스바겐 | D23: 839 | E23: 333 | G23: =1112 -> 1112 | H23: =462+234 -> 696 | I23: =387+30 -> 417 | J23: 1769 | K23: =363+6 -> 369 | L23: =210+863 -> 1073 | M23: =515+748 -> 1263 | N23: =582+396 -> 978 | O23: =1954+68 -> 2022 | P23: =SUM(D23:O23) -> 10871
C24: 포드 | D24: 927 | E24: 22 | F24: =251+1437 -> 1688 | G24: 945 | H24: =576+105 -> 681 | I24: =322+138 -> 460 | J24: 143 | K24: =499+120 -> 619 | L24: 743 | M24: 1010 | N24: =99+1319 -> 1418 | O24: =76+658 -> 734 | P24: =SUM(D24:O24) -> 9390
C25: 재규어 | D25: 6 | E25: 3 | F25: 15 | G25: 10 | H25: 19 | I25: 14 | J25: 15 | K25: 22 | L25: =13 -> 13 | M25: 3 | N25: 12 | O25: 17 | P25: =SUM(D25:O25) -> 149
C26: 랜드로버 | D26: 63 | E26: 14 | F26: 166 | G26: 61 | H26: 79 | I26: 371 | J26: 309 | K26: 256 | L26: 252 | M26: =690 -> 690 | N26: 255 | O26: 314 | P26: =SUM(D26:O26) -> 2830
C27: 닛산 | P27: =SUM(D27:O27) -> 0
C28: 포르쉐 | D28: 2143 | E28: 745 | F28: 925 | G28: 891 | H28: 578 | I28: 678 | J28: 607 | K28: 502 | L28: =760 -> 760 | M28: 69 | N28: 159 | O28: 824 | P28: =SUM(D28:O28) -> 8881
C29: 볼보 | D29: 1277 | E29: 794 | F29: 1250 | G29: 1055 | H29: 1463 | I29: 1383 | J29: 1453 | K29: 327 | L29: =1208 -> 1208 | M29: 1004 | N29: 850 | O29: 745 | P29: =SUM(D29:O29) -> 12809
C30: 도요타&렉서스 | D30: 600 | E30: 790 | F30: 1329 | G30: 1555 | H30: 1537 | I30: 2316 | J30: 935 | K30: 799 | L30: =727 -> 727 | M30: =667+157 -> 824 | N30: =1210+41 -> 1251 | O30: 1292 | P30: =SUM(D30:O30) -> 13955
C31: 크라이슬러 | D31: 1179 | E31: 1054 | F31: 966 | G31: 1313 | H31: 846 | I31: 447 | J31: 385 | K31: 159 | L31: =806 -> 806 | M31: 813 | N31: 941 | O31: 806 | P31: =SUM(D31:O31) -> 9715
C32: 푸조 | D32: 346 | E32: 212 | F32: 66 | G32: 568 | H32: 334 | I32: 283 | J32: 103 | K32: 3 | L32: =12 -> 12 | M32: 13 | N32: 59 | O32: 413 | P32: =SUM(D32:O32) -> 2412
C33: 캐딜락 | D33: 70 | E33: 21 | F33: 42 | G33: 72 | H33: =43 -> 43 | I33: 66 | J33: 118 | K33: =47 -> 47 | L33: 47 | M33: 20 | N33: 9 | O33: 18 | P33: =SUM(D33:O33) -> 573
C34: 혼다 | D34: 337 | E34: 448 | F34: 1179 | G34: 735 | H34: =73 -> 73 | I34: 105 | J34: 181 | K34: =948 -> 948 | L34: 110 | M34: 403 | N34: 147 | O34: 20 | P34: =SUM(D34:O34) -> 4686
C35: 미쓰비씨 | P35: =SUM(D35:O35) -> 0
C36: 기타 | D36: 1020 | E36: 3003 | F36: =85+1741 -> 1826 | G36: =103+4317 -> 4420 | H36: =5262+165 -> 5427 | I36: =707+78 -> 785 | J36: 3563 | K36: =3877+94 -> 3971 | L36: =146+368 -> 514 | M36: =169+957 -> 1126 | N36: =190+1115 -> 1305 | O36: =100+320 -> 420 | P36: =SUM(D36:O36) -> 27380
C37: 소계 | D37: =SUM(D20:D36) -> 23669 | E37: =SUM(E20:E36) -> 16693 | F37: =SUM(F20:F36) -> 25537 | G37: =SUM(G20:G36) -> 30935 | H37: =SUM(H20:H36) -> 26188 | I37: =SUM(I20:I36) -> 22661 | J37: =SUM(J20:J36) -> 23223 | K37: =SUM(K20:K36) -> 18611 | ... O37: =SUM(O20:O36) -> 22030 | P37: =SUM(D37:O37) -> 260097
B38: 상 용 | C38: 벤츠트럭 | D38: 43 | E38: 23 | F38: 96 | G38: 102 | H38: =129 -> 129 | I38: 48 | J38: 143 | K38: =27 -> 27 | L38: 97 | M38: 11 | N38: 4 | O38: 54 | P38: =SUM(D38:O38) -> 777
C39: 만트럭 | D39: 74 | E39: 76 | F39: 59 | G39: =186 -> 186 | H39: 50 | I39: 65 | J39: 31 | K39: 51 | L39: 98 | M39: 22 | N39: 83 | O39: 95 | P39: =SUM(D39:O39) -> 890
C40: 볼보트럭 | D40: 120 | E40: 169 | F40: 233 | G40: 151 | H40: 79 | I40: 123 | J40: 297 | K40: 157 | L40: 111 | M40: 167 | N40: 239 | O40: 206 | P40: =SUM(D40:O40) -> 2052
C41: 기타 | D41: 92 | E41: 118 | F41: =215+30 -> 245 | G41: =100+75 -> 175 | H41: =195+66 -> 261 | I41: =73+176 -> 249 | J41: 118 | K41: =46+97 -> 143 | L41: =21+134 -> 155 | M41: =66+74 -> 140 | N41: =168+86 -> 254 | O41: =293+106 -> 399 | P41: =SUM(D41:O41) -> 2349
C42: 소계 | D42: =SUM(D38:D41) -> 329 | E42: =SUM(E38:E41) -> 386 | F42: =SUM(F38:F41) -> 633 | G42: =SUM(G38:G41) -> 614 | H42: =SUM(H38:H41) -> 519 | I42: =SUM(I38:I41) -> 485 | J42: =SUM(J38:J41) -> 589 | K42: =SUM(K38:K41) -> 378 | ... O42: =SUM(O38:O41) -> 754 | P42: =SUM(D42:O42) -> 6068
B43: 개품화물 | D43: 357 | E43: 236 | F43: =182+65 -> 247 | G43: =285+94 -> 379 | H43: =197+164 -> 361 | I43: =133+269 -> 402 | J43: 381 | K43: =141+245 -> 386 | L43: =281+35 -> 316 | M43: =215+119 -> 334 | N43: =230+31 -> 261 | O43: =154+57 -> 211 | P43: =SUM(D43:O43) -> 3871
B44: 계(b) | D44: =D37+D42+D43 -> 24355 | E44: =E37+E42+E43 -> 17315 | F44: =F37+F42+F43 -> 26417 | G44: =G37+G42+G43 -> 31928 | H44: =H37+H42+H43 -> 27068 | I44: =I37+I42+I43 -> 23548 | J44: =J37+J42+J43 -> 24193 | K44: =K37+K42+K43 -> 19375 | ... O44: =O37+O42+O43 -> 22995 | P44: =SUM(D44:O44) -> 270036
A45: 합 계(a+b) | D45: =SUM(D19,D44) -> 73671 | E45: =SUM(E19,E44) -> 63573 | F45: =SUM(F19,F44) -> 79811 | G45: =SUM(G19,G44) -> 89209 | H45: =SUM(H19,H44) -> 74408 | I45: =SUM(I19,I44) -> 77792 | J45: =SUM(J19,J44) -> 79747 | K45: =SUM(K19,K44) -> 58505 | ... O45: =SUM(O19,O44) -> 82352 | P45: =SUM(D45:O45) -> 871641
A46: T/S(c) | D46: 49719 | E46: 38271 | F46: =22653+17564 -> 40217 | G46: =26211+25465 -> 51676 | H46: =18496+26160 -> 44656 | I46: =14719+25100 -> 39819 | J46: 46772 | K46: =14391+29948 -> 44339 | L46: =20981+14198 -> 35179 | M46: =26755+24999 -> 51754 | N46: =22067+22804 -> 44871 | O46: =24009+23462 -> 47471 | P46: =SUM(D46:O46) -> 534744
A47: 기타 | D47: 3212 | E47: 1448 | F47: =1569+1304 -> 2873 | G47: =2106+255 -> 2361 | H47: =1522+650 -> 2172 | I47: =335+1234 -> 1569 | J47: 2015 | K47: =812+747 -> 1559 | L47: =502+434 -> 936 | M47: =1172+619 -> 1791 | N47: =769+698 -> 1467 | O47: =878+735 -> 1613 | P47: =SUM(D47:O47) -> 23016
A48: 총 계(a+b+c) | D48: =D45+D46+D47 -> 126602 | E48: =E45+E46+E47 -> 103292 | F48: =F45+F46+F47 -> 122901 | G48: =G45+G46+G47 -> 143246 | H48: =H45+H46+H47 -> 121236 | I48: =I45+I46+I47 -> 119180 | J48: =J45+J46+J47 -> 128534 | K48: =K45+K46+K47 -> 104403 | ... O48: =O45+O46+O47 -> 131436 | P48: =SUM(C48:O48) -> 1429401

Sheet Sheet1
D13: ='2017'!D47/'2016'!D47 -> 0.86629222 | E13: =('2017'!D47+'2017'!E47)/('2016'!D47+'2016'!E47) -> 0.95387884 | F13: =('2017'!D47+'2017'!E47+'2017'!F47)/('2016'!D47+'2016'!E47+'2016'!F47) -> 0.9450697 | G13: =('2017'!D47+'2017'!E47+'2017'!F47+'2017'!G47)/('2016'!D47+'2016'!E47+'2016'!F47+'2016'!G47) -> 0.96159756 | H13: =('2017'!D47+'2017'!E47+'2017'!F47+'2017'!G47+'2017'!H47)/('2016'!D47+'2016'!E47+'2016'!F47+'2016'!G47+'2016'!H47) -> 0.98112565

Sheet 2022
A1: 2022년 자동차 선적현황
A2: 구 분 | D2: 1월 | E2: 2월 | F2: 3월 | G2: 4월 | H2: 5월 | I2: 6월 | J2: 7월 | K2: 8월 | L2: 9월 | M2: 10월 | N2: 11월 | O2: 12월 | P2: 합 계
A3: 수 출 차 | B3: 승 용 | C3: 기아 | D3: 52274 | E3: 42248 | F3: 53174 | G3: =47577+18 -> 47595 | H3: 48619 | I3: 41218 | J3: =200+60436 -> 60636 | K3: =3674+40041 -> 43715 | L3: 47377 | M3: =1+47908 -> 47909 | N3: 52889 | O3: =54501+313 -> 54814 | P3: =SUM(D3:O3) -> 592468
C4: 현대 | D4: =7+690 -> 697 | E4: =612+2913 -> 3525 | F4: =5162+41+23 -> 5226 | G4: =6231+863 -> 7094 | H4: =6643+987+60 -> 7690 | I4: =2323+39+2647 -> 5009 | J4: =3874+7328 -> 11202 | K4: =570+8179 -> 8749 | L4: =5237+3746 -> 8983 | M4: =0+4259+3333 -> 7592 | N4: =6354+14+2752 -> 9120 | O4: =5099+5029 -> 10128 | P4: =SUM(D4:O4) -> 85015
C5: 쌍용 | D5: 2148 | E5: 3342 | F5: 2359 | G5: 2666 | H5: 4453 | I5: 3802 | J5: 4006 | K5: 0 | L5: 2656 | M5: =0+2797 -> 2797 | N5: =97+2614 -> 2711 | O5: 3653 | P5: =SUM(D5:O5) -> 34593
C6: GM KOREA | D6: 280 | E6: 0 | F6: 0 | G6: 463 | H6: 100 | I6: 510 | J6: 390 | K6: 0 | L6: 0 | M6: 100 | N6: 0 | O6: 0 | P6: =SUM(D6:O6) -> 1843
C7: 르노삼성 | D7: 0 | E7: 0 | F7: 0 | G7: 0 | H7: 0 | I7: 0 | J7: 0 | K7: 0 | L7: 0 | M7: 0 | N7: 0 | O7: 0 | P7: =SUM(D7:O7) -> 0
C8: 기타 | D8: 244 | E8: =95+6 -> 101 | F8: =19+12 -> 31 | G8: 238 | H8: =2+77 -> 79 | I8: =5+88 -> 93 | J8: =174+11 -> 185 | K8: =164+3 -> 167 | L8: =133+10 -> 143 | M8: =75+4 -> 79 | N8: 0 | O8: 126 | P8: =SUM(D8:O8) -> 1486
C9: 소 계 | D9: =SUM(D3:D8) -> 55643 | E9: =SUM(E3:E8) -> 49216 | F9: =SUM(F3:F8) -> 60790 | G9: =SUM(G3:G8) -> 58056 | H9: =SUM(H3:H8) -> 60941 | I9: =SUM(I3:I8) -> 50632 | J9: =SUM(J3:J8) -> 76419 | K9: =SUM(K3:K8) -> 52631 | ... O9: =SUM(O3:O8) -> 68721 | P9: =SUM(D9:O9) -> 715405
B10: 상 용 | C10: 두산 | D10: =12+131 -> 143 | E10: =18+4 -> 22 | F10: 94 | G10: 86 | H10: 274 | I10: 2 | J10: =23+2 -> 25 | K10: =15+4 -> 19 | L10: 3 | M10: =0+7 -> 7 | N10: =27+44 -> 71 | O10: 5 | P10: =SUM(D10:O10) -> 751
C11: 현대 | D11: =14+17 -> 31 | E11: =28+1 -> 29 | F11: 55 | G11: =18+25 -> 43 | H11: =1+5 -> 6 | I11: =30+13 -> 43 | J11: =17+8 -> 25 | K11: 0 | L11: 14 | M11: =0+92 -> 92 | N11: 19 | O11: 3 | P11: =SUM(D11:O11) -> 360
C12: 타타대우 | D12: 0 | E12: 10 | F12: 14 | G12: 67 | H12: 2 | I12: 10 | J12: 34 | K12: 0 | L12: 2 | M12: =0+5 -> 5 | N12: 18 | O12: =10+1 -> 11 | P12: =SUM(D12:O12) -> 173
C13: 중고중장비 | D13: 95 | E13: 78 | F13: 64 | G13: 0 | H13: 164 | I13: 0 | J13: 42 | K13: 0 | L13: 36 | M13: =0+19 -> 19 | N13: 67 | O13: 56 | P13: =SUM(D13:O13) -> 621
C14: 신중장비 | D14: =29+23 -> 52 | E14: =21+6 -> 27 | F14: =59+4 -> 63 | G14: =24+37 -> 61 | H14: =7+5 -> 12 | I14: 45 | J14: =59+28 -> 87 | K14: 81 | L14: =28+49 -> 77 | M14: =75+19 -> 94 | N14: =65+22 -> 87 | O14: 43 | P14: =SUM(D14:O14) -> 729
C15: 기타 | D15: 19 | E15: 1 | F15: 0 | G15: =3+161 -> 164 | H15: 5 | I15: 56 | J15: 1 | K15: 102 | L15: 0 | M15: =2+67 -> 69 | N15: 14 | O15: 2 | P15: =SUM(D15:O15) -> 433
C16: 소 계 | D16: =SUM(D10:D15) -> 340 | E16: =SUM(E10:E15) -> 167 | F16: =SUM(F10:F15) -> 290 | G16: =SUM(G10:G15) -> 421 | H16: =SUM(H10:H15) -> 463 | I16: =SUM(I10:I15) -> 156 | J16: =SUM(J10:J15) -> 214 | K16: =SUM(K10:K15) -> 202 | ... O16: =SUM(O10:O15) -> 120 | P16: =SUM(D16:O16) -> 3067
B17: 중 고 차 | D17: =397+10 -> 407 | E17: =390+564 -> 954 | F17: =543+5 -> 548 | G17: =147+1183 -> 1330 | H17: =1052+41 -> 1093 | I17: =19+691 -> 710 | J17: =457+50 -> 507 | K17: =1585+1 -> 1586 | L17: =2109+1 -> 2110 | M17: =138+1604 -> 1742 | N17: =3+951 -> 954 | O17: =1628+15 -> 1643 | P17: =SUM(D17:O17) -> 13584
B18: 개품화물 | D18: =34+44 -> 78 | E18: =72+83 -> 155 | F18: =3+152 -> 155 | G18: =14+70 -> 84 | H18: =46+9 -> 55 | I18: 16 | J18: =47+26 -> 73 | K18: 65 | L18: 23 | M18: 0 | N18: 10 | O18: 12 | P18: =SUM(D18:O18) -> 726
B19: 계(a) | D19: =D9+D18+D16+D17 -> 56468 | E19: =E9+E18+E16+E17 -> 50492 | F19: =F9+F18+F16+F17 -> 61783 | G19: =G9+G18+G16+G17 -> 59891 | H19: =H9+H18+H16+H17 -> 62552 | I19: =I9+I18+I16+I17 -> 51514 | J19: =J9+J18+J16+J17 -> 77213 | K19: =K9+K18+K16+K17 -> 54484 | ... O19: =O9+O18+O16+O17 -> 70496 | P19: =SUM(D19:O19) -> 732782
A20: 수 입 차 | B20: 승 용 | C20: BMW | D20: =2814+3216 -> 6030 | E20: =756+6294 -> 7050 | F20: =2299+3167 -> 5466 | G20: =6843+2832 -> 9675 | H20: =3496+3717 -> 7213 | I20: =4344+3130 -> 7474 | J20: =1808+4343 -> 6151 | K20: =4694+5982 -> 10676 | L20: =2774+4368 -> 7142 | M20: =7880+3830 -> 11710 | N20: =2861+4015 -> 6876 | O20: =1911+5301 -> 7212 | P20: =SUM(D20:O20) -> 92675
C21: 벤츠 | D21: =5257+702 -> 5959 | E21: =4016+72 -> 4088 | F21: =7867+791 -> 8658 | G21: =463+7363 -> 7826 | H21: =6615+358 -> 6973 | I21: =131+3987 -> 4118 | J21: =3906+1300 -> 5206 | K21: =7073+180 -> 7253 | L21: =4571+315 -> 4886 | M21: =491+10693 -> 11184 | N21: =7114+450 -> 7564 | O21: =7131+26 -> 7157 | P21: =SUM(D21:O21) -> 80872
C22: 아우디 | D22: =931+111 -> 1042 | E22: =587+87 -> 674 | F22: =597+218 -> 815 | G22: =234+1943 -> 2177 | H22: =1507+213 -> 1720 | I22: =114+1313 -> 1427 | J22: =3223+1198 -> 4421 | K22: =2112+104 -> 2216 | L22: =656+143 -> 799 | M22: =213+2954 -> 3167 | N22: =2470+280 -> 2750 | O22: =1779+273 -> 2052 | P22: =SUM(D22:O22) -> 23260
C23: 폭스바겐 | D23: =1810+42 -> 1852 | E23: 111 | F23: 128 | G23: =762+1067 -> 1829 | H23: =344+166 -> 510 | I23: =118+272 -> 390 | J23: =1358+708 -> 2066 | K23: =565+253 -> 818 | L23: =257+48 -> 305 | M23: =1168+1127 -> 2295 | N23: =1743+1116 -> 2859 | O23: =867+882 -> 1749 | P23: =SUM(D23:O23) -> 14912
C24: 포드 | D24: =17+542 -> 559 | E24: 151 | F24: =48+776 -> 824 | G24: 883 | H24: =139+1088 -> 1227 | I24: =611+72 -> 683 | J24: =312+256 -> 568 | K24: =19+865 -> 884 | L24: 685 | M24: =1598+161 -> 1759 | N24: =77+265 -> 342 | O24: 690 | P24: =SUM(D24:O24) -> 9255
C25: 재규어 | D25: 21 | E25: 8 | F25: 26 | G25: 62 | H25: 27 | I25: 0 | J25: 18 | K25: 1 | L25: 0 | M25: =0+3 -> 3 | N25: 4 | O25: 30 | P25: =SUM(D25:O25) -> 200
C26: 랜드로버 | D26: 206 | E26: 101 | F26: 307 | G26: 126 | H26: 181 | I26: 121 | J26: 172 | K26: 413 | L26: 338 | M26: =0+763 -> 763 | N26: 255 | O26: 835 | P26: =SUM(D26:O26) -> 3818
C27: 닛산 | D27: 0 | E27: 0 | F27: 0 | G27: 0 | H27: 0 | I27: 0 | J27: 0 | K27: 0 | L27: 0 | M27: 0 | N27: 0 | O27: 0 | P27: =SUM(D27:O27) -> 0
C28: 포르쉐 | D28: 1218 | E28: 883 | F28: 607 | G28: 502 | H28: 706 | I28: 269 | J28: 1127 | K28: 699 | L28: 367 | M28: =0+791 -> 791 | N28: 906 | O28: 749 | P28: =SUM(D28:O28) -> 8824
C29: 볼보 | D29: 1124 | E29: 1127 | F29: =1479+3 -> 1482 | G29: 897 | H29: 1131 | I29: 1387 | J29: 205 | K29: 802 | L29: 666 | M29: =0+1110 -> 1110 | N29: 2445 | O29: 1660 | P29: =SUM(D29:O29) -> 14036
C30: 도요타&렉서스 | D30: 704 | E30: =715+107 -> 822 | F30: =1032+136 -> 1168 | G30: =87+1024 -> 1111 | H30: =669+199 -> 868 | I30: 1061 | J30: =1031+416 -> 1447 | K30: =886+246 -> 1132 | L30: 1448 | M30: =95+1225 -> 1320 | N30: 913 | O30: =1417+95 -> 1512 | P30: =SUM(D30:O30) -> 13506
C31: 크라이슬러 | D31: 486 | E31: 18 | F31: 914 | G31: 326 | H31: 692 | I31: 2045 | J31: 1457 | K31: 127 | L31: 1134 | M31: =0+731 -> 731 | N31: 689 | O31: 484 | P31: =SUM(D31:O31) -> 9103
C32: 푸조 | D32: 3 | E32: 8 | F32: 151 | G32: 217 | H32: 259 | I32: 520 | J32: 232 | K32: 287 | L32: 49 | M32: =0+95 -> 95 | N32: 315 | O32: 382 | P32: =SUM(D32:O32) -> 2518
C33: 캐딜락 | D33: 11 | E33: 113 | F33: 6 | G33: 110 | H33: 0 | I33: 82 | J33: 0 | K33: 78 | L33: 21 | M33: =30+0 -> 30 | N33: 199 | O33: 228 | P33: =SUM(D33:O33) -> 878
C34: 혼다 | D34: 1 | E34: 208 | F34: 198 | G34: 23 | H34: 684 | I34: 356 | J34: 407 | K34: 445 | L34: 333 | M34: =108+0 -> 108 | N34: 161 | O34: 9 | P34: =SUM(D34:O34) -> 2933
C35: 미쓰비씨 | D35: 0 | E35: 0 | F35: 0 | G35: 0 | H35: 0 | I35: 0 | J35: 0 | K35: 0 | L35: 0 | M35: 0 | N35: 0 | O35: 0 | P35: =SUM(D35:O35) -> 0
C36: 기타 | D36: =64+650 -> 714 | E36: =292+3000 -> 3292 | F36: =685+157 -> 842 | G36: =662+451 -> 1113 | H36: =444+4839 -> 5283 | I36: =1228+480 -> 1708 | J36: =876+2068 -> 2944 | K36: =481+8606 -> 9087 | L36: =197+1897 -> 2094 | M36: =2696+272 -> 2968 | N36: =152+3785 -> 3937 | O36: =207+1515 -> 1722 | P36: =SUM(D36:O36) -> 35704
C37: 소계 | D37: =SUM(D20:D36) -> 19930 | E37: =SUM(E20:E36) -> 18654 | F37: =SUM(F20:F36) -> 21592 | G37: =SUM(G20:G36) -> 26877 | H37: =SUM(H20:H36) -> 27474 | I37: =SUM(I20:I36) -> 21641 | J37: =SUM(J20:J36) -> 26421 | K37: =SUM(K20:K36) -> 34918 | ... O37: =SUM(O20:O36) -> 26471 | P37: =SUM(D37:O37) -> 312494
B38: 상 용 | C38: 벤츠트럭 | D38: 76 | E38: 0 | F38: 109 | G38: 67 | H38: 75 | I38: 61 | J38: 49 | K38: 55 | L38: 177 | M38: =0+98 -> 98 | N38: 129 | O38: 32 | P38: =SUM(D38:O38) -> 928
C39: 만트럭 | D39: 80 | E39: 12 | F39: 70 | G39: 152 | H39: 108 | I39: 12 | J39: 168 | K39: 84 | L39: 67 | M39: =0+420 -> 420 | N39: 65 | O39: 36 | P39: =SUM(D39:O39) -> 1274
C40: 볼보트럭 | D40: 214 | E40: 186 | F40: 266 | G40: 79 | H40: 232 | I40: 220 | J40: 187 | K40: 221 | L40: 79 | M40: =0+53 -> 53 | N40: 324 | O40: 132 | P40: =SUM(D40:O40) -> 2193
C41: 기타 | D41: =197+44 -> 241 | E41: =67+140 -> 207 | F41: =251+64 -> 315 | G41: =274+99 -> 373 | H41: =153+103 -> 256 | I41: =76+137 -> 213 | J41: =263+75 -> 338 | K41: =71+92 -> 163 | L41: =128+163 -> 291 | M41: =131+60 -> 191 | N41: =77+289 -> 366 | O41: =37+83 -> 120 | P41: =SUM(D41:O41) -> 3074
C42: 소계 | D42: =SUM(D38:D41) -> 611 | E42: =SUM(E38:E41) -> 405 | F42: =SUM(F38:F41) -> 760 | G42: =SUM(G38:G41) -> 671 | H42: =SUM(H38:H41) -> 671 | I42: =SUM(I38:I41) -> 506 | J42: =SUM(J38:J41) -> 742 | K42: =SUM(K38:K41) -> 523 | ... O42: =SUM(O38:O41) -> 320 | P42: =SUM(D42:O42) -> 7469
B43: 개품화물 | D43: =524+164 -> 688 | E43: =132+51 -> 183 | F43: =457+182 -> 639 | G43: =153+83 -> 236 | H43: =193+78 -> 271 | I43: =188+115 -> 303 | J43: =90+73 -> 163 | K43: =226+72 -> 298 | L43: =77+230 -> 307 | M43: =63+37 -> 100 | N43: =200+150 -> 350 | O43: =61+103 -> 164 | P43: =SUM(D43:O43) -> 3702
B44: 계(b) | D44: =D37+D42+D43 -> 21229 | E44: =E37+E42+E43 -> 19242 | F44: =F37+F42+F43 -> 22991 | G44: =G37+G42+G43 -> 27784 | H44: =H37+H42+H43 -> 28416 | I44: =I37+I42+I43 -> 22450 | J44: =J37+J42+J43 -> 27326 | K44: =K37+K42+K43 -> 35739 | ... O44: =O37+O42+O43 -> 26955 | P44: =SUM(D44:O44) -> 323665
A45: 합 계(a+b) | D45: =SUM(D19,D44) -> 77697 | E45: =SUM(E19,E44) -> 69734 | F45: =SUM(F19,F44) -> 84774 | G45: =SUM(G19,G44) -> 87675 | H45: =SUM(H19,H44) -> 90968 | I45: =SUM(I19,I44) -> 73964 | J45: =SUM(J19,J44) -> 104539 | K45: =SUM(K19,K44) -> 90223 | ... O45: =SUM(O19,O44) -> 97451 | P45: =SUM(D45:O45) -> 1056447
A46: T/S(c) | D46: =31609+30988 -> 62597 | E46: =18311+21769 -> 40080 | F46: =27692+25705 -> 53397 | G46: =17621+25347 -> 42968 | H46: =21775+23250 -> 45025 | I46: =17224+20520 -> 37744 | J46: =28934+27481 -> 56415 | K46: =27422+20782 -> 48204 | L46: =22419+19461 -> 41880 | M46: =16115+24262 -> 40377 | N46: =20498+21753 -> 42251 | O46: =22386+23415 -> 45801 | P46: =SUM(D46:O46) -> 556739
A47: 기타 | D47: =1113+1107 -> 2220 | E47: =436+475 -> 911 | F47: =1304+198 -> 1502 | G47: =798+1159 -> 1957 | H47: =1164+319 -> 1483 | I47: =53+667 -> 720 | J47: =2264+1103 -> 3367 | K47: =1422+572 -> 1994 | L47: =1098+977 -> 2075 | M47: 285 | N47: =392+995 -> 1387 | O47: 4703 | P47: =SUM(D47:O47) -> 22604
A48: 총 계(a+b+c) | D48: =D45+D46+D47 -> 142514 | E48: =E45+E46+E47 -> 110725 | F48: =F45+F46+F47 -> 139673 | G48: =G45+G46+G47 -> 132600 | H48: =H45+H46+H47 -> 137476 | I48: =I45+I46+I47 -> 112428 | J48: =J45+J46+J47 -> 164321 | K48: =K45+K46+K47 -> 140421 | ... O48: =O45+O46+O47 -> 147955 | P48: =SUM(D48:O48) -> 1635790

Sheet 2023
A1: 2023년 자동차 선적현황
A2: 구 분 | D2: 1월 | E2: 2월 | F2: 3월 | G2: 4월 | H2: 5월 | I2: 6월 | J2: 7월 | K2: 8월 | L2: 9월 | M2: 10월 | N2: 11월 | O2: 12월 | P2: 합 계
A3: 수 출 차 | B3: 승 용 | C3: 기아 | D3: 49805 | E3: 56069 | F3: 61943 | G3: =395+57002 -> 57397 | H3: 60009 | I3: =53801+1 -> 53802 | J3: =55052+1 -> 55053 | K3: 44293 | L3: 42903 | M3: 40703 | N3: 55916 | O3: 55735 | P3: =SUM(D3:O3) -> 633628
C4: 현대 | D4: 7839 | E4: =3212+6369 -> 9581 | F4: =7141+3692 -> 10833 | G4: =5378+4898 -> 10276 | H4: =4426+3421+404 -> 8251 | I4: =3818+404+4997 -> 9219 | J4: =3097+2778+4273 -> 10148 | K4: =1970+1818+2800 -> 6588 | L4: 7808 | M4: 9628 | N4: 11799 | O4: 9763 | P4: =SUM(D4:O4) -> 111733
C5: 쌍용 | D5: 1682 | E5: =166+1231 -> 1397 | F5: =1500+66 -> 1566 | G5: 1188 | H5: =1782+62 -> 1844 | I5: =82+1805 -> 1887 | J5: 2301 | K5: 1462 | L5: 2060 | M5: 1665 | N5: 764 | O5: 391 | P5: =SUM(D5:O5) -> 18207
C6: GM KOREA | D6: 0 | E6: 0 | F6: 0 | G6: 0 | H6: 0 | I6: 0 | J6: 0 | K6: 0 | L6: - | M6: 0 | N6: 0 | O6: 0 | P6: =SUM(D6:O6) -> 0
C7: 르노삼성 | D7: 0 | E7: 0 | F7: 0 | G7: 0 | H7: 50 | I7: 0 | J7: 0 | K7: 0 | L7: - | M7: 0 | N7: 0 | O7: 0 | P7: =SUM(D7:O7) -> 50
C8: 기타 | D8: 128 | E8: 0 | F8: =257+173 -> 430 | G8: 31 | H8: =342+32 -> 374 | I8: =1+229 -> 230 | J8: 28 | K8: 78 | L8: 36 | M8: 161 | N8: 211 | O8: 138 | P8: =SUM(D8:O8) -> 1845
C9: 소 계 | D9: =SUM(D3:D8) -> 59454 | E9: =SUM(E3:E8) -> 67047 | F9: =SUM(F3:F8) -> 74772 | G9: =SUM(G3:G8) -> 68892 | H9: =SUM(H3:H8) -> 70528 | I9: =SUM(I3:I8) -> 65138 | J9: =SUM(J3:J8) -> 67530 | K9: =SUM(K3:K8) -> 52421 | ... O9: =SUM(O3:O8) -> 66027 | P9: =SUM(D9:O9) -> 765463
B10: 상 용 | C10: 두산 | D10: 27 | E10: =3+69 -> 72 | F10: 164 | G10: 4 | H10: =98+22 -> 120 | I10: =10+134 -> 144 | J10: =3+28 -> 31 | K10: =93+8 -> 101 | L10: 45 | M10: 34 | N10: 93 | O10: 19 | P10: =SUM(D10:O10) -> 854
C11: 현대 | D11: 18 | E11: =17+10 -> 27 | F11: 1 | G11: 0 | H11: =3+3 -> 6 | I11: 17 | J11: =62+1 -> 63 | K11: =4+24 -> 28 | L11: 64 | M11: 4 | N11: 0 | O11: 59 | P11: =SUM(D11:O11) -> 287
C12: 타타대우 | D12: 85 | E12: 25 | F12: 31 | G12: 28 | H12: 10 | I12: 100 | J12: 30 | K12: 55 | L12: 61 | M12: 0 | N12: 13 | O12: 20 | P12: =SUM(D12:O12) -> 458
C13: 중고중장비 | D13: 114 | E13: 229 | F13: 110 | G13: 79 | H13: 153 | I13: 201 | J13: 354 | K13: 140 | L13: 102 | M13: 70 | N13: 77 | O13: 42 | P13: =SUM(D13:O13) -> 1671
C14: 신중장비 | D14: 100 | E14: 46 | F14: 67 | G14: 101 | H14: 34 | I14: 15 | J14: 72 | K14: 12 | L14: 40 | M14: 76 | N14: 10 | O14: 61 | P14: =SUM(D14:O14) -> 634
C15: 기타 | D15: 0 | E15: =4+16 -> 20 | F15: 2 | G15: 5 | H15: 0 | I15: 0 | J15: 0 | K15: 0 | L15: - | M15: 0 | N15: 0 | O15: 0 | P15: =SUM(D15:O15) -> 27
C16: 소 계 | D16: =SUM(D10:D15) -> 344 | E16: =SUM(E10:E15) -> 419 | F16: =SUM(F10:F15) -> 375 | G16: =SUM(G10:G15) -> 217 | H16: =SUM(H10:H15) -> 323 | I16: =SUM(I10:I15) -> 477 | J16: =SUM(J10:J15) -> 550 | K16: =SUM(K10:K15) -> 336 | ... O16: =SUM(O10:O15) -> 201 | P16: =SUM(D16:O16) -> 3931
B17: 중 고 차 | D17: 1602 | E17: =5+1062 -> 1067 | F17: =927+2 -> 929 | G17: =3+916 -> 919 | H17: =1477+188 -> 1665 | I17: 1962 | J17: 1419 | K17: 1353 | L17: 1153 | M17: 297 | N17: 668 | O17: 590 | P17: =SUM(D17:O17) -> 13624
B18: 개품화물 | D18: 28 | E18: =7+28 -> 35 | F18: 105 | G18: =1+151 -> 152 | H18: 209 | I18: 121 | J18: 69 | K18: 62 | L18: 86 | M18: 67 | N18: 106 | O18: 61 | P18: =SUM(D18:O18) -> 1101
B19: 계(a) | D19: =D9+D18+D16+D17 -> 61428 | E19: =E9+E18+E16+E17 -> 68568 | F19: =F9+F18+F16+F17 -> 76181 | G19: =G9+G18+G16+G17 -> 70180 | H19: =H9+H18+H16+H17 -> 72725 | I19: =I9+I18+I16+I17 -> 67698 | J19: =J9+J18+J16+J17 -> 69568 | K19: =K9+K18+K16+K17 -> 54172 | ... O19: =O9+O18+O16+O17 -> 66879 | P19: =SUM(D19:O19) -> 784119 | R19: =SUM(D19:M19) -> 647583
A20: 수 입 차 | B20: 승 용 | C20: BMW | D20: 6630 | E20: =5076+2169 -> 7245 | F20: =2935+4190 -> 7125 | G20: =9237+2138 -> 11375 | H20: =1469+7370 -> 8839 | I20: =4651+899 -> 5550 | J20: =4066+3846 -> 7912 | K20: =1761+1804 -> 3565 | L20: 6347 | M20: 4391 | N20: 11025 | O20: 5877 | P20: =SUM(D20:O20) -> 85881
C21: 벤츠 | D21: 9876 | E21: 3348 | F21: =8393+378 -> 8771 | G21: =123+7415 -> 7538 | H21: =7779+584 -> 8363 | I21: 7148 | J21: =549+5542 -> 6091 | K21: =5285+50 -> 5335 | L21: 5877 | M21: 9064 | N21: 4743 | O21: 4840 | P21: =SUM(D21:O21) -> 80994
C22: 아우디 | D22: 3155 | E22: 1730 | F22: =2004+281 -> 2285 | G22: =117+1806 -> 1923 | H22: =2905+305 -> 3210 | I22: 2416 | J22: =263+2171 -> 2434 | K22: =1523+216 -> 1739 | L22: 17 | M22: 1051 | N22: 111 | O22: 1437 | P22: =SUM(D22:O22) -> 21508
C23: 폭스바겐 | D23: 3297 | E23: 965 | F23: =653+625 -> 1278 | G23: =44+751 -> 795 | H23: =1563+358 -> 1921 | I23: 1040 | J23: =1087+195 -> 1282 | K23: =321+95 -> 416 | L23: 18 | M23: 1199 | N23: 3 | O23: 575 | P23: =SUM(D23:O23) -> 12789
C24: 포드 | D24: 459 | E24: 85 | F24: =60+1290 -> 1350 | G24: =728+40 -> 768 | H24: =119+374 -> 493 | I24: =146+160 -> 306 | J24: =179+103 -> 282 | K24: =8+497 -> 505 | L24: 15 | M24: 226 | N24: 830 | O24: 350 | P24: =SUM(D24:O24) -> 5669
C25: 재규어 | D25: 14 | E25: 0 | F25: 2 | G25: 0 | H25: 0 | I25: 0 | J25: 0 | K25: 0 | L25: 0 | M25: 0 | N25: 0 | O25: 0 | P25: =SUM(D25:O25) -> 16
C26: 랜드로버 | D26: 1077 | E26: 258 | F26: 771 | G26: 407 | H26: 461 | I26: 471 | J26: 171 | K26: 97 | L26: 253 | M26: 104 | N26: 202 | O26: 191 | P26: =SUM(D26:O26) -> 4463
C27: 닛산 | D27: 0 | E27: 0 | F27: 0 | G27: 0 | H27: 0 | I27: 0 | J27: 0 | K27: 0 | L27: 0 | M27: 0 | N27: 0 | O27: 0 | P27: =SUM(D27:O27) -> 0
C28: 포르쉐 | D28: 2296 | E28: 741 | F28: 1348 | G28: 466 | H28: 1361 | I28: 1030 | J28: 1331 | K28: 1011 | L28: 200 | M28: 817 | N28: 338 | O28: 1066 | P28: =SUM(D28:O28) -> 12005
C29: 볼보 | D29: 1733 | E29: 978 | F29: 3351 | G29: 1079 | H29: 1637 | I29: 2670 | J29: 1147 | K29: 1061 | L29: 1055 | M29: 1212 | N29: 2269 | O29: 837 | P29: =SUM(D29:O29) -> 19029
C30: 도요타&렉서스 | D30: 1240 | E30: =286+3310 -> 3596 | F30: =1886+281 -> 2167 | G30: =200+1926 -> 2126 | H30: =1383+335 -> 1718 | I30: =152+1460 -> 1612 | J30: =176+1363 -> 1539 | K30: =1088+175 -> 1263 | L30: 1628 | M30: 1884 | N30: 1682 | O30: 2449 | P30: =SUM(D30:O30) -> 22904
C31: 크라이슬러 | D31: 1309 | E31: 0 | F31: 728 | G31: 113 | H31: 61 | I31: 0 | J31: 0 | K31: 0 | L31: 0 | M31: 135 | N31: 329 | O31: 17 | P31: =SUM(D31:O31) -> 2692
C32: 푸조 | D32: 163 | E32: 49 | F32: 165 | G32: 386 | H32: 313 | I32: 187 | J32: 396 | K32: 32 | L32: 203 | M32: 107 | N32: 46 | O32: 232 | P32: =SUM(D32:O32) -> 2279
C33: 캐딜락 | D33: 138 | E33: 76 | F33: 13 | G33: 172 | H33: 107 | I33: 110 | J33: 66 | K33: 43 | L33: - | M33: 61 | N33: 114 | O33: 34 | P33: =SUM(D33:O33) -> 934
C34: 혼다 | D34: 73 | E34: 0 | F34: 0 | G34: 72 | H34: 71 | I34: 110 | J34: 145 | K34: 141 | L34: 254 | M34: 470 | N34: 195 | O34: 582 | P34: =SUM(D34:O34) -> 2113
C35: 미쓰비씨 | D35: 0 | E35: 0 | F35: 0 | G35: 0 | H35: 0 | I35: 0 | J35: 0 | K35: 0 | L35: 0 | M35: 0 | N35: 0 | O35: 0 | P35: =SUM(D35:O35) -> 0
C36: 기타 | D36: 799 | E36: =1998+233 -> 2231 | F36: =243+685 -> 928 | G36: =919+447 -> 1366 | H36: =591+1260 -> 1851 | I36: =669+480 -> 1149 | J36: =338+451 -> 789 | K36: =254+4130 -> 4384 | L36: 3520 | M36: 5461 | N36: 1069 | O36: 263 | P36: =SUM(D36:O36) -> 23810
C37: 소계 | D37: =SUM(D20:D36) -> 32259 | E37: =SUM(E20:E36) -> 21302 | F37: =SUM(F20:F36) -> 30282 | G37: =SUM(G20:G36) -> 28586 | H37: =SUM(H20:H36) -> 30406 | I37: =SUM(I20:I36) -> 23799 | J37: =SUM(J20:J36) -> 23585 | K37: =SUM(K20:K36) -> 19592 | ... O37: =SUM(O20:O36) -> 18750 | P37: =SUM(D37:O37) -> 297086
B38: 상 용 | C38: 벤츠트럭 | D38: 221 | E38: 69 | F38: 197 | G38: 126 | H38: 112 | I38: 84 | J38: 60 | K38: 100 | L38: 53 | M38: 85 | N38: 15 | O38: 120 | P38: =SUM(D38:O38) -> 1242
C39: 만트럭 | D39: 151 | E39: 0 | F39: 19 | G39: 50 | H39: 34 | I39: 33 | J39: 16 | K39: 23 | L39: 42 | M39: 140 | N39: 53 | O39: 237 | P39: =SUM(D39:O39) -> 798
C40: 볼보트럭 | D40: 254 | E40: 33 | F40: 345 | G40: 56 | H40: 53 | I40: 200 | J40: 55 | K40: 98 | L40: 148 | M40: 151 | N40: 95 | O40: 324 | P40: =SUM(D40:O40) -> 1812
C41: 기타 | D41: 368 | E41: =101+41 -> 142 | F41: =91+39 -> 130 | G41: =43+161 -> 204 | H41: =117+52 -> 169 | I41: =30+542 -> 572 | J41: =13+238 -> 251 | K41: =406+40 -> 446 | L41: 201 | M41: 391 | N41: 237 | O41: 163 | P41: =SUM(D41:O41) -> 3274
C42: 소계 | D42: =SUM(D38:D41) -> 994 | E42: =SUM(E38:E41) -> 244 | F42: =SUM(F38:F41) -> 691 | G42: =SUM(G38:G41) -> 436 | H42: =SUM(H38:H41) -> 368 | I42: =SUM(I38:I41) -> 889 | J42: =SUM(J38:J41) -> 382 | K42: =SUM(K38:K41) -> 667 | ... O42: =SUM(O38:O41) -> 844 | P42: =SUM(D42:O42) -> 7126
B43: 개품화물 | D43: 391 | E43: =127+158 -> 285 | F43: =110+199 -> 309 | G43: =146+154 -> 300 | H43: =332+74 -> 406 | I43: =59+293 -> 352 | J43: =97+99 -> 196 | K43: =231+77 -> 308 | L43: 92 | M43: 148 | N43: 165 | O43: 101 | P43: =SUM(D43:O43) -> 3053
B44: 계(b) | D44: =D37+D42+D43 -> 33644 | E44: =E37+E42+E43 -> 21831 | F44: =F37+F42+F43 -> 31282 | G44: =G37+G42+G43 -> 29322 | H44: =H37+H42+H43 -> 31180 | I44: =I37+I42+I43 -> 25040 | J44: =J37+J42+J43 -> 24163 | K44: =K37+K42+K43 -> 20567 | ... O44: =O37+O42+O43 -> 19695 | P44: =SUM(D44:O44) -> 307265
A45: 합 계(a+b) | D45: =SUM(D19,D44) -> 95072 | E45: =SUM(E19,E44) -> 90399 | F45: =SUM(F19,F44) -> 107463 | G45: =SUM(G19,G44) -> 99502 | H45: =SUM(H19,H44) -> 103905 | I45: =SUM(I19,I44) -> 92738 | J45: =SUM(J19,J44) -> 93731 | K45: =SUM(K19,K44) -> 74739 | ... O45: =SUM(O19,O44) -> 86574 | P45: =SUM(D45:O45) -> 1091384
A46: T/S(c) | D46: 55944 | E46: =23668+19033 -> 42701 | F46: =32122+28872 -> 60994 | G46: =19476+23704 -> 43180 | H46: =21391+22469 -> 43860 | I46: =17251+16635 -> 33886 | J46: =21940+25901 -> 47841 | K46: =14163+14816 -> 28979 | L46: 31712 | M46: 24429 | N46: 42711 | O46: 50852 | P46: =SUM(D46:O46) -> 507089
A47: 기타 | D47: 1937 | E47: =93+505 -> 598 | F47: =823+797 -> 1620 | G47: =1313+1181 -> 2494 | H47: =568+1001 -> 1569 | I47: =746+706 -> 1452 | J47: =599+728 -> 1327 | K47: =1240+50 -> 1290 | L47: 1720 | M47: 986 | N47: 2075 | O47: 1017 | P47: =SUM(D47:O47) -> 18085
A48: 총 계(a+b+c) | D48: =D45+D46+D47 -> 152953 | E48: =E45+E46+E47 -> 133698 | F48: =F45+F46+F47 -> 170077 | G48: =G45+G46+G47 -> 145176 | H48: =H45+H46+H47 -> 149334 | I48: =I45+I46+I47 -> 128076 | J48: =J45+J46+J47 -> 142899 | K48: =K45+K46+K47 -> 105008 | ... O48: =O45+O46+O47 -> 138443 | P48: =SUM(D48:O48) -> 1616558

Sheet 2024
A1: 2024년 자동차 선적현황
A2: 구 분 | D2: 1월 | E2: 2월 | F2: 3월 | G2: 4월 | H2: 5월 | I2: 6월 | J2: 7월 | K2: 8월 | L2: 9월 | M2: 10월 | N2: 11월 | O2: 12월 | P2: 합 계
A3: 수 출 차 | B3: 승 용 | C3: 기아 | D3: 49708 | E3: 46381 | F3: 52742 | G3: 57478 | H3: 57044 | P3: =SUM(D3:O3) -> 263353
C4: 현대 | D4: =1427+381+1198 -> 3006 | E4: =1248+3131+33 -> 4412 | F4: 12155 | G4: 13275 | H4: 13708 | P4: =SUM(D4:O4) -> 46556
C5: 쌍용 | D5: =1+1097 -> 1098 | E5: =174+2284 -> 2458 | F5: 1730 | G5: 2206 | H5: 2033 | P5: =SUM(D5:O5) -> 9525
C6: GM KOREA | D6: 0 | E6: 14 | F6: =J6+N6+R6 -> 0 | G6: =K6+O6+S6 -> 0 | H6: 0 | P6: =SUM(D6:O6) -> 14
C7: 르노삼성 | D7: 0 | E7: 0 | F7: =J7+N7+R7 -> 0 | G7: =K7+O7+S7 -> 0 | H7: 0 | P7: =SUM(D7:O7) -> 0
C8: 기타 | D8: =682+231 -> 913 | E8: =4+189 -> 193 | F8: 200 | G8: 85 | H8: 90 | P8: =SUM(D8:O8) -> 1481
C9: 소 계 | D9: =SUM(D3:D8) -> 54725 | E9: =SUM(E3:E8) -> 53458 | F9: =SUM(F3:F8) -> 66827 | G9: =SUM(G3:G8) -> 73044 | H9: =SUM(H3:H8) -> 72875 | I9: =SUM(I3:I8) -> 0 | J9: =SUM(J3:J8) -> 0 | K9: =SUM(K3:K8) -> 0 | ... O9: =SUM(O3:O8) -> 0 | P9: =SUM(D9:O9) -> 320929
B10: 상 용 | C10: 두산 | D10: 82 | E10: =95+3 -> 98 | F10: =0+33 -> 33 | G10: 50 | H10: 46 | P10: =SUM(D10:O10) -> 309
C11: 현대 | D11: =29+2 -> 31 | E11: =73+0 -> 73 | F11: =7+22 -> 29 | G11: 56 | H11: 40 | P11: =SUM(D11:O11) -> 229
C12: 타타대우 | D12: 0 | E12: 0 | F12: =2+5 -> 7 | G12: =K12+O12+S12 -> 0 | H12: 0 | P12: =SUM(D12:O12) -> 7
C13: 중고중장비 | D13: 28 | E13: 150 | F13: =0+113 -> 113 | G13: 189 | H13: 0 | P13: =SUM(D13:O13) -> 480
C14: 신중장비 | D14: 3 | E14: 59 | F14: =0+56 -> 56 | G14: 15 | H14: 25 | P14: =SUM(D14:O14) -> 158
C15: 기타 | D15: 0 | E15: 0 | G15: =K15+O15+S15 -> 0 | H15: 117 | P15: =SUM(D15:O15) -> 117
C16: 소 계 | D16: =SUM(D10:D15) -> 144 | E16: =SUM(E10:E15) -> 380 | F16: =SUM(F10:F15) -> 238 | G16: =SUM(G10:G15) -> 310 | H16: =SUM(H10:H15) -> 228 | I16: =SUM(I10:I15) -> 0 | J16: =SUM(J10:J15) -> 0 | K16: =SUM(K10:K15) -> 0 | ... O16: =SUM(O10:O15) -> 0 | P16: =SUM(D16:O16) -> 1300
B17: 중 고 차 | D17: =121+52 -> 173 | E17: =0+850 -> 850 | F17: =1+471 -> 472 | G17: 221 | H17: 430 | P17: =SUM(D17:O17) -> 2146
B18: 개품화물 | D18: 52 | E18: =71+2 -> 73 | F18: =33+73 -> 106 | G18: 17 | H18: 60 | P18: =SUM(D18:O18) -> 308
B19: 계(a) | D19: =D9+D18+D16+D17 -> 55094 | E19: =E9+E18+E16+E17 -> 54761 | F19: =F9+F18+F16+F17 -> 67643 | G19: =G9+G18+G16+G17 -> 73592 | H19: =H9+H18+H16+H17 -> 73593 | I19: =I9+I18+I16+I17 -> 0 | J19: =J9+J18+J16+J17 -> 0 | K19: =K9+K18+K16+K17 -> 0 | ... O19: =O9+O18+O16+O17 -> 0 | P19: =SUM(D19:O19) -> 324683 | R19: =SUM(D19:M19) -> 324683
A20: 수 입 차 | B20: 승 용 | C20: BMW | D20: =4342+2419 -> 6761 | E20: =1034+4831 -> 5865 | F20: =6989+3192 -> 10181 | G20: 7542 | H20: 11009 | P20: =SUM(D20:O20) -> 41358
C21: 벤츠 | D21: =68+4842 -> 4910 | E21: =141+2120 -> 2261 | F21: =122+5707 -> 5829 | G21: 7000 | H21: 5532 | P21: =SUM(D21:O21) -> 25532
C22: 아우디 | D22: =167+326 -> 493 | E22: =56+143 -> 199 | F22: =0+8 -> 8 | G22: 165 | H22: 26 | P22: =SUM(D22:O22) -> 891
C23: 폭스바겐 | D23: =768+160 -> 928 | E23: =83+247 -> 330 | F23: =106+106 -> 212 | G23: 258 | H23: 127 | P23: =SUM(D23:O23) -> 1855
C24: 포드 | D24: 305 | E24: =63+292 -> 355 | F24: =33+55 -> 88 | G24: 375 | H24: 196 | P24: =SUM(D24:O24) -> 1319
C25: 재규어 | D25: 0 | E25: =0+0 -> 0 | F25: =0+0 -> 0 | G25: =K25+O25+S25 -> 0 | H25: 0 | P25: =SUM(D25:O25) -> 0
C26: 랜드로버 | D26: 268 | E26: =0+355 -> 355 | F26: =0+359 -> 359 | G26: 563 | H26: 176 | P26: =SUM(D26:O26) -> 1721
C27: 닛산 | D27: 0 | E27: 0 | F27: =0+0 -> 0 | G27: =K27+O27+S27 -> 0 | H27: 0 | P27: =SUM(D27:O27) -> 0
C28: 포르쉐 | D28: 855 | E28: =0+740 -> 740 | F28: =0+712 -> 712 | G28: 360 | H28: 342 | P28: =SUM(D28:O28) -> 3009
C29: 볼보 | D29: 255 | E29: 1094 | F29: =0+1549 -> 1549 | G29: 2489 | H29: 1007 | P29: =SUM(D29:O29) -> 6394
C30: 도요타&렉서스 | D30: 1239 | E30: =14+1791 -> 1805 | F30: =0+2086 -> 2086 | G30: 1926 | H30: 1134 | P30: =SUM(D30:O30) -> 8190
C31: 크라이슬러 | D31: 114 | E31: 346 | F31: =0+526 -> 526 | G31: 24 | H31: 0 | P31: =SUM(D31:O31) -> 1010
C32: 푸조 | D32: 7 | E32: 0 | F32: =0+372 -> 372 | G32: =K32+O32+S32 -> 0 | H32: 0 | P32: =SUM(D32:O32) -> 379
C33: 캐딜락 | D33: 21 | E33: 3 | F33: =27+0 -> 27 | G33: 30 | H33: 85 | P33: =SUM(D33:O33) -> 166
C34: 혼다 | D34: 190 | E34: =362+177 -> 539 | F34: =286+0 -> 286 | G34: 355 | H34: 11 | P34: =SUM(D34:O34) -> 1381
C35: 미쓰비씨 | D35: 0 | E35: 0 | F35: =0+0 -> 0 | G35: =K35+O35+S35 -> 0 | H35: 0 | P35: =SUM(D35:O35) -> 0
C36: 기타 | D36: =165+20 -> 185 | E36: =5696+124 -> 5820 | F36: =788+2968 -> 3756 | G36: 5583 | H36: 7500 | P36: =SUM(D36:O36) -> 22844
C37: 소계 | D37: =SUM(D20:D36) -> 16531 | E37: =SUM(E20:E36) -> 19712 | F37: =SUM(F20:F36) -> 25991 | G37: =SUM(G20:G36) -> 26670 | H37: =SUM(H20:H36) -> 27145 | I37: =SUM(I20:I36) -> 0 | J37: =SUM(J20:J36) -> 0 | K37: =SUM(K20:K36) -> 0 | ... O37: =SUM(O20:O36) -> 0 | P37: =SUM(D37:O37) -> 116049
B38: 상 용 | C38: 벤츠트럭 | D38: 57 | E38: 26 | F38: =0+118 -> 118 | G38: 79 | H38: 171 | P38: =SUM(D38:O38) -> 451
C39: 만트럭 | D39: 45 | E39: 44 | F39: =0+97 -> 97 | G39: 180 | H39: 20 | P39: =SUM(D39:O39) -> 386
C40: 볼보트럭 | D40: 2 | E40: 204 | F40: =0+272 -> 272 | G40: 161 | H40: 84 | P40: =SUM(D40:O40) -> 723
C41: 기타 | D41: =29+152 -> 181 | E41: =44+406 -> 450 | F41: =1+281 -> 282 | G41: 434 | H41: 254 | P41: =SUM(D41:O41) -> 1601
C42: 소계 | D42: =SUM(D38:D41) -> 285 | E42: =SUM(E38:E41) -> 724 | F42: =SUM(F38:F41) -> 769 | G42: =SUM(G38:G41) -> 854 | H42: =SUM(H38:H41) -> 529 | I42: =SUM(I38:I41) -> 0 | J42: =SUM(J38:J41) -> 0 | K42: =SUM(K38:K41) -> 0 | ... O42: =SUM(O38:O41) -> 0 | P42: =SUM(D42:O42) -> 3161
B43: 개품화물 | D43: =86+54 -> 140 | E43: =2+55 -> 57 | F43: =132+163 -> 295 | G43: 160 | H43: 140 | P43: =SUM(D43:O43) -> 792
B44: 계(b) | D44: =D37+D42+D43 -> 16956 | E44: =E37+E42+E43 -> 20493 | F44: =F37+F42+F43 -> 27055 | G44: =G37+G42+G43 -> 27684 | H44: =H37+H42+H43 -> 27814 | I44: =I37+I42+I43 -> 0 | J44: =J37+J42+J43 -> 0 | K44: =K37+K42+K43 -> 0 | ... O44: =O37+O42+O43 -> 0 | P44: =SUM(D44:O44) -> 120002
A45: 합 계(a+b) | D45: =SUM(D19,D44) -> 72050 | E45: =SUM(E19,E44) -> 75254 | F45: =SUM(F19,F44) -> 94698 | G45: =SUM(G19,G44) -> 101276 | H45: =SUM(H19,H44) -> 101407 | I45: =SUM(I19,I44) -> 0 | J45: =SUM(J19,J44) -> 0 | K45: =SUM(K19,K44) -> 0 | ... O45: =SUM(O19,O44) -> 0 | P45: =SUM(D45:O45) -> 444685
A46: T/S(c) | D46: =26943+27980 -> 54923 | E46: =21917+21948 -> 43865 | F46: =25680+20872 -> 46552 | G46: 38608 | H46: 40145 | P46: =SUM(D46:O46) -> 224093
A47: 기타 | D47: =1018+199 -> 1217 | E47: =67+293 -> 360 | F47: =149+564 -> 713 | G47: 440 | H47: 718 | P47: =SUM(D47:O47) -> 3448
A48: 총 계(a+b+c) | D48: =D45+D46+D47 -> 128190 | E48: =E45+E46+E47 -> 119479 | F48: =F45+F46+F47 -> 141963 | G48: =G45+G46+G47 -> 140324 | H48: =H45+H46+H47 -> 142270 | I48: =I45+I46+I47 -> 0 | J48: =J45+J46+J47 -> 0 | K48: =K45+K46+K47 -> 0 | ... O48: =O45+O46+O47 -> 0 | P48: =SUM(D48:O48) -> 672226

Sheet 2024 (2)
A1: 2024년 자동차 선적현황
A2: 구 분 | D2: 1월 | E2: 2월 | F2: 3월 | G2: 4월 | H2: 5월 | I2: 6월 | J2: 7월 | K2: 8월 | L2: 9월 | M2: 10월 | N2: 11월 | O2: 12월 | P2: 합 계
A3: 수 출 차 | B3: 승 용 | C3: 기아 | D3: 49708 | E3: 46381 | F3: 52742 | G3: 57478 | H3: 57044 | I3: 58984 | J3: 53765 | K3: 46632 | L3: 50126 | M3: 58831 | N3: 50425 | O3: 58048 | P3: =SUM(D3:O3) -> 640164
C4: 현대 | D4: =1427+381+1198 -> 3006 | E4: =1248+3131+33 -> 4412 | F4: 12155 | G4: 13275 | H4: 13708 | I4: 13599 | J4: 11772 | K4: 9126 | L4: 10665 | M4: =2613+4548+1172 -> 8333 | N4: 6886 | O4: 10154 | P4: =SUM(D4:O4) -> 117091
C5: 쌍용 | D5: =1+1097 -> 1098 | E5: =174+2284 -> 2458 | F5: 1730 | G5: 2206 | H5: 2033 | I5: 2565 | J5: 2098 | K5: 1481 | L5: 836 | M5: 659 | N5: 1339 | O5: 1389 | P5: =SUM(D5:O5) -> 19892
C6: GM KOREA | D6: 0 | E6: 14 | F6: =J6+N6+R6 -> 0 | G6: =K6+O6+S6 -> 0 | H6: 0 | I6: 0 | J6: 0 | K6: 0 | L6: 0 | M6: 0 | N6: 0 | O6: 0 | P6: =SUM(D6:O6) -> 14
C7: 르노삼성 | D7: 0 | E7: 0 | F7: =J7+N7+R7 -> 50 | G7: =K7+O7+S7 -> 24 | H7: 0 | I7: 9 | J7: 0 | K7: 0 | L7: 0 | M7: 0 | N7: 50 | O7: 24 | P7: =SUM(D7:O7) -> 157
C8: 기타 | D8: =682+231 -> 913 | E8: =4+189 -> 193 | F8: 200 | G8: 85 | H8: 90 | I8: 394 | J8: 72 | K8: =2+112 -> 114 | L8: 92 | M8: =67+1 -> 68 | N8: 39 | O8: 253 | P8: =SUM(D8:O8) -> 2513
C9: 소 계 | D9: =SUM(D3:D8) -> 54725 | E9: =SUM(E3:E8) -> 53458 | F9: =SUM(F3:F8) -> 66877 | G9: =SUM(G3:G8) -> 73068 | H9: =SUM(H3:H8) -> 72875 | I9: =SUM(I3:I8) -> 75551 | J9: =SUM(J3:J8) -> 67707 | K9: =SUM(K3:K8) -> 57353 | L9: 61719 | M9: =SUM(M3:M8) -> 67891 | N9: =SUM(N3:N8) -> 58739 | O9: =SUM(O3:O8) -> 69868 | P9: =SUM(D9:O9) -> 779831
B10: 상 용 | C10: 두산 | D10: 82 | E10: =95+3 -> 98 | F10: =0+33 -> 33 | G10: 50 | H10: 46 | I10: 41 | J10: 22 | K10: 2 | L10: 95 | M10: =3+18 -> 21 | N10: 40 | O10: 97 | P10: =SUM(D10:O10) -> 627
C11: 현대 | D11: =29+2 -> 31 | E11: =73+0 -> 73 | F11: =7+22 -> 29 | G11: 56 | H11: 40 | I11: 0 | J11: 33 | K11: =4+7 -> 11 | L11: 42 | M11: 2 | N11: 9 | O11: 30 | P11: =SUM(D11:O11) -> 356
C12: 타타대우 | D12: 0 | E12: 0 | F12: =2+5 -> 7 | G12: =K12+O12+S12 -> 42 | H12: 0 | I12: 0 | J12: 0 | K12: 2 | L12: 0 | M12: 2 | N12: 0 | O12: 40 | P12: =SUM(D12:O12) -> 93
C13: 중고중장비 | D13: 28 | E13: 150 | F13: =0+113 -> 113 | G13: 189 | H13: 0 | I13: 82 | J13: 272 | K13: 82 | L13: 251 | M13: 260 | N13: 126 | O13: 83 | P13: =SUM(D13:O13) -> 1636
C14: 신중장비 | D14: 3 | E14: 59 | F14: =0+56 -> 56 | G14: 15 | H14: 25 | I14: 44 | J14: 36 | K14: 65 | L14: 69 | M14: =24+2 -> 26 | N14: 11 | O14: 52 | P14: =SUM(D14:O14) -> 461
C15: 기타 | D15: 0 | E15: 0 | G15: =K15+O15+S15 -> 0 | H15: 117 | I15: 0 | J15: 0 | K15: 0 | L15: 0 | M15: 0 | N15: 0 | O15: 0 | P15: =SUM(D15:O15) -> 117
C16: 소 계 | D16: =SUM(D10:D15) -> 144 | E16: =SUM(E10:E15) -> 380 | F16: =SUM(F10:F15) -> 238 | G16: =SUM(G10:G15) -> 352 | H16: =SUM(H10:H15) -> 228 | I16: =SUM(I10:I15) -> 167 | J16: =SUM(J10:J15) -> 363 | K16: =SUM(K10:K15) -> 162 | L16: 457 | M16: =SUM(M10:M15) -> 311 | N16: =SUM(N10:N15) -> 186 | O16: =SUM(O10:O15) -> 302 | P16: =SUM(D16:O16) -> 3290
B17: 중 고 차 | D17: =121+52 -> 173 | E17: =0+850 -> 850 | F17: =1+471 -> 472 | G17: 221 | H17: 430 | I17: 651 | J17: 1184 | K17: 743 | L17: 1434 | M17: =978+228 -> 1206 | N17: 954 | O17: 1053 | P17: =SUM(D17:O17) -> 9371
B18: 개품화물 | D18: 52 | E18: =71+2 -> 73 | F18: =33+73 -> 106 | G18: 17 | H18: 60 | I18: 34 | J18: 44 | K18: 59 | L18: 127 | M18: =13+2 -> 15 | N18: 75 | O18: 33 | P18: =SUM(D18:O18) -> 695
B19: 계(a) | D19: =D9+D18+D16+D17 -> 55094 | E19: =E9+E18+E16+E17 -> 54761 | F19: =F9+F18+F16+F17 -> 67693 | G19: =G9+G18+G16+G17 -> 73658 | H19: =H9+H18+H16+H17 -> 73593 | I19: =I9+I18+I16+I17 -> 76403 | J19: =J9+J18+J16+J17 -> 69298 | K19: =K9+K18+K16+K17 -> 58317 | L19: 63737 | M19: =M9+M18+M16+M17 -> 69423 | N19: =N9+N18+N16+N17 -> 59954 | O19: =O9+O18+O16+O17 -> 71256 | P19: =SUM(D19:O19) -> 793187 | R19: =SUM(D19:M19) -> 661977
A20: 수 입 차 | B20: 승 용 | C20: BMW | D20: =4342+2419 -> 6761 | E20: =1034+4831 -> 5865 | F20: =6989+3192 -> 10181 | G20: 7542 | H20: 11009 | I20: 9408 | J20: 8049 | K20: =6238+1257 -> 7495 | L20: 6824 | M20: =5070+536 -> 5606 | N20: 4965 | O20: 6018 | P20: =SUM(D20:O20) -> 89723
C21: 벤츠 | D21: =68+4842 -> 4910 | E21: =141+2120 -> 2261 | F21: =122+5707 -> 5829 | G21: 7000 | H21: 5532 | I21: 8811 | J21: 7287 | K21: =956+5466 -> 6422 | L21: 5800 | M21: =7794+222 -> 8016 | N21: 5817 | O21: 6490 | P21: =SUM(D21:O21) -> 74175
C22: 아우디 | D22: =167+326 -> 493 | E22: =56+143 -> 199 | F22: =0+8 -> 8 | G22: 165 | H22: 26 | I22: 12 | J22: 1 | K22: 0 | L22: 5 | M22: 101 | N22: 358 | O22: 566 | P22: =SUM(D22:O22) -> 1934
C23: 폭스바겐 | D23: =768+160 -> 928 | E23: =83+247 -> 330 | F23: =106+106 -> 212 | G23: 258 | H23: 127 | I23: 924 | J23: 34 | K23: 642 | L23: 24 | M23: 78 | N23: 286 | O23: 695 | P23: =SUM(D23:O23) -> 4538
C24: 포드 | D24: 305 | E24: =63+292 -> 355 | F24: =33+55 -> 88 | G24: 375 | H24: 196 | I24: 152 | J24: 252 | K24: =4+50 -> 54 | L24: 93 | M24: =112+699 -> 811 | N24: 1047 | O24: 1047 | P24: =SUM(D24:O24) -> 4775
C25: 재규어 | D25: 0 | E25: =0+0 -> 0 | F25: =0+0 -> 0 | G25: =K25+O25+S25 -> 0 | H25: 0 | I25: 0 | J25: 0 | K25: 0 | L25: 0 | M25: 4 | N25: 0 | O25: 0 | P25: =SUM(D25:O25) -> 4
C26: 랜드로버 | D26: 268 | E26: =0+355 -> 355 | F26: =0+359 -> 359 | G26: 563 | H26: 176 | I26: 560 | J26: 832 | K26: 460 | L26: 202 | M26: 550 | N26: 241 | O26: 522 | P26: =SUM(D26:O26) -> 5088
C27: 닛산 | D27: 0 | E27: 0 | F27: =0+0 -> 0 | G27: =K27+O27+S27 -> 0 | H27: 0 | I27: 0 | J27: 0 | K27: 0 | L27: 0 | M27: 0 | N27: 0 | O27: 0 | P27: =SUM(D27:O27) -> 0
C28: 포르쉐 | D28: 855 | E28: =0+740 -> 740 | F28: =0+712 -> 712 | G28: 360 | H28: 342 | I28: 1381 | J28: 813 | K28: 694 | L28: 614 | M28: 881 | N28: 815 | O28: 707 | P28: =SUM(D28:O28) -> 8914
C29: 볼보 | D29: 255 | E29: 1094 | F29: =0+1549 -> 1549 | G29: 2489 | H29: 1007 | I29: 2244 | J29: 1732 | K29: 994 | L29: 816 | M29: 1096 | N29: 774 | O29: 1531 | P29: =SUM(D29:O29) -> 15581
C30: 도요타&렉서스 | D30: 1239 | E30: =14+1791 -> 1805 | F30: =0+2086 -> 2086 | G30: 1926 | H30: 1134 | I30: 1790 | J30: 2336 | K30: 1419 | L30: 1568 | M30: 2698 | N30: 1645 | O30: 2412 | P30: =SUM(D30:O30) -> 22058
C31: 크라이슬러 | D31: 114 | E31: 346 | F31: =0+526 -> 526 | G31: 24 | H31: 0 | I31: 0 | J31: 25 | K31: 112 | L31: 94 | M31: 0 | N31: 0 | O31: 0 | P31: =SUM(D31:O31) -> 1241
C32: 푸조 | D32: 7 | E32: 0 | F32: =0+372 -> 372 | G32: =K32+O32+S32 -> 0 | H32: 0 | I32: 0 | J32: 0 | K32: 0 | L32: 0 | M32: 0 | N32: 0 | O32: 0 | P32: =SUM(D32:O32) -> 379
C33: 캐딜락 | D33: 21 | E33: 3 | F33: =27+0 -> 27 | G33: 30 | H33: 85 | I33: 87 | J33: 82 | K33: 162 | L33: 82 | M33: 0 | N33: 72 | O33: 14 | P33: =SUM(D33:O33) -> 665
C34: 혼다 | D34: 190 | E34: =362+177 -> 539 | F34: =286+0 -> 286 | G34: 355 | H34: 11 | I34: 53 | J34: 77 | K34: 36 | L34: 0 | M34: 60 | N34: 40 | O34: 57 | P34: =SUM(D34:O34) -> 1704
C35: 미쓰비씨 | D35: 0 | E35: 0 | F35: =0+0 -> 0 | G35: =K35+O35+S35 -> 0 | H35: 0 | I35: 0 | J35: 0 | K35: 0 | L35: 0 | M35: 0 | N35: 0 | O35: 0 | P35: =SUM(D35:O35) -> 0
C36: 기타 | D36: =165+20 -> 185 | E36: =5696+124 -> 5820 | F36: =788+2968 -> 3756 | G36: 5583 | H36: 7500 | I36: 3826 | J36: 9248 | K36: =6044+112 -> 6156 | L36: 2770 | M36: =198+2970 -> 3168 | N36: 2838 | O36: 3113 | P36: =SUM(D36:O36) -> 53963
C37: 소계 | D37: =SUM(D20:D36) -> 16531 | E37: =SUM(E20:E36) -> 19712 | F37: =SUM(F20:F36) -> 25991 | G37: =SUM(G20:G36) -> 26670 | H37: =SUM(H20:H36) -> 27145 | I37: =SUM(I20:I36) -> 29248 | J37: =SUM(J20:J36) -> 30768 | K37: =SUM(K20:K36) -> 24646 | L37: 18892 | M37: =SUM(M20:M36) -> 23069 | N37: =SUM(N20:N36) -> 18898 | O37: =SUM(O20:O36) -> 23172 | P37: =SUM(D37:O37) -> 284742
B38: 상 용 | C38: 벤츠트럭 | D38: 57 | E38: 26 | F38: =0+118 -> 118 | G38: 79 | H38: 171 | I38: 62 | J38: 113 | K38: =21+139 -> 160 | L38: 34 | M38: =140+30 -> 170 | N38: 72 | O38: 26 | P38: =SUM(D38:O38) -> 1088
C39: 만트럭 | D39: 45 | E39: 44 | F39: =0+97 -> 97 | G39: 180 | H39: 20 | I39: 94 | J39: 134 | K39: 93 | L39: 76 | M39: 80 | N39: 0 | O39: 126 | P39: =SUM(D39:O39) -> 989
C40: 볼보트럭 | D40: 2 | E40: 204 | F40: =0+272 -> 272 | G40: 161 | H40: 84 | I40: 167 | J40: 193 | K40: 218 | L40: 131 | M40: 208 | N40: 112 | O40: 220 | P40: =SUM(D40:O40) -> 1972
C41: 기타 | D41: =29+152 -> 181 | E41: =44+406 -> 450 | F41: =1+281 -> 282 | G41: 434 | H41: 254 | I41: 584 | J41: 388 | K41: =14+268 -> 282 | L41: 421 | M41: =247+1 -> 248 | N41: 187 | O41: 158 | P41: =SUM(D41:O41) -> 3869
C42: 소계 | D42: =SUM(D38:D41) -> 285 | E42: =SUM(E38:E41) -> 724 | F42: =SUM(F38:F41) -> 769 | G42: =SUM(G38:G41) -> 854 | H42: =SUM(H38:H41) -> 529 | I42: =SUM(I38:I41) -> 907 | J42: =SUM(J38:J41) -> 828 | K42: =SUM(K38:K41) -> 753 | L42: 662 | M42: =SUM(M38:M41) -> 706 | N42: =SUM(N38:N41) -> 371 | O42: =SUM(O38:O41) -> 530 | P42: =SUM(D42:O42) -> 7918
B43: 개품화물 | D43: =86+54 -> 140 | E43: =2+55 -> 57 | F43: =132+163 -> 295 | G43: 160 | H43: 140 | I43: 218 | J43: 239 | K43: =68+44 -> 112 | L43: 253 | M43: =24+105 -> 129 | N43: 248 | O43: 122 | P43: =SUM(D43:O43) -> 2113
B44: 계(b) | D44: =D37+D42+D43 -> 16956 | E44: =E37+E42+E43 -> 20493 | F44: =F37+F42+F43 -> 27055 | G44: =G37+G42+G43 -> 27684 | H44: =H37+H42+H43 -> 27814 | I44: =I37+I42+I43 -> 30373 | J44: =J37+J42+J43 -> 31835 | K44: =K37+K42+K43 -> 25511 | L44: 19807 | M44: =M37+M42+M43 -> 23904 | N44: =N37+N42+N43 -> 19517 | O44: =O37+O42+O43 -> 23824 | P44: =SUM(D44:O44) -> 294773
A45: 합 계(a+b) | D45: =SUM(D19,D44) -> 72050 | E45: =SUM(E19,E44) -> 75254 | F45: =SUM(F19,F44) -> 94748 | G45: =SUM(G19,G44) -> 101342 | H45: =SUM(H19,H44) -> 101407 | I45: =SUM(I19,I44) -> 106776 | J45: =SUM(J19,J44) -> 101133 | K45: =SUM(K19,K44) -> 83828 | L45: 83544 | M45: =SUM(M19,M44) -> 93327 | N45: =SUM(N19,N44) -> 79471 | O45: =SUM(O19,O44) -> 95080 | P45: =SUM(D45:O45) -> 1087960
A46: T/S(c) | D46: =26943+27980 -> 54923 | E46: =21917+21948 -> 43865 | F46: =25680+20872 -> 46552 | G46: 38608 | H46: 40145 | I46: 38552 | J46: 35632 | K46: =12064+22418 -> 34482 | L46: 28946 | M46: =10871+16154 -> 27025 | N46: 27813 | O46: 46787 | P46: =SUM(D46:O46) -> 463330
A47: 기타 | D47: =1018+199 -> 1217 | E47: =67+293 -> 360 | F47: =149+564 -> 713 | G47: 440 | H47: 718 | I47: 503 | J47: 753 | K47: =19+493 -> 512 | L47: 657 | M47: =400+467 -> 867 | N47: 623 | O47: 1975 | P47: =SUM(D47:O47) -> 9338
A48: 총 계(a+b+c) | D48: =D45+D46+D47 -> 128190 | E48: =E45+E46+E47 -> 119479 | F48: =F45+F46+F47 -> 142013 | G48: =G45+G46+G47 -> 140390 | H48: =H45+H46+H47 -> 142270 | I48: =I45+I46+I47 -> 145831 | J48: =J45+J46+J47 -> 137518 | K48: =K45+K46+K47 -> 118822 | L48: 113147 | M48: =M45+M46+M47 -> 121219 | N48: =N45+N46+N47 -> 107907 | O48: =O45+O46+O47 -> 143842 | P48: =SUM(D48:O48) -> 1560628

Sheet 2025
A1: 2025년 자동차 선적현황
A2: 구 분 | D2: 1월 | E2: 2월 | F2: 3월 | G2: 4월 | H2: 5월 | I2: 6월 | J2: 7월 | K2: 8월 | L2: 9월 | M2: 10월 | N2: 11월 | O2: 12월 | P2: 합 계
A3: 수 출 차 | B3: 승 용 | C3: 기아 | D3: 46742 | E3: 56767 | F3: =62325+1 -> 62326 | G3: 62832 | H3: 58312 | I3: =56553+4 -> 56557 | J3: =56851+1 -> 56852 | K3: =1+53829 -> 53830 | L3: 62494 | M3: =5+42568 -> 42573 | N3: =59415+272 -> 59687 | O3: 62647 | P3: =SUM(D3:O3) -> 681619
C4: 현대 | D4: 7351 | E4: =1715+2374+4248 -> 8337 | F4: =3293+4776+3065 -> 11134 | G4: =2051+5786+9343 -> 17180 | H4: =2652+3410+3419 -> 9481 | I4: =2133+2280+4256 -> 8669 | J4: =1324+4691+1491 -> 7506 | K4: =1335+5585+2665 -> 9585 | L4: =3941+3311+3500 -> 10752 | M4: =2886+3434+3210 -> 9530 | N4: =4469+1897+2683 -> 9049 | O4: =4119+1976+1227 -> 7322 | P4: =SUM(D4:O4) -> 115896
C5: KG모빌리티 | D5: 3217 | E5: =2142+1444 -> 3586 | F5: =1018+2151 -> 3169 | G5: =1847+1320 -> 3167 | H5: =1052+2158 -> 3210 | I5: =1770+1210 -> 2980 | J5: =1076+1467 -> 2543 | K5: =1312+1632 -> 2944 | L5: =1198+1533 -> 2731 | M5: =1324+1296 -> 2620 | N5: =1231+1534 -> 2765 | O5: =2120+1173 -> 3293 | P5: =SUM(D5:O5) -> 36225
C6: GM KOREA | D6: 0 | E6: 0 | F6: 0 | G6: 0 | K6: 0 | L6: 0 | N6: 0 | P6: =SUM(D6:O6) -> 0
C7: 르노삼성 | D7: 0 | E7: 0 | F7: 0 | K7: 6 | L7: 3 | N7: 0 | P7: =SUM(D7:O7) -> 9
C8: 기타 | D8: 92 | E8: 27 | F8: =5+101 -> 106 | G8: =28+162 -> 190 | H8: =9+97 -> 106 | I8: =172 -> 172 | J8: 189 | K8: =57+9 -> 66 | L8: =53+40 -> 93 | M8: 132 | N8: =240+3 -> 243 | O8: =179+196 -> 375 | P8: =SUM(D8:O8) -> 1791
C9: 소 계 | D9: =SUM(D3:D8) -> 57402 | E9: =SUM(E3:E8) -> 68717 | F9: =SUM(F3:F8) -> 76735 | G9: =SUM(G3:G8) -> 83369 | H9: =SUM(H3:H8) -> 71109 | I9: =SUM(I3:I8) -> 68378 | J9: =SUM(J3:J8) -> 67090 | K9: =SUM(K3:K8) -> 66431 | ... O9: =SUM(O3:O8) -> 73637 | P9: =SUM(D9:O9) -> 835540
B10: 상 용 | C10: 두산 | D10: 54 | E10: 5 | F10: =85+59 -> 144 | G10: 191 | H10: =102+13 -> 115 | I10: =1+183 -> 184 | J10: =52+51 -> 103 | K10: =116+173 -> 289 | L10: =165+158 -> 323 | M10: =82+130 -> 212 | N10: =41+105 -> 146 | O10: 56 | P10: =SUM(D10:O10) -> 1822
C11: 현대 | D11: 3 | E11: 0 | F11: =23 -> 23 | G11: =21+9 -> 30 | H11: 9 | I11: =5+6 -> 11 | J11: =5+6 -> 11 | K11: 30 | L11: =54+26 -> 80 | M11: =25+12 -> 37 | N11: =35+48 -> 83 | O11: 17 | P11: =SUM(D11:O11) -> 334
C12: 타타대우 | D12: 0 | E12: 2 | F12: 93 | G12: 3 | H12: 19 | J12: =14+17 -> 31 | K12: 25 | L12: 0 | N12: 0 | O12: 13 | P12: =SUM(D12:O12) -> 186
C13: 중고중장비 | D13: 211 | E13: 168 | F13: 60 | G13: =123 -> 123 | H13: 152 | I13: 31 | J13: 132 | K13: 158 | L13: 172 | M13: 144 | N13: 204 | O13: =109+9 -> 118 | P13: =SUM(D13:O13) -> 1673
C14: 신중장비 | D14: 64 | E14: =8+36 -> 44 | F14: =1+17 -> 18 | G14: 35 | H14: =1+51 -> 52 | I14: =1+45 -> 46 | J14: =1+81 -> 82 | K14: =36+4 -> 40 | L14: =41+3 -> 44 | M14: =15+5 -> 20 | N14: 24 | O14: =31+3 -> 34 | P14: =SUM(D14:O14) -> 503
C15: 기타 | D15: 1 | E15: 3 | F15: 0 | G15: - | H15: 2 | I15: 1 | J15: 1 | K15: 0 | L15: 0 | N15: 4 | O15: 1 | P15: =SUM(D15:O15) -> 13
C16: 소 계 | D16: =SUM(D10:D15) -> 333 | E16: =SUM(E10:E15) -> 222 | F16: =SUM(F10:F15) -> 338 | G16: =SUM(G10:G15) -> 382 | H16: =SUM(H10:H15) -> 349 | I16: =SUM(I10:I15) -> 273 | J16: =SUM(J10:J15) -> 360 | K16: =SUM(K10:K15) -> 542 | ... O16: =SUM(O10:O15) -> 239 | P16: =SUM(D16:O16) -> 4531
B17: 중 고 차 | D17: 957 | E17: =783+670 -> 1453 | F17: =263+329 -> 592 | G17: =514+7 -> 521 | H17: =260+622 -> 882 | I17: =335+283 -> 618 | J17: =689+292 -> 981 | K17: =868+579 -> 1447 | L17: =964+297 -> 1261 | M17: =214+564 -> 778 | N17: =1315+304 -> 1619 | O17: =648+123 -> 771 | P17: =SUM(D17:O17) -> 11880
B18: 개품화물 | D18: 26 | E18: 77 | F18: 92 | G18: 42 | H18: =21+44 -> 65 | I18: =46+3 -> 49 | J18: 29 | K18: =36+6 -> 42 | L18: 133 | M18: 29 | N18: =65+1 -> 66 | O18: =23+3 -> 26 | P18: =SUM(D18:O18) -> 676
B19: 계(a) | D19: =D9+D18+D16+D17 -> 58718 | E19: =E9+E18+E16+E17 -> 70469 | F19: =F9+F18+F16+F17 -> 77757 | G19: =G9+G18+G16+G17 -> 84314 | H19: =H9+H18+H16+H17 -> 72405 | I19: =I9+I18+I16+I17 -> 69318 | J19: =J9+J18+J16+J17 -> 68460 | K19: =K9+K18+K16+K17 -> 68462 | ... O19: =O9+O18+O16+O17 -> 74673 | P19: =SUM(D19:O19) -> 852627 | R19: =SUM(D19:M19) -> 704064
A20: 수 입 차 | B20: 승 용 | C20: BMW | D20: 5731 | E20: =3130+1519 -> 4649 | F20: =6031+1110 -> 7141 | G20: =7175+2562 -> 9737 | H20: =6531+3724 -> 10255 | I20: =29+2985 -> 3014 | J20: =7190+3371 -> 10561 | K20: =3735+4190 -> 7925 | L20: =2561+6995 -> 9556 | M20: =151+2157 -> 2308 | N20: =2779+5279 -> 8058 | O20: =2587+7973 -> 10560 | P20: =SUM(D20:O20) -> 89495
C21: 벤츠 | D21: 4557 | E21: =95+599 -> 694 | F21: 2694 | G21: =4522+48 -> 4570 | H21: =12+7272 -> 7284 | I21: 6574 | J21: =6740+25 -> 6765 | K21: =6185+117 -> 6302 | L21: =6984+2 -> 6986 | M21: =100+6138 -> 6238 | N21: =4939+82 -> 5021 | O21: =5541+43 -> 5584 | P21: =SUM(D21:O21) -> 63269
C22: 아우디 | D22: 588 | E22: 769 | F22: =729+566 -> 1295 | G22: 1195 | H22: 1550 | I22: 930 | J22: 1706 | K22: 1144 | L22: 506 | M22: =105 -> 105 | N22: 725 | O22: 1107 | P22: =SUM(D22:O22) -> 11620
C23: 폭스바겐 | D23: 56 | E23: 210 | F23: =60+18 -> 78 | G23: =268+90 -> 358 | H23: 815 | I23: 217 | J23: 661 | K23: 287 | L23: =296+78 -> 374 | N23: 983 | O23: =565+201 -> 766 | P23: =SUM(D23:O23) -> 4805
C24: 포드 | D24: 310 | E24: =490+44 -> 534 | F24: =105+105 -> 210 | G24: =480+246 -> 726 | H24: =758+25 -> 783 | I24: =184+300 -> 484 | J24: =470+65 -> 535 | K24: 282 | L24: =22+73 -> 95 | M24: =36+1 -> 37 | N24: 4 | O24: 2 | P24: =SUM(D24:O24) -> 4002
C25: 재규어 | D25: 0 | E25: 0 | F25: 0 | G25: - | H25: 0 | K25: 0 | L25: 0 | N25: 0 | O25: 0 | P25: =SUM(D25:O25) -> 0
C26: 랜드로버 | D26: 337 | E26: 400 | F26: 423 | G26: 801 | H26: =303+35 -> 338 | I26: =8+433 -> 441 | J26: 488 | K26: 525 | L26: 596 | M26: =5 -> 5 | N26: 71 | O26: 71 | P26: =SUM(D26:O26) -> 4496
C27: 닛산 | D27: 0 | E27: 0 | F27: 0 | G27: - | K27: 0 | L27: 0 | N27: 0 | O27: 0 | P27: =SUM(D27:O27) -> 0
C28: 포르쉐 | D28: 540 | E28: 730 | F28: =150+1904 -> 2054 | G28: 1319 | H28: 896 | I28: 439 | J28: 657 | K28: 639 | L28: 483 | M28: =1 -> 1 | N28: 1248 | O28: 1090 | P28: =SUM(D28:O28) -> 10096
C29: 볼보 | D29: 822 | E29: 485 | F29: 857 | G29: 1575 | H29: 1606 | I29: 1199 | J29: 908 | K29: 1374 | L29: 1377 | M29: 1518 | N29: 1243 | O29: 0 | P29: =SUM(D29:O29) -> 12964
C30: 도요타&렉서스 | D30: 1674 | E30: 2485 | F30: 2342 | G30: 2755 | H30: 2131 | I30: 1730 | J30: 3290 | K30: 1408 | L30: 2381 | M30: 1733 | N30: 2578 | O30: 1478 | P30: =SUM(D30:O30) -> 25985
C31: 크라이슬러 | D31: 0 | E31: 0 | F31: 0 | G31: - | K31: 0 | O31: 1732 | P31: =SUM(D31:O31) -> 1732
C32: 푸조 | D32: 0 | E32: 0 | F32: 57 | G32: - | I32: 89 | K32: 0 | L32: 0 | N32: 0 | O32: 250 | P32: =SUM(D32:O32) -> 396
C33: 캐딜락 | D33: 0 | E33: 2 | F33: 32 | G33: 105 | H33: 9 | I33: 86 | K33: 81 | L33: 185 | M33: =34 -> 34 | N33: =1+61 -> 62 | O33: 127 | P33: =SUM(D33:O33) -> 723
C34: 혼다 | D34: 32 | E34: 161 | F34: 48 | G34: 283 | H34: 198 | J34: 63 | K34: 52 | L34: 9 | M34: =134 -> 134 | N34: 320 | O34: 72 | P34: =SUM(D34:O34) -> 1372
C35: 미쓰비씨 | D35: 0 | F35: 0 | G35: - | J35: 25 | K35: 0 | L35: 0 | N35: 0 | O35: 0 | P35: =SUM(D35:O35) -> 25
C36: 기타 | D36: 3642 | E36: =1844+498 -> 2342 | F36: =260+3637 -> 3897 | G36: =385+4811 -> 5196 | H36: =7882+1886 -> 9768 | I36: =732+10431 -> 11163 | J36: =8767+219 -> 8986 | K36: =1663+12418 -> 14081 | L36: =825+7527 -> 8352 | M36: =7305+1636 -> 8941 | N36: =1103+9272 -> 10375 | O36: =1403+935 -> 2338 | P36: =SUM(D36:O36) -> 89081
C37: 소계 | D37: =SUM(D20:D36) -> 18289 | E37: =SUM(E20:E36) -> 13461 | F37: =SUM(F20:F36) -> 21128 | G37: =SUM(G20:G36) -> 28620 | H37: =SUM(H20:H36) -> 35633 | I37: =SUM(I20:I36) -> 26366 | J37: =SUM(J20:J36) -> 34645 | K37: =SUM(K20:K36) -> 34100 | ... O37: =SUM(O20:O36) -> 25177 | P37: =SUM(D37:O37) -> 320061
B38: 상 용 | C38: 벤츠트럭 | D38: 13 | E38: 47 | F38: 13 | G38: 53 | H38: 6 | I38: 48 | J38: 28 | K38: 69 | L38: 137 | M38: 66 | N38: 11 | O38: 4 | P38: =SUM(D38:O38) -> 495
C39: 만트럭 | D39: 14 | E39: 5 | F39: 0 | G39: 12 | H39: 26 | I39: 32 | J39: 56 | K39: 12 | L39: 0 | M39: =23 -> 23 | N39: 0 | O39: 30 | P39: =SUM(D39:O39) -> 210
C40: 볼보트럭 | D40: 220 | E40: 91 | F40: 160 | G40: 86 | H40: 31 | I40: 61 | J40: 23 | K40: 123 | L40: 109 | M40: 97 | N40: 115 | O40: 123 | P40: =SUM(D40:O40) -> 1239
C41: 기타 | D41: 249 | E41: =48+23 -> 71 | F41: =81+67 -> 148 | G41: =13+77 -> 90 | H41: =37+127 -> 164 | I41: =111+30 -> 141 | J41: =48+83 -> 131 | K41: =155+37 -> 192 | L41: =104+37 -> 141 | M41: =26+43 -> 69 | N41: =63+26 -> 89 | O41: =131+15 -> 146 | P41: =SUM(D41:O41) -> 1631
C42: 소계 | D42: =SUM(D38:D41) -> 496 | E42: =SUM(E38:E41) -> 214 | F42: =SUM(F38:F41) -> 321 | G42: =SUM(G38:G41) -> 241 | H42: =SUM(H38:H41) -> 227 | I42: =SUM(I38:I41) -> 282 | J42: =SUM(J38:J41) -> 238 | K42: =SUM(K38:K41) -> 396 | ... O42: =SUM(O38:O41) -> 303 | P42: =SUM(D42:O42) -> 3575
B43: 개품화물 | D43: 231 | E43: =43+76 -> 119 | F43: =91+17 -> 108 | G43: =521+26 -> 547 | H43: =52+144 -> 196 | I43: =110+24 -> 134 | J43: =24+233 -> 257 | K43: =195+111 -> 306 | L43: =120+69 -> 189 | M43: =44+142 -> 186 | N43: =159+71 -> 230 | O43: =115+7 -> 122 | P43: =SUM(D43:O43) -> 2625
B44: 계(b) | D44: =D37+D42+D43 -> 19016 | E44: =E37+E42+E43 -> 13794 | F44: =F37+F42+F43 -> 21557 | G44: =G37+G42+G43 -> 29408 | H44: =H37+H42+H43 -> 36056 | I44: =I37+I42+I43 -> 26782 | J44: =J37+J42+J43 -> 35140 | K44: =K37+K42+K43 -> 34802 | ... O44: =O37+O42+O43 -> 25602 | P44: =SUM(D44:O44) -> 326261
A45: 합 계(a+b) | D45: =SUM(D19,D44) -> 77734 | E45: =SUM(E19,E44) -> 84263 | F45: =SUM(F19,F44) -> 99314 | G45: =SUM(G19,G44) -> 113722 | H45: =SUM(H19,H44) -> 108461 | I45: =SUM(I19,I44) -> 96100 | J45: =SUM(J19,J44) -> 103600 | K45: =SUM(K19,K44) -> 103264 | ... O45: =SUM(O19,O44) -> 100275 | P45: =SUM(D45:O45) -> 1178888
A46: T/S(c) | D46: 21555 | E46: =14709+19194 -> 33903 | F46: =26165+15224 -> 41389 | G46: =25434+14000 -> 39434 | H46: =12717+21787 -> 34504 | I46: =17884+19941 -> 37825 | J46: =15446+24266 -> 39712 | K46: =28092+11388 -> 39480 | L46: =23779+9902 -> 33681 | M46: =11378+16741 -> 28119 | N46: =26460+11514 -> 37974 | O46: =23949+16035 -> 39984 | P46: =SUM(D46:O46) -> 427560
A47: 기타 | D47: 323 | E47: =113+434 -> 547 | F47: =492+328 -> 820 | G47: =448+985 -> 1433 | H47: =843+317 -> 1160 | I47: =457+148 -> 605 | J47: =223+436 -> 659 | K47: =445+504 -> 949 | L47: =378+55 -> 433 | M47: =85+382 -> 467 | N47: =320+142 -> 462 | O47: =1769+11 -> 1780 | P47: =SUM(D47:O47) -> 9638
A48: 총 계(a+b+c) | D48: =D45+D46+D47 -> 99612 | E48: =E45+E46+E47 -> 118713 | F48: =F45+F46+F47 -> 141523 | G48: =G45+G46+G47 -> 154589 | H48: =H45+H46+H47 -> 144125 | I48: =I45+I46+I47 -> 134530 | J48: =J45+J46+J47 -> 143971 | K48: =K45+K46+K47 -> 143693 | ... O48: =O45+O46+O47 -> 142039 | P48: =SUM(D48:O48) -> 1616086

Sheet 2026
A1: 2026년 자동차 선적현황
A2: 구 분 | D2: 1월 | E2: 2월 | F2: 3월 | G2: 4월 | H2: 5월 | I2: 6월 | J2: 7월 | K2: 8월 | L2: 9월 | M2: 10월 | N2: 11월 | O2: 12월 | P2: 합 계
A3: 수 출 차 | B3: 승 용 | C3: 기아 | D3: =290+64365 -> 64655 | E3: 43476 | F3: =64598+2619 -> 67217 | G3: =64365+3 -> 64368 | H3: =56974+1 -> 56975 | I3: 67146 | P3: =SUM(D3:O3) -> 363837
C4: 현대 | D4: =4072+4918+347 -> 9337 | E4: =1167+2640+1963 -> 5770 | F4: =5015+957+2149 -> 8121 | G4: =4202+1311+347 -> 5860 | H4: =1529+3693 +1734 -> 6956 | I4: =5860+1258+380 -> 7498 | P4: =SUM(D4:O4) -> 43542
C5: KG모빌리티 | D5: =1669+1924 -> 3593 | E5: =1296+2512 -> 3808 | F5: 1166 | G5: =1378+1386 -> 2764 | H5: =1624+961 -> 2585 | I5: =1604+1160 -> 2764 | P5: =SUM(D5:O5) -> 16680
C6: GM KOREA | D6: 0 | F6: 0 | G6: 0 | H6: 0 | I6: 0 | P6: =SUM(D6:O6) -> 0
C7: 르노삼성 | D7: 0 | F7: 2 | G7: 0 | H7: 0 | I7: 4 | P7: =SUM(D7:O7) -> 6
C8: 기타 | D8: 107 | E8: =13+77 -> 90 | F8: 187 | G8: =94+2 -> 96 | H8: =165 +2 -> 167 | I8: 1331 | P8: =SUM(D8:O8) -> 1978
C9: 소 계 | D9: =SUM(D3:D8) -> 77692 | E9: =SUM(E3:E8) -> 53144 | F9: =SUM(F3:F8) -> 76693 | G9: =SUM(G3:G8) -> 73088 | H9: =SUM(H3:H8) -> 66683 | I9: =SUM(I3:I8) -> 78743 | J9: =SUM(J3:J8) -> 0 | K9: =SUM(K3:K8) -> 0 | ... O9: =SUM(O3:O8) -> 0 | P9: =SUM(D9:O9) -> 426043
B10: 상 용 | C10: 두산 | D10: =251+42 -> 293 | E10: =120+112 -> 232 | F10: =54+174 -> 228 | G10: =239+155 -> 394 | H10: =74+22 -> 96 | I10: 93 | P10: =SUM(D10:O10) -> 1336
C11: 현대 | D11: 22 | E11: =7+20 -> 27 | F11: 17 | G11: 28 | H11: 18 | I11: =33+10 -> 43 | P11: =SUM(D11:O11) -> 155
C12: 타타대우 | D12: =3+44 -> 47 | H12: 0 | I12: 0 | P12: =SUM(D12:O12) -> 47
C13: 중고중장비 | D13: 159 | E13: 81 | F13: 51 | G13: 21 | H13: 17 | I13: 0 | P13: =SUM(D13:O13) -> 329
C14: 신중장비 | D14: =1+33 -> 34 | E14: =1+11 -> 12 | F14: 6 | G14: 20 | H14: =1 +2 -> 3 | I14: =9+1 -> 10 | P14: =SUM(D14:O14) -> 85
C15: 기타 | D15: =2 -> 2 | H15: 0 | I15: 32 | P15: =SUM(D15:O15) -> 34
C16: 소 계 | D16: =SUM(D10:D15) -> 557 | E16: =SUM(E10:E15) -> 352 | F16: =SUM(F10:F15) -> 302 | G16: =SUM(G10:G15) -> 463 | H16: =SUM(H10:H15) -> 134 | I16: =SUM(I10:I15) -> 178 | J16: =SUM(J10:J15) -> 0 | K16: =SUM(K10:K15) -> 0 | ... O16: =SUM(O10:O15) -> 0 | P16: =SUM(D16:O16) -> 1986
B17: 중 고 차 | D17: =6+1015 -> 1021 | E17: =332+468 -> 800 | F17: =282+1 -> 283 | G17: =95+8 -> 103 | H17: =70+24 -> 94 | I17: =165+13 -> 178 | P17: =SUM(D17:O17) -> 2479
B18: 개품화물 | D18: =13+2 -> 15 | E18: =3+29 -> 32 | F18: 11 | G18: 91 | H18: =16+16 -> 32 | I18: =37+3 -> 40 | P18: =SUM(D18:O18) -> 221
B19: 계(a) | D19: =D9+D18+D16+D17 -> 79285 | E19: =E9+E18+E16+E17 -> 54328 | F19: =F9+F18+F16+F17 -> 77289 | G19: =G9+G18+G16+G17 -> 73745 | H19: =H9+H18+H16+H17 -> 66943 | I19: =I9+I18+I16+I17 -> 79139 | J19: =J9+J18+J16+J17 -> 0 | K19: =K9+K18+K16+K17 -> 0 | ... O19: =O9+O18+O16+O17 -> 0 | P19: =SUM(D19:O19) -> 430729 | R19: =SUM(D19:M19) -> 430729
A20: 수 입 차 | B20: 승 용 | C20: BMW | D20: =701+2823 -> 3524 | E20: =4866+123 -> 4989 | F20: =2794+3679 -> 6473 | G20: =1174+5056 -> 6230 | H20: =3665+7549 -> 11214 | I20: =2619+4556 -> 7175 | P20: =SUM(D20:O20) -> 39605
C21: 벤츠 | D21: =89+3744 -> 3833 | E21: =71+4904 -> 4975 | F21: =2244+250 -> 2494 | G21: =6127+96 -> 6223 | H21: 7017 | I21: 6414 | P21: =SUM(D21:O21) -> 30956
C22: 아우디 | D22: 478 | E22: 1904 | F22: 692 | G22: 1201 | H22: 3056 | I22: =101+2150 -> 2251 | P22: =SUM(D22:O22) -> 9582
C23: 폭스바겐 | D23: 0 | E23: 279 | F23: 67 | G23: 1335 | H23: =295+1673 -> 1968 | I23: 911 | P23: =SUM(D23:O23) -> 4560
C24: 포드 | D24: 4 | E24: =2+10 -> 12 | F24: =10+37 -> 47 | G24: =4+38 -> 42 | H24: =14+7 -> 21 | I24: =21+14 -> 35 | P24: =SUM(D24:O24) -> 161
C25: 재규어 | D25: 0 | F25: 0 | G25: 0 | H25: 0 | I25: 0 | P25: =SUM(D25:O25) -> 0
C26: 랜드로버 | D26: 61 | E26: 1186 | F26: 486 | G26: 541 | H26: 558 | I26: 609 | P26: =SUM(D26:O26) -> 3441
C27: 닛산 | D27: 0 | F27: 0 | G27: 0 | H27: 0 | I27: 0 | P27: =SUM(D27:O27) -> 0
C28: 포르쉐 | D28: 0 | E28: 904 | F28: 469 | G28: 649 | H28: 933 | I28: 807 | P28: =SUM(D28:O28) -> 3762
C29: 볼보 | D29: 1148 | E29: 1410 | F29: 1639 | G29: 1316 | H29: 1361 | I29: 2491 | P29: =SUM(D29:O29) -> 9365
C30: 도요타&렉서스 | D30: 756 | E30: 1677 | F30: 1513 | G30: 2407 | H30: 1593 | I30: 2195 | P30: =SUM(D30:O30) -> 10141
C31: 크라이슬러 | D31: 0 | F31: 0 | G31: 0 | H31: 0 | I31: 0 | P31: =SUM(D31:O31) -> 0
C32: 푸조 | D32: 0 | F32: 0 | G32: 0 | H32: 0 | I32: 0 | P32: =SUM(D32:O32) -> 0
C33: 캐딜락 | D33: 85 | F33: 289 | G33: 55 | H33: 2 | I33: 13 | P33: =SUM(D33:O33) -> 444
C34: 혼다 | D34: 22 | E34: 45 | F34: 120 | G34: 182 | H34: 73 | I34: 10 | P34: =SUM(D34:O34) -> 452
C35: 미쓰비씨 | D35: 0 | F35: 0 | G35: 0 | H35: 0 | I35: 0 | P35: =SUM(D35:O35) -> 0
C36: 기타 | D36: =7184+320 -> 7504 | E36: =12486+982 -> 13468 | F36: =564+14027 -> 14591 | G36: =519+17577 -> 18096 | H36: =57+15975 -> 16032 | I36: =2906+12235 -> 15141 | P36: =SUM(D36:O36) -> 84832
C37: 소계 | D37: =SUM(D20:D36) -> 17415 | E37: =SUM(E20:E36) -> 30849 | F37: =SUM(F20:F36) -> 28880 | G37: =SUM(G20:G36) -> 38277 | H37: =SUM(H20:H36) -> 43828 | I37: =SUM(I20:I36) -> 38052 | J37: =SUM(J20:J36) -> 0 | K37: =SUM(K20:K36) -> 0 | ... O37: =SUM(O20:O36) -> 0 | P37: =SUM(D37:O37) -> 197301
B38: 상 용 | C38: 벤츠트럭 | D38: 83 | E38: 21 | F38: 97 | G38: 72 | H38: 64 | I38: 97 | P38: =SUM(D38:O38) -> 434
C39: 만트럭 | D39: 13 | E39: 87 | F39: 42 | G39: 0 | H39: 16 | I39: 128 | P39: =SUM(D39:O39) -> 286
C40: 볼보트럭 | D40: 157 | E40: 162 | F40: 111 | G40: 159 | H40: 66 | I40: 130 | P40: =SUM(D40:O40) -> 785
C41: 기타 | D41: =53+57 -> 110 | E41: =62+51 -> 113 | F41: =66+42 -> 108 | G41: =45+23 -> 68 | H41: =44+27 -> 71 | I41: =109+50 -> 159 | P41: =SUM(D41:O41) -> 629
C42: 소계 | D42: =SUM(D38:D41) -> 363 | E42: =SUM(E38:E41) -> 383 | F42: =SUM(F38:F41) -> 358 | G42: =SUM(G38:G41) -> 299 | H42: =SUM(H38:H41) -> 217 | I42: =SUM(I38:I41) -> 514 | J42: =SUM(J38:J41) -> 0 | K42: =SUM(K38:K41) -> 0 | ... O42: =SUM(O38:O41) -> 0 | P42: =SUM(D42:O42) -> 2134
B43: 개품화물 | D43: =6+145 -> 151 | E43: =88+177 -> 265 | F43: =156+56 -> 212 | G43: =91+88 -> 179 | H43: =199+105 -> 304 | I43: =140+87 -> 227 | P43: =SUM(D43:O43) -> 1338
B44: 계(b) | D44: =D37+D42+D43 -> 17929 | E44: =E37+E42+E43 -> 31497 | F44: =F37+F42+F43 -> 29450 | G44: =G37+G42+G43 -> 38755 | H44: =H37+H42+H43 -> 44349 | I44: =I37+I42+I43 -> 38793 | J44: =J37+J42+J43 -> 0 | K44: =K37+K42+K43 -> 0 | ... O44: =O37+O42+O43 -> 0 | P44: =SUM(D44:O44) -> 200773
A45: 합 계(a+b) | D45: =SUM(D19,D44) -> 97214 | E45: =SUM(E19,E44) -> 85825 | F45: =SUM(F19,F44) -> 106739 | G45: =SUM(G19,G44) -> 112500 | H45: =SUM(H19,H44) -> 111292 | I45: =SUM(I19,I44) -> 117932 | J45: =SUM(J19,J44) -> 0 | K45: =SUM(K19,K44) -> 0 | ... O45: =SUM(O19,O44) -> 0 | P45: =SUM(D45:O45) -> 631502
A46: T/S(c) | D46: =16507+22103 -> 38610 | E46: =9112+16480 -> 25592 | F46: =30565+11264 -> 41829 | G46: =18676+5823 -> 24499 | H46: =24371+7035 -> 31406 | I46: =24342+11091 -> 35433 | P46: =SUM(D46:O46) -> 197369
A47: 기타 | D47: =575+918 -> 1493 | E47: =23+846 -> 869 | F47: =1034+118 -> 1152 | G47: =1597+451 -> 2048 | H47: =1625+418 -> 2043 | I47: =495+920 -> 1415 | P47: =SUM(D47:O47) -> 9020
A48: 총 계(a+b+c) | D48: =D45+D46+D47 -> 137317 | E48: =E45+E46+E47 -> 112286 | F48: =F45+F46+F47 -> 149720 | G48: =G45+G46+G47 -> 139047 | H48: =H45+H46+H47 -> 144741 | I48: =I45+I46+I47 -> 154780 | J48: =J45+J46+J47 -> 0 | K48: =K45+K46+K47 -> 0 | ... O48: =O45+O46+O47 -> 0 | P48: =SUM(D48:O48) -> 837891
E50: =34075+34772 -> 68847 | F50: =66747+47582+35391 -> 149720 | G50: =38355+35980+64712 -> 139047 | H50: =40189+46049+58503 -> 144741 | I50: =51224+68404+35152 -> 154780

Sheet Sheet2
